PDS_VERSION_ID = PDS3
/* FILE DATA ELEMENTS */
RECORD_TYPE = UNDEFINED
/* POINTERS TO DATA OBJECTS */
^IMAGE = ("H5620_0000_BL4.TIF")
/* IDENTIFICATION DATA ELEMENTS */
DATA_SET_ID = "MEX-M-HRSC-4-REFDR-MAPPROJECT-EXT2-V4.0"
DATA_SET_NAME = "MARS EXPRESS HRSC MAP PROJECTED REFDR EXTENSION2 V4.0"
DETECTOR_ID = MEX_HRSC_BLUE
EVENT_TYPE = "MARS-REGIONAL-MAPPING-Pf-Eo-Ts"
INSTRUMENT_HOST_ID = MEX
INSTRUMENT_HOST_NAME = "MARS EXPRESS"
INSTRUMENT_ID = HRSC
INSTRUMENT_NAME = "HIGH RESOLUTION STEREO CAMERA"
MISSION_NAME = "MARS EXPRESS"
MISSION_PHASE_NAME = ME_Phase_12
PROCESSING_LEVEL_ID = 4
PRODUCT_CREATION_TIME = 2023-02-03T16:04:45.000Z
PRODUCT_ID = "H5620_0000_BL4.TIF"
RELEASE_ID = 0003
REVISION_ID = 0000
/* QUALITY DATA ELEMENTS */
DATA_QUALITY_ID = 1
DATA_QUALITY_DESC = "Data calculated based on original SPICE kernels"
/* TIME DATA ELEMENTS */
SPACECRAFT_CLOCK_START_COUNT = "1/0159173491.08372"
SPACECRAFT_CLOCK_STOP_COUNT = "1/0159173715.23837"
START_TIME = 2008-05-18T06:52:03.241Z
STOP_TIME = 2008-05-18T06:54:26.101Z
/* ORBITAL DATA ELEMENTS */
ASCENDING_NODE_LONGITUDE = 111.48
MAXIMUM_RESOLUTION = 0.0615
FOOTPRINT_POINT_LATITUDE = (79.0377,79.1133,79.2186,79.3371, 79.3873,79.39,79.3749,79.1104,78.9339, 78.7574,78.5807,78.4041,78.2273,78.0505 ,77.8736,77.6967,77.5198,77.3428, 77.1658,76.9887,76.8117,76.6346,76.4575 ,76.2804,76.1033,75.9262,75.7492, 75.3951,75.041,74.6871,74.3333,73.9797, 73.7146,73.4431,73.2617,73.0804,72.8992 ,72.718,72.5369,72.2654,72.0803,71.8947 ,71.7092,71.5237,71.3384,71.1531,70.968 ,70.6852,70.4955,70.4007,70.3986, 70.3721,70.3391,70.2962,70.2687,70.2278 ,70.1864,70.1838,70.1841,70.3718, 70.5596,70.7456,70.9288,71.112,71.2954, 71.4788,71.6622,71.8457,72.0286,72.2074 ,72.3863,72.5651,72.744,72.923,73.1019, 73.2808,73.4591,73.8075,74.1558,74.5041 ,74.8522,75.2002,75.5479,75.8954, 76.2425,76.5892,76.9354,77.1084,77.2812 ,77.4538,77.6263,77.7985,77.9706, 78.1425,78.3142,78.4856,78.6568,78.913, 78.9983,79.0377)
FOOTPRINT_POINT_LONGITUDE = (320.241,321.406,323.187,325.495, 326.609,326.671,326.983,327.314,327.525 ,327.729,327.927,328.118,328.303, 328.483,328.657,328.827,328.99,329.15, 329.304,329.455,329.601,329.743,329.881 ,330.016,330.147,330.275,330.399, 330.637,330.865,331.081,331.286,331.482 ,331.623,331.762,331.853,331.941, 332.027,332.112,332.194,332.315,332.394 ,332.473,332.549,332.624,332.697, 332.769,332.839,332.944,333.012,333.045 ,333.046,332.327,331.523,330.598, 330.053,329.302,328.597,328.555,328.541 ,328.448,328.354,328.258,328.161, 328.062,327.961,327.857,327.751,327.643 ,327.532,327.421,327.308,327.192, 327.074,326.952,326.828,326.7,326.57, 326.306,326.029,325.739,325.434,325.112 ,324.774,324.418,324.042,323.645, 323.225,323.006,322.781,322.548,322.31, 322.063,321.81,321.548,321.279,321.0, 320.713,320.265,320.111,320.241)
ORBIT_NUMBER = 5620
ORBITAL_ECCENTRICITY = 0.567
ORBITAL_INCLINATION = 86.76
ORBITAL_SEMIMAJOR_AXIS = 8632.54
PERIAPSIS_ALTITUDE = 359.69
PERIAPSIS_ARGUMENT_ANGLE = 89.74
PERIAPSIS_TIME = 2008-05-18T06:49:26.000Z
SPACECRAFT_ORIENTATION = (0.0,1.0,0.0)
^MEX_ORIENTATION_DESC = "MEX_ORIENTATION_DESC.TXT"
SPACECRAFT_POINTING_MODE = ACROSSTRACK
^MEX_POINTING_DESC = "MEX_POINTING_DESC.TXT"
RIGHT_ASCENSION = -1e+32
DECLINATION = -1e+32
OFFSET_ANGLE = 0.1
SPACECRAFT_SOLAR_DISTANCE = 2.49202e+08
TARGET_NAME = MARS
/* CAMERA DATA ELEMENTS */
DETECTOR_TEMPERATURE = 17.5549
FOCAL_PLANE_TEMPERATURE = 6.9521
INST_CMPRS_NAME = "DISCRETE COSINE TRANSFORMATION (DCT)"
INST_CMPRS_RATIO = 22.2479
INST_CMPRS_QUALITY = 0
INST_CMPRS_QUANTZ_TBL_ID = 0
INSTRUMENT_TEMPERATURE = 10.8262
LENS_TEMPERATURE = 7.5638
MACROPIXEL_SIZE = 4
MISSING_FRAMES = 0
PIXEL_SUBSAMPLING_FLAG = N
SIGNAL_CHAIN_ID = 2
/* RADIOMETRIC DATA ELEMENTS */
BANDWIDTH = 76.0
CENTER_FILTER_WAVELENGTH = 444.0
RADIANCE_OFFSET = 0.479989
RADIANCE_SCALING_FACTOR = 0.00694101
REFLECTANCE_SCALING_FACTOR = 0.000442875
MEX:REFLECTANCE_OFFSET = 0.0306259
/* IMAGE OBJECT DEFINITIONS */
OBJECT = IMAGE
  INTERCHANGE_FORMAT = BINARY
  LINES = 10911
  LINE_SAMPLES = 3816
  SAMPLE_TYPE = UNSIGNED_INTEGER
  SAMPLE_BITS = 8
  BANDS = 1
  BAND_STORAGE_TYPE = BAND_SEQUENTIAL
  MAXIMUM = 255
  MEAN = 57.8819
  MINIMUM = 3
  STANDARD_DEVIATION = 46.956
END_OBJECT = IMAGE
/* MAP OBJECT DEFINITIONS */
OBJECT = IMAGE_MAP_PROJECTION
  ^DATA_SET_MAP_PROJECTION_CATALOG= "DSMAP.CAT"
  A_AXIS_RADIUS = 3396.0
  B_AXIS_RADIUS = 3396.0
  C_AXIS_RADIUS = 3396.0
  CENTER_LATITUDE = 0.0
  CENTER_LONGITUDE = 328.0
  COORDINATE_SYSTEM_NAME = PLANETOGRAPHIC
  COORDINATE_SYSTEM_TYPE = "BODY-FIXED ROTATING"
  EASTERNMOST_LONGITUDE = 333.046
  FIRST_STANDARD_PARALLEL = "N/A"
  LINE_FIRST_PIXEL = 1
  LINE_LAST_PIXEL = 10911
  LINE_PROJECTION_OFFSET = 94111.375
  MAP_PROJECTION_ROTATION = 0.0
  MAP_PROJECTION_TYPE = SINUSOIDAL
  MAP_RESOLUTION = 1185.42760773333
  MAP_SCALE = 0.05
  MAXIMUM_LATITUDE = 79.39
  MINIMUM_LATITUDE = 70.18380000000001
  POSITIVE_LONGITUDE_DIRECTION = EAST
  REFERENCE_LATITUDE = "N/A"
  REFERENCE_LONGITUDE = "N/A"
  SAMPLE_FIRST_PIXEL = 1
  SAMPLE_LAST_PIXEL = 3816
  SAMPLE_PROJECTION_OFFSET = 1790.875
  SECOND_STANDARD_PARALLEL = "N/A"
  WESTERNMOST_LONGITUDE = 320.111
END_OBJECT = IMAGE_MAP_PROJECTION
END
