PDS_VERSION_ID = PDS3
/* FILE DATA ELEMENTS */
RECORD_TYPE = UNDEFINED
/* POINTERS TO DATA OBJECTS */
^IMAGE = ("H5619_0000_P14.TIF")
/* IDENTIFICATION DATA ELEMENTS */
DATA_SET_ID = "MEX-M-HRSC-4-REFDR-MAPPROJECT-EXT2-V4.0"
DATA_SET_NAME = "MARS EXPRESS HRSC MAP PROJECTED REFDR EXTENSION2 V4.0"
DETECTOR_ID = MEX_HRSC_P1
EVENT_TYPE = "MARS-REGIONAL-STEREO-Gl-Pf-La"
INSTRUMENT_HOST_ID = MEX
INSTRUMENT_HOST_NAME = "MARS EXPRESS"
INSTRUMENT_ID = HRSC
INSTRUMENT_NAME = "HIGH RESOLUTION STEREO CAMERA"
MISSION_NAME = "MARS EXPRESS"
MISSION_PHASE_NAME = ME_Phase_12
PROCESSING_LEVEL_ID = 4
PRODUCT_CREATION_TIME = 2023-02-03T16:04:45.000Z
PRODUCT_ID = "H5619_0000_P14.TIF"
RELEASE_ID = 0003
REVISION_ID = 0000
/* QUALITY DATA ELEMENTS */
DATA_QUALITY_ID = 1
DATA_QUALITY_DESC = "Data calculated based on original SPICE kernels"
/* TIME DATA ELEMENTS */
SPACECRAFT_CLOCK_START_COUNT = "1/0159148729.07310"
SPACECRAFT_CLOCK_STOP_COUNT = "1/0159148954.33500"
START_TIME = 2008-05-17T23:59:59.879Z
STOP_TIME = 2008-05-18T00:02:23.127Z
/* ORBITAL DATA ELEMENTS */
ASCENDING_NODE_LONGITUDE = 111.49
MAXIMUM_RESOLUTION = 0.0299
FOOTPRINT_POINT_LATITUDE = (85.1127,85.2739,85.4225,85.5948, 85.7273,85.8821,86.0236,86.0318,86.1118 ,85.9371,85.8166,85.6933,85.5034, 85.3739,85.2421,85.1084,84.973,84.836, 84.5576,84.274,83.9862,83.6214,83.3268, 83.0644,82.8857,82.7067,82.5265,82.3477 ,82.1661,81.8925,81.7108,81.528,81.2544 ,81.0702,80.7947,80.6102,80.4258,80.149 ,79.964,79.7789,79.5937,79.4085,79.2233 ,79.0377,78.7591,78.5734,78.3875, 78.2015,78.0156,77.9227,77.9007,77.8358 ,77.7873,77.7148,77.6667,77.6005, 77.5428,77.5386,77.5376,77.8086,78.079, 78.259,78.4388,78.6182,78.7973,78.9762, 79.1552,79.3335,79.5114,79.6889,79.8661 ,80.0426,80.2186,80.394,80.569,80.7438, 80.9159,81.0893,81.262,81.4344,81.6028, 81.7723,81.9411,82.1084,82.275,82.5219, 82.819,83.1515,83.3474,83.6036,83.8531, 84.0951,84.3285,84.5522,84.6599,84.8159 ,84.916,85.0595,85.1054,85.1127)
FOOTPRINT_POINT_LONGITUDE = (24.9764,26.3676,27.7596,29.5269,31.015 ,32.9188,34.8457,34.9631,34.3886, 36.9178,38.4835,39.9591,42.0173,43.2938 ,44.4996,45.6392,46.717,47.7371,49.6202 ,51.3162,52.8489,54.5658,55.8006, 56.7995,57.4339,58.0363,58.6096,59.1543 ,59.6745,60.41,60.8725,61.3147,61.9424, 62.3389,62.9031,63.2603,63.6033,64.0931 ,64.404,64.7033,64.9916,65.2695,65.5375 ,65.796,66.167,66.404,66.633,66.8544, 67.0687,67.1733,67.1979,65.8216,64.8893 ,63.592,62.7939,61.758,60.9109,60.8505, 60.8279,60.4033,59.9595,59.6512,59.3322 ,59.0041,58.6642,58.3122,57.9453, 57.5677,57.1769,56.7714,56.35,55.9152, 55.4638,54.9947,54.5067,53.9948,53.4833 ,52.9305,52.3541,51.7464,51.1511, 50.5049,49.8267,49.1237,48.3826,47.2145 ,45.6791,43.7672,42.5208,40.7339, 38.7951,36.6903,34.4046,31.9224,30.603, 28.5198,27.06,24.7563,23.9633,24.9764)
ORBIT_NUMBER = 5619
ORBITAL_ECCENTRICITY = 0.567
ORBITAL_INCLINATION = 86.76
ORBITAL_SEMIMAJOR_AXIS = 8633.08
PERIAPSIS_ALTITUDE = 358.76
PERIAPSIS_ARGUMENT_ANGLE = 89.92
PERIAPSIS_TIME = 2008-05-17T23:58:56.000Z
SPACECRAFT_ORIENTATION = (0.0,1.0,0.0)
^MEX_ORIENTATION_DESC = "MEX_ORIENTATION_DESC.TXT"
SPACECRAFT_POINTING_MODE = ACROSSTRACK
^MEX_POINTING_DESC = "MEX_POINTING_DESC.TXT"
RIGHT_ASCENSION = -1e+32
DECLINATION = -1e+32
OFFSET_ANGLE = -0.2
SPACECRAFT_SOLAR_DISTANCE = 2.49204e+08
TARGET_NAME = MARS
/* CAMERA DATA ELEMENTS */
DETECTOR_TEMPERATURE = 16.7393
FOCAL_PLANE_TEMPERATURE = 7.5638
INST_CMPRS_NAME = "DISCRETE COSINE TRANSFORMATION (DCT)"
INST_CMPRS_RATIO = 14.7809
INST_CMPRS_QUALITY = 0
INST_CMPRS_QUANTZ_TBL_ID = 0
INSTRUMENT_TEMPERATURE = 11.0301
LENS_TEMPERATURE = 7.5638
MACROPIXEL_SIZE = 2
MISSING_FRAMES = 0
PIXEL_SUBSAMPLING_FLAG = N
SIGNAL_CHAIN_ID = 3
/* RADIOMETRIC DATA ELEMENTS */
BANDWIDTH = 174.0
CENTER_FILTER_WAVELENGTH = 675.0
RADIANCE_OFFSET = 4.03466
RADIANCE_SCALING_FACTOR = 0.0238674
REFLECTANCE_SCALING_FACTOR = 0.000797259
MEX:REFLECTANCE_OFFSET = 0.134773
/* IMAGE OBJECT DEFINITIONS */
OBJECT = IMAGE
  INTERCHANGE_FORMAT = BINARY
  LINES = 17847
  LINE_SAMPLES = 10423
  SAMPLE_TYPE = UNSIGNED_INTEGER
  SAMPLE_BITS = 8
  BANDS = 1
  BAND_STORAGE_TYPE = BAND_SEQUENTIAL
  MAXIMUM = 255
  MEAN = 182.185
  MINIMUM = 1
  STANDARD_DEVIATION = 55.5396
END_OBJECT = IMAGE
/* MAP OBJECT DEFINITIONS */
OBJECT = IMAGE_MAP_PROJECTION
  ^DATA_SET_MAP_PROJECTION_CATALOG= "DSMAP.CAT"
  A_AXIS_RADIUS = 3396.0
  B_AXIS_RADIUS = 3396.0
  C_AXIS_RADIUS = 3396.0
  CENTER_LATITUDE = 0.0
  CENTER_LONGITUDE = 56.0
  COORDINATE_SYSTEM_NAME = PLANETOGRAPHIC
  COORDINATE_SYSTEM_TYPE = "BODY-FIXED ROTATING"
  EASTERNMOST_LONGITUDE = 67.1979
  FIRST_STANDARD_PARALLEL = "N/A"
  LINE_FIRST_PIXEL = 1
  LINE_LAST_PIXEL = 17847
  LINE_PROJECTION_OFFSET = 201625.25
  MAP_PROJECTION_ROTATION = 0.0
  MAP_PROJECTION_TYPE = SINUSOIDAL
  MAP_RESOLUTION = 2370.85521546667
  MAP_SCALE = 0.025
  MAXIMUM_LATITUDE = 86.1118
  MINIMUM_LATITUDE = 77.5376
  POSITIVE_LONGITUDE_DIRECTION = EAST
  REFERENCE_LATITUDE = "N/A"
  REFERENCE_LONGITUDE = "N/A"
  SAMPLE_FIRST_PIXEL = 1
  SAMPLE_LAST_PIXEL = 10423
  SAMPLE_PROJECTION_OFFSET = 4882.25
  SECOND_STANDARD_PARALLEL = "N/A"
  WESTERNMOST_LONGITUDE = 23.9633
END_OBJECT = IMAGE_MAP_PROJECTION
END
