PDS_VERSION_ID = PDS3
/* FILE DATA ELEMENTS */
RECORD_TYPE = UNDEFINED
/* POINTERS TO DATA OBJECTS */
^IMAGE = ("H5603_0000_S14.TIF")
/* IDENTIFICATION DATA ELEMENTS */
DATA_SET_ID = "MEX-M-HRSC-4-REFDR-MAPPROJECT-EXT2-V4.0"
DATA_SET_NAME = "MARS EXPRESS HRSC MAP PROJECTED REFDR EXTENSION2 V4.0"
DETECTOR_ID = MEX_HRSC_S1
EVENT_TYPE = "MARS-LOCAL-STEREO-Pf-Ot"
INSTRUMENT_HOST_ID = MEX
INSTRUMENT_HOST_NAME = "MARS EXPRESS"
INSTRUMENT_ID = HRSC
INSTRUMENT_NAME = "HIGH RESOLUTION STEREO CAMERA"
MISSION_NAME = "MARS EXPRESS"
MISSION_PHASE_NAME = ME_Phase_12
PROCESSING_LEVEL_ID = 4
PRODUCT_CREATION_TIME = 2023-02-03T16:04:45.000Z
PRODUCT_ID = "H5603_0000_S14.TIF"
RELEASE_ID = 0003
REVISION_ID = 0000
/* QUALITY DATA ELEMENTS */
DATA_QUALITY_ID = 1
DATA_QUALITY_DESC = "Data calculated based on original SPICE kernels"
/* TIME DATA ELEMENTS */
SPACECRAFT_CLOCK_START_COUNT = "1/0158754853.07295"
SPACECRAFT_CLOCK_STOP_COUNT = "1/0158754999.06175"
START_TIME = 2008-05-13T10:35:34.503Z
STOP_TIME = 2008-05-13T10:36:40.754Z
/* ORBITAL DATA ELEMENTS */
ASCENDING_NODE_LONGITUDE = 111.82
MAXIMUM_RESOLUTION = 0.0186
FOOTPRINT_POINT_LATITUDE = (70.0949,70.1214,70.1445,70.1601, 70.1775,70.1943,70.2166,70.232,70.247, 70.2667,70.2803,70.2966,70.2981,70.4347 ,70.3222,70.135,69.9855,69.8356,69.6859 ,69.498,69.3823,69.3054,69.1527,69.0016 ,68.8118,68.6597,68.5456,68.3918, 68.2752,68.159,68.0812,67.9644,67.8869, 67.8097,67.7323,67.655,67.5778,67.462, 67.383,67.2643,67.185,67.1061,67.0274, 66.9488,66.8702,66.7918,66.7133,66.6348 ,66.5954,66.5759,66.562,66.5532,66.5364 ,66.52,66.508,66.4921,66.4827,66.4714, 66.4542,66.4355,66.4233,66.4101,66.3966 ,66.3945,66.3936,66.5108,66.5888, 66.6668,66.7447,66.8226,66.9008,66.979, 67.0963,67.1746,67.292,67.3685,67.445, 67.5221,67.6377,67.7144,67.8676,67.9447 ,68.0216,68.0986,68.214,68.291,68.4038, 68.5922,68.7424,68.8933,69.0827,69.2722 ,69.4221,69.5333,69.7182,69.8661, 70.0144,70.1628,70.2,70.0949)
FOOTPRINT_POINT_LONGITUDE = (229.505,229.965,230.384,230.678, 231.014,231.351,231.815,232.153,232.491 ,232.957,233.297,233.723,233.765, 233.865,233.906,233.975,234.029,234.081 ,234.133,234.197,234.235,234.26,234.31, 234.36,234.421,234.469,234.504,234.551, 234.586,234.62,234.643,234.677,234.699, 234.721,234.743,234.765,234.787,234.819 ,234.841,234.873,234.894,234.915, 234.936,234.957,234.978,234.998,235.019 ,235.039,235.049,235.054,234.641, 234.393,233.939,233.527,233.24,232.87, 232.665,232.418,232.049,231.681,231.435 ,231.19,230.946,230.905,230.884,230.845 ,230.819,230.793,230.767,230.74,230.713 ,230.686,230.644,230.617,230.574, 230.546,230.518,230.489,230.446,230.417 ,230.358,230.328,230.298,230.268, 230.222,230.191,230.145,230.067,230.004 ,229.939,229.856,229.771,229.702,229.65 ,229.563,229.493,229.42,229.346,229.328 ,229.505)
ORBIT_NUMBER = 5603
ORBITAL_ECCENTRICITY = 0.567
ORBITAL_INCLINATION = 86.76
ORBITAL_SEMIMAJOR_AXIS = 8632.83
PERIAPSIS_ALTITUDE = 358.48
PERIAPSIS_ARGUMENT_ANGLE = 92.71
PERIAPSIS_TIME = 2008-05-13T10:30:35.000Z
SPACECRAFT_ORIENTATION = (0.0,1.0,0.0)
^MEX_ORIENTATION_DESC = "MEX_ORIENTATION_DESC.TXT"
SPACECRAFT_POINTING_MODE = NADIR
^MEX_POINTING_DESC = "MEX_POINTING_DESC.TXT"
RIGHT_ASCENSION = -1e+32
DECLINATION = -1e+32
OFFSET_ANGLE = -1e+32
SPACECRAFT_SOLAR_DISTANCE = 2.49222e+08
TARGET_NAME = MARS
/* CAMERA DATA ELEMENTS */
DETECTOR_TEMPERATURE = 16.5354
FOCAL_PLANE_TEMPERATURE = 6.9521
INST_CMPRS_NAME = "DISCRETE COSINE TRANSFORMATION (DCT)"
INST_CMPRS_RATIO = 8.47596
INST_CMPRS_QUALITY = 0
INST_CMPRS_QUANTZ_TBL_ID = 0
INSTRUMENT_TEMPERATURE = 10.4184
LENS_TEMPERATURE = 7.5638
MACROPIXEL_SIZE = 1
MISSING_FRAMES = 0
PIXEL_SUBSAMPLING_FLAG = N
SIGNAL_CHAIN_ID = 2
/* RADIOMETRIC DATA ELEMENTS */
BANDWIDTH = 180.0
CENTER_FILTER_WAVELENGTH = 677.0
RADIANCE_OFFSET = 5.24498
RADIANCE_SCALING_FACTOR = 0.0091217
REFLECTANCE_SCALING_FACTOR = 0.00029559
MEX:REFLECTANCE_OFFSET = 0.169964
/* IMAGE OBJECT DEFINITIONS */
OBJECT = IMAGE
  INTERCHANGE_FORMAT = BINARY
  LINES = 19126
  LINE_SAMPLES = 9616
  SAMPLE_TYPE = UNSIGNED_INTEGER
  SAMPLE_BITS = 8
  BANDS = 1
  BAND_STORAGE_TYPE = BAND_SEQUENTIAL
  MAXIMUM = 255
  MEAN = 141.279
  MINIMUM = 1
  STANDARD_DEVIATION = 33.4409
END_OBJECT = IMAGE
/* MAP OBJECT DEFINITIONS */
OBJECT = IMAGE_MAP_PROJECTION
  ^DATA_SET_MAP_PROJECTION_CATALOG= "DSMAP.CAT"
  A_AXIS_RADIUS = 3396.0
  B_AXIS_RADIUS = 3396.0
  C_AXIS_RADIUS = 3396.0
  CENTER_LATITUDE = 0.0
  CENTER_LONGITUDE = 232.0
  COORDINATE_SYSTEM_NAME = PLANETOGRAPHIC
  COORDINATE_SYSTEM_TYPE = "BODY-FIXED ROTATING"
  EASTERNMOST_LONGITUDE = 235.054
  FIRST_STANDARD_PARALLEL = "N/A"
  LINE_FIRST_PIXEL = 1
  LINE_LAST_PIXEL = 19126
  LINE_PROJECTION_OFFSET = 333891.0
  MAP_PROJECTION_ROTATION = 0.0
  MAP_PROJECTION_TYPE = SINUSOIDAL
  MAP_RESOLUTION = 4741.71043093333
  MAP_SCALE = 0.0125
  MAXIMUM_LATITUDE = 70.43470000000001
  MINIMUM_LATITUDE = 66.39360000000001
  POSITIVE_LONGITUDE_DIRECTION = EAST
  REFERENCE_LATITUDE = "N/A"
  REFERENCE_LONGITUDE = "N/A"
  SAMPLE_FIRST_PIXEL = 1
  SAMPLE_LAST_PIXEL = 9616
  SAMPLE_PROJECTION_OFFSET = 4138.0
  SECOND_STANDARD_PARALLEL = "N/A"
  WESTERNMOST_LONGITUDE = 229.328
END_OBJECT = IMAGE_MAP_PROJECTION
END
