PDS_VERSION_ID = PDS3
/* FILE DATA ELEMENTS */
RECORD_TYPE = UNDEFINED
/* POINTERS TO DATA OBJECTS */
^IMAGE = ("H5603_0000_P24.TIF")
/* IDENTIFICATION DATA ELEMENTS */
DATA_SET_ID = "MEX-M-HRSC-4-REFDR-MAPPROJECT-EXT2-V4.0"
DATA_SET_NAME = "MARS EXPRESS HRSC MAP PROJECTED REFDR EXTENSION2 V4.0"
DETECTOR_ID = MEX_HRSC_P2
EVENT_TYPE = "MARS-LOCAL-STEREO-Pf-Ot"
INSTRUMENT_HOST_ID = MEX
INSTRUMENT_HOST_NAME = "MARS EXPRESS"
INSTRUMENT_ID = HRSC
INSTRUMENT_NAME = "HIGH RESOLUTION STEREO CAMERA"
MISSION_NAME = "MARS EXPRESS"
MISSION_PHASE_NAME = ME_Phase_12
PROCESSING_LEVEL_ID = 4
PRODUCT_CREATION_TIME = 2023-02-03T16:04:45.000Z
PRODUCT_ID = "H5603_0000_P24.TIF"
RELEASE_ID = 0003
REVISION_ID = 0000
/* QUALITY DATA ELEMENTS */
DATA_QUALITY_ID = 1
DATA_QUALITY_DESC = "Data calculated based on original SPICE kernels"
/* TIME DATA ELEMENTS */
SPACECRAFT_CLOCK_START_COUNT = "1/0158754853.07295"
SPACECRAFT_CLOCK_STOP_COUNT = "1/0158754999.06175"
START_TIME = 2008-05-13T10:34:29.138Z
STOP_TIME = 2008-05-13T10:35:29.149Z
/* ORBITAL DATA ELEMENTS */
ASCENDING_NODE_LONGITUDE = 111.82
MAXIMUM_RESOLUTION = 0.0336
FOOTPRINT_POINT_LATITUDE = (70.2888,70.3152,70.3336,70.3581, 70.3751,70.3876,70.4037,70.4191,70.443, 70.457,70.4769,70.4909,70.4924,70.4078, 70.2965,70.1482,70.0001,69.7779,69.6296 ,69.5184,69.3708,69.2192,69.1432,69.067 ,68.9904,68.8758,68.7998,68.7238, 68.5718,68.4578,68.3818,68.2679,68.116, 68.0399,67.9262,67.8495,67.7328,67.6548 ,67.5379,67.46,67.3822,67.2658,67.1877, 67.1097,67.032,66.9543,66.8766,66.7987, 66.7209,66.6043,66.5655,66.5564,66.5421 ,66.5292,66.5174,66.5064,66.4866, 66.4726,66.4559,66.4425,66.4264,66.4013 ,66.3773,66.375,66.3747,66.4516,66.5287 ,66.6062,66.6833,66.7606,66.8764, 66.9538,67.0309,67.1082,67.1857,67.2627 ,67.3398,67.4173,67.5329,67.61,67.6872, 67.8381,67.951,68.1015,68.2523,68.4031, 68.5539,68.7048,68.818,68.9689,69.119, 69.2301,69.3769,69.4868,69.6706,69.8174 ,69.9642,70.1478,70.1845,70.2888)
FOOTPRINT_POINT_LONGITUDE = (229.553,229.975,230.282,230.705, 231.013,231.244,231.554,231.863,232.367 ,232.678,233.145,233.497,233.536, 233.699,233.74,233.793,233.846,233.922, 233.973,234.01,234.058,234.107,234.132, 234.156,234.181,234.218,234.241,234.265 ,234.311,234.345,234.368,234.402, 234.446,234.468,234.5,234.522,234.554, 234.576,234.608,234.629,234.65,234.681, 234.702,234.722,234.743,234.763,234.782 ,234.802,234.822,234.851,234.861, 234.863,234.457,234.124,233.829,233.571 ,233.129,232.835,232.504,232.248, 231.955,231.516,231.114,231.078,231.064 ,231.038,231.012,230.986,230.96,230.933 ,230.892,230.865,230.837,230.81,230.782 ,230.754,230.725,230.696,230.653, 230.623,230.594,230.536,230.491,230.431 ,230.37,230.308,230.245,230.181,230.133 ,230.067,229.999,229.949,229.881,229.83 ,229.743,229.672,229.6,229.508,229.49, 229.553)
ORBIT_NUMBER = 5603
ORBITAL_ECCENTRICITY = 0.567
ORBITAL_INCLINATION = 86.76
ORBITAL_SEMIMAJOR_AXIS = 8632.83
PERIAPSIS_ALTITUDE = 358.48
PERIAPSIS_ARGUMENT_ANGLE = 92.71
PERIAPSIS_TIME = 2008-05-13T10:30:35.000Z
SPACECRAFT_ORIENTATION = (0.0,1.0,0.0)
^MEX_ORIENTATION_DESC = "MEX_ORIENTATION_DESC.TXT"
SPACECRAFT_POINTING_MODE = NADIR
^MEX_POINTING_DESC = "MEX_POINTING_DESC.TXT"
RIGHT_ASCENSION = -1e+32
DECLINATION = -1e+32
OFFSET_ANGLE = -1e+32
SPACECRAFT_SOLAR_DISTANCE = 2.49222e+08
TARGET_NAME = MARS
/* CAMERA DATA ELEMENTS */
DETECTOR_TEMPERATURE = 17.7588
FOCAL_PLANE_TEMPERATURE = 6.9521
INST_CMPRS_NAME = "DISCRETE COSINE TRANSFORMATION (DCT)"
INST_CMPRS_RATIO = 8.87878
INST_CMPRS_QUALITY = 0
INST_CMPRS_QUANTZ_TBL_ID = 0
INSTRUMENT_TEMPERATURE = 10.4184
LENS_TEMPERATURE = 7.5638
MACROPIXEL_SIZE = 2
MISSING_FRAMES = 0
PIXEL_SUBSAMPLING_FLAG = N
SIGNAL_CHAIN_ID = 3
/* RADIOMETRIC DATA ELEMENTS */
BANDWIDTH = 177.0
CENTER_FILTER_WAVELENGTH = 676.5
RADIANCE_OFFSET = 4.37883
RADIANCE_SCALING_FACTOR = 0.00920555
REFLECTANCE_SCALING_FACTOR = 0.000303164
MEX:REFLECTANCE_OFFSET = 0.144207
/* IMAGE OBJECT DEFINITIONS */
OBJECT = IMAGE
  INTERCHANGE_FORMAT = BINARY
  LINES = 9563
  LINE_SAMPLES = 4808
  SAMPLE_TYPE = UNSIGNED_INTEGER
  SAMPLE_BITS = 8
  BANDS = 1
  BAND_STORAGE_TYPE = BAND_SEQUENTIAL
  MAXIMUM = 255
  MEAN = 121.822
  MINIMUM = 1
  STANDARD_DEVIATION = 31.0398
END_OBJECT = IMAGE
/* MAP OBJECT DEFINITIONS */
OBJECT = IMAGE_MAP_PROJECTION
  ^DATA_SET_MAP_PROJECTION_CATALOG= "DSMAP.CAT"
  A_AXIS_RADIUS = 3396.0
  B_AXIS_RADIUS = 3396.0
  C_AXIS_RADIUS = 3396.0
  CENTER_LATITUDE = 0.0
  CENTER_LONGITUDE = 232.0
  COORDINATE_SYSTEM_NAME = PLANETOGRAPHIC
  COORDINATE_SYSTEM_TYPE = "BODY-FIXED ROTATING"
  EASTERNMOST_LONGITUDE = 234.863
  FIRST_STANDARD_PARALLEL = "N/A"
  LINE_FIRST_PIXEL = 1
  LINE_LAST_PIXEL = 9563
  LINE_PROJECTION_OFFSET = 166945.25
  MAP_PROJECTION_ROTATION = 0.0
  MAP_PROJECTION_TYPE = SINUSOIDAL
  MAP_RESOLUTION = 2370.85521546667
  MAP_SCALE = 0.025
  MAXIMUM_LATITUDE = 70.4924
  MINIMUM_LATITUDE = 66.3747
  POSITIVE_LONGITUDE_DIRECTION = EAST
  REFERENCE_LATITUDE = "N/A"
  REFERENCE_LONGITUDE = "N/A"
  SAMPLE_FIRST_PIXEL = 1
  SAMPLE_LAST_PIXEL = 4808
  SAMPLE_PROJECTION_OFFSET = 2068.75
  SECOND_STANDARD_PARALLEL = "N/A"
  WESTERNMOST_LONGITUDE = 229.49
END_OBJECT = IMAGE_MAP_PROJECTION
END
