PDS_VERSION_ID = PDS3
/* FILE DATA ELEMENTS */
RECORD_TYPE = UNDEFINED
/* POINTERS TO DATA OBJECTS */
^IMAGE = ("H5582_0000_GR4.TIF")
/* IDENTIFICATION DATA ELEMENTS */
DATA_SET_ID = "MEX-M-HRSC-4-REFDR-MAPPROJECT-EXT2-V4.0"
DATA_SET_NAME = "MARS EXPRESS HRSC MAP PROJECTED REFDR EXTENSION2 V4.0"
DETECTOR_ID = MEX_HRSC_GREEN
EVENT_TYPE = "MARS-REGIONAL-MAPPING-Vo-Eo-Ts"
INSTRUMENT_HOST_ID = MEX
INSTRUMENT_HOST_NAME = "MARS EXPRESS"
INSTRUMENT_ID = HRSC
INSTRUMENT_NAME = "HIGH RESOLUTION STEREO CAMERA"
MISSION_NAME = "MARS EXPRESS"
MISSION_PHASE_NAME = ME_Phase_12
PROCESSING_LEVEL_ID = 4
PRODUCT_CREATION_TIME = 2023-02-03T16:04:45.000Z
PRODUCT_ID = "H5582_0000_GR4.TIF"
RELEASE_ID = 0003
REVISION_ID = 0000
/* QUALITY DATA ELEMENTS */
DATA_QUALITY_ID = 1
DATA_QUALITY_DESC = "Data calculated based on original SPICE kernels"
/* TIME DATA ELEMENTS */
SPACECRAFT_CLOCK_START_COUNT = "1/0158237298.09042"
SPACECRAFT_CLOCK_STOP_COUNT = "1/0158237509.00534"
START_TIME = 2008-05-07T10:48:49.429Z
STOP_TIME = 2008-05-07T10:51:11.425Z
/* ORBITAL DATA ELEMENTS */
ASCENDING_NODE_LONGITUDE = 112.23
MAXIMUM_RESOLUTION = 0.0579
FOOTPRINT_POINT_LATITUDE = (86.082,85.8104,85.4277,85.2093,85.2004 ,85.1522,84.9246,84.6812,84.5536,84.357 ,84.2215,83.9454,83.6593,83.3651, 83.2153,82.9875,82.8337,82.6785,82.522, 82.3643,82.2054,82.0453,81.8843,81.7222 ,81.5593,81.3132,81.0654,80.8992, 80.7324,80.565,80.3126,80.1436,79.8893, 79.7191,79.4631,79.2918,79.1201,78.948, 78.7756,78.6028,78.343,78.1695,77.9956, 77.8214,77.6471,77.385,77.2975,77.2697, 77.3896,77.4794,77.5313,77.5841,77.5865 ,77.5881,77.8574,78.1264,78.3057, 78.4848,78.6638,78.8426,79.1106,79.2891 ,79.5565,79.7345,80.0012,80.1787, 80.4445,80.6214,80.798,80.9744,81.2383, 81.4138,81.589,81.7637,81.9381,82.112, 82.2854,82.4584,82.6307,82.8882,83.0591 ,83.2292,83.3987,83.5673,83.735,83.9018 ,84.0676,84.2323,84.3957,84.5579, 84.7186,84.8777,85.1131,85.2676,85.4952 ,85.6438,85.8615,86.0024,86.0717, 86.082)
FOOTPRINT_POINT_LONGITUDE = (140.559,136.624,132.193,130.086, 130.006,129.905,133.209,136.218,137.618 ,139.599,140.84,143.162,145.275,147.201 ,148.101,149.376,150.181,150.951, 151.689,152.396,153.073,153.723,154.347 ,154.946,155.521,156.343,157.118, 157.611,158.086,158.543,159.198,159.616 ,160.215,160.598,161.149,161.501, 161.841,162.17,162.489,162.798,163.243, 163.529,163.805,164.074,164.334,164.711 ,164.833,164.871,166.758,168.358, 169.384,170.527,170.581,170.599,170.334 ,170.056,169.863,169.664,169.459, 169.246,168.915,168.685,168.324,168.073 ,167.679,167.404,166.972,166.671, 166.358,166.032,165.519,165.159,164.784 ,164.393,163.985,163.559,163.114, 162.648,162.16,161.384,160.835,160.258, 159.651,159.011,158.338,157.629,156.879 ,156.085,155.242,154.352,153.413,152.4, 150.754,149.575,147.658,146.267,144.01, 142.349,141.483,140.559)
ORBIT_NUMBER = 5582
ORBITAL_ECCENTRICITY = 0.567
ORBITAL_INCLINATION = 86.75
ORBITAL_SEMIMAJOR_AXIS = 8634.83
PERIAPSIS_ALTITUDE = 359.17
PERIAPSIS_ARGUMENT_ANGLE = 96.4
PERIAPSIS_TIME = 2008-05-07T10:49:48.000Z
SPACECRAFT_ORIENTATION = (0.0,-1.0,0.0)
^MEX_ORIENTATION_DESC = "MEX_ORIENTATION_DESC.TXT"
SPACECRAFT_POINTING_MODE = NADIR
^MEX_POINTING_DESC = "MEX_POINTING_DESC.TXT"
RIGHT_ASCENSION = -1e+32
DECLINATION = -1e+32
OFFSET_ANGLE = -1e+32
SPACECRAFT_SOLAR_DISTANCE = 2.49198e+08
TARGET_NAME = MARS
/* CAMERA DATA ELEMENTS */
DETECTOR_TEMPERATURE = 17.7588
FOCAL_PLANE_TEMPERATURE = 6.9521
INST_CMPRS_NAME = "DISCRETE COSINE TRANSFORMATION (DCT)"
INST_CMPRS_RATIO = 4.73167
INST_CMPRS_QUALITY = 0
INST_CMPRS_QUANTZ_TBL_ID = 0
INSTRUMENT_TEMPERATURE = 10.8262
LENS_TEMPERATURE = 7.5638
MACROPIXEL_SIZE = 4
MISSING_FRAMES = 0
PIXEL_SUBSAMPLING_FLAG = N
SIGNAL_CHAIN_ID = 2
/* RADIOMETRIC DATA ELEMENTS */
BANDWIDTH = 88.0
CENTER_FILTER_WAVELENGTH = 538.0
RADIANCE_OFFSET = 1.6275
RADIANCE_SCALING_FACTOR = 0.0143893
REFLECTANCE_SCALING_FACTOR = 0.000769344
MEX:REFLECTANCE_OFFSET = 0.0870166
/* IMAGE OBJECT DEFINITIONS */
OBJECT = IMAGE
  INTERCHANGE_FORMAT = BINARY
  LINES = 10456
  LINE_SAMPLES = 5879
  SAMPLE_TYPE = UNSIGNED_INTEGER
  SAMPLE_BITS = 8
  BANDS = 1
  BAND_STORAGE_TYPE = BAND_SEQUENTIAL
  MAXIMUM = 255
  MEAN = 154.939
  MINIMUM = 1
  STANDARD_DEVIATION = 34.9702
END_OBJECT = IMAGE
/* MAP OBJECT DEFINITIONS */
OBJECT = IMAGE_MAP_PROJECTION
  ^DATA_SET_MAP_PROJECTION_CATALOG= "DSMAP.CAT"
  A_AXIS_RADIUS = 3396.0
  B_AXIS_RADIUS = 3396.0
  C_AXIS_RADIUS = 3396.0
  CENTER_LATITUDE = 0.0
  CENTER_LONGITUDE = 159.0
  COORDINATE_SYSTEM_NAME = PLANETOGRAPHIC
  COORDINATE_SYSTEM_TYPE = "BODY-FIXED ROTATING"
  EASTERNMOST_LONGITUDE = 170.599
  FIRST_STANDARD_PARALLEL = "N/A"
  LINE_FIRST_PIXEL = 1
  LINE_LAST_PIXEL = 10456
  LINE_PROJECTION_OFFSET = 102061.625
  MAP_PROJECTION_ROTATION = 0.0
  MAP_PROJECTION_TYPE = SINUSOIDAL
  MAP_RESOLUTION = 1185.42760773333
  MAP_SCALE = 0.05
  MAXIMUM_LATITUDE = 86.08199999999999
  MINIMUM_LATITUDE = 77.2697
  POSITIVE_LONGITUDE_DIRECTION = EAST
  REFERENCE_LATITUDE = "N/A"
  REFERENCE_LONGITUDE = "N/A"
  SAMPLE_FIRST_PIXEL = 1
  SAMPLE_LAST_PIXEL = 5879
  SAMPLE_PROJECTION_OFFSET = 2925.375
  SECOND_STANDARD_PARALLEL = "N/A"
  WESTERNMOST_LONGITUDE = 129.905
END_OBJECT = IMAGE_MAP_PROJECTION
END
