PDS_VERSION_ID = PDS3
/* FILE DATA ELEMENTS */
RECORD_TYPE = UNDEFINED
/* POINTERS TO DATA OBJECTS */
^IMAGE = ("H5570_0000_S24.TIF")
/* IDENTIFICATION DATA ELEMENTS */
DATA_SET_ID = "MEX-M-HRSC-4-REFDR-MAPPROJECT-EXT2-V4.0"
DATA_SET_NAME = "MARS EXPRESS HRSC MAP PROJECTED REFDR EXTENSION2 V4.0"
DETECTOR_ID = MEX_HRSC_S2
EVENT_TYPE = "MARS-REGIONAL-MAPPING-Fl-Gl-La"
INSTRUMENT_HOST_ID = MEX
INSTRUMENT_HOST_NAME = "MARS EXPRESS"
INSTRUMENT_ID = HRSC
INSTRUMENT_NAME = "HIGH RESOLUTION STEREO CAMERA"
MISSION_NAME = "MARS EXPRESS"
MISSION_PHASE_NAME = ME_Phase_12
PROCESSING_LEVEL_ID = 4
PRODUCT_CREATION_TIME = 2023-02-03T16:04:45.000Z
PRODUCT_ID = "H5570_0000_S24.TIF"
RELEASE_ID = 0003
REVISION_ID = 0000
/* QUALITY DATA ELEMENTS */
DATA_QUALITY_ID = 1
DATA_QUALITY_DESC = "Data calculated based on original SPICE kernels"
/* TIME DATA ELEMENTS */
SPACECRAFT_CLOCK_START_COUNT = "1/0157941753.07304"
SPACECRAFT_CLOCK_STOP_COUNT = "1/0157942029.31557"
START_TIME = 2008-05-04T00:43:42.283Z
STOP_TIME = 2008-05-04T00:47:11.174Z
/* ORBITAL DATA ELEMENTS */
ASCENDING_NODE_LONGITUDE = 112.48
MAXIMUM_RESOLUTION = 0.0308
FOOTPRINT_POINT_LATITUDE = (82.6598,82.5146,82.3543,82.1449, 82.1391,82.2269,82.014,81.691,81.3669, 81.1466,80.9236,80.7006,80.4765,80.2514 ,80.0249,79.7975,79.5692,79.3401, 79.1102,78.7642,78.4169,78.1847,77.9521 ,77.7192,77.4858,77.252,77.0181,76.4317 ,75.8444,75.2563,74.8486,74.5674, 74.2863,74.0053,73.7242,73.4429,73.1618 ,72.8809,72.5998,72.3191,72.0385, 71.7581,71.478,71.1981,70.7784,70.4992, 70.2201,69.9412,69.802,69.7593,69.7986, 69.8607,69.8934,69.9494,69.9509,69.9519 ,70.2336,70.5156,70.7979,71.0807, 71.3637,71.6472,72.0731,72.3573,72.6418 ,72.9266,73.2119,73.4972,73.7831, 74.2122,74.4986,74.7852,75.0717,75.4949 ,75.9759,76.2166,76.4571,76.816,77.0587 ,77.4197,77.7807,78.1415,78.5022, 78.7424,78.9824,79.2222,79.5818,79.9398 ,80.178,80.4156,80.6534,80.8914,81.1263 ,81.3626,81.599,81.9538,82.19,82.6487, 82.7631,82.6598)
FOOTPRINT_POINT_LONGITUDE = (280.219,277.601,275.067,272.168, 272.094,271.133,272.087,273.424,274.632 ,275.405,276.148,276.845,277.506, 278.136,278.738,279.312,279.86,280.384, 280.884,281.595,282.26,282.681,283.084, 283.471,283.842,284.2,284.543,285.346, 286.076,286.743,287.172,287.454,287.724 ,287.982,288.232,288.472,288.703, 288.925,289.14,289.346,289.546,289.737, 289.923,290.101,290.358,290.522,290.681 ,290.834,290.908,290.931,291.643, 292.867,293.578,294.959,294.998,295.012 ,294.899,294.782,294.662,294.537, 294.408,294.275,294.067,293.923,293.773 ,293.617,293.456,293.289,293.116, 292.844,292.653,292.455,292.248,291.928 ,291.539,291.334,291.122,290.788, 290.553,290.185,289.794,289.378,288.935 ,288.624,288.298,287.958,287.416, 286.835,286.424,285.992,285.536,285.056 ,284.552,284.018,283.452,282.537,281.88 ,280.455,280.07,280.219)
ORBIT_NUMBER = 5570
ORBITAL_ECCENTRICITY = 0.567
ORBITAL_INCLINATION = 86.75
ORBITAL_SEMIMAJOR_AXIS = 8635.08
PERIAPSIS_ALTITUDE = 358.43
PERIAPSIS_ARGUMENT_ANGLE = 98.52
PERIAPSIS_TIME = 2008-05-04T00:43:39.000Z
SPACECRAFT_ORIENTATION = (0.0,-1.0,0.0)
^MEX_ORIENTATION_DESC = "MEX_ORIENTATION_DESC.TXT"
SPACECRAFT_POINTING_MODE = ACROSSTRACK
^MEX_POINTING_DESC = "MEX_POINTING_DESC.TXT"
RIGHT_ASCENSION = -1e+32
DECLINATION = -1e+32
OFFSET_ANGLE = -0.269
SPACECRAFT_SOLAR_DISTANCE = 2.49161e+08
TARGET_NAME = MARS
/* CAMERA DATA ELEMENTS */
DETECTOR_TEMPERATURE = 17.9627
FOCAL_PLANE_TEMPERATURE = 7.156
INST_CMPRS_NAME = "DISCRETE COSINE TRANSFORMATION (DCT)"
INST_CMPRS_RATIO = 11.937
INST_CMPRS_QUALITY = 0
INST_CMPRS_QUANTZ_TBL_ID = 0
INSTRUMENT_TEMPERATURE = 10.8262
LENS_TEMPERATURE = 7.7677
MACROPIXEL_SIZE = 2
MISSING_FRAMES = 0
PIXEL_SUBSAMPLING_FLAG = N
SIGNAL_CHAIN_ID = 1
/* RADIOMETRIC DATA ELEMENTS */
BANDWIDTH = 178.0
CENTER_FILTER_WAVELENGTH = 679.0
RADIANCE_OFFSET = 2.87959
RADIANCE_SCALING_FACTOR = 0.0379428
REFLECTANCE_SCALING_FACTOR = 0.00124744
MEX:REFLECTANCE_OFFSET = 0.0946715
/* IMAGE OBJECT DEFINITIONS */
OBJECT = IMAGE
  INTERCHANGE_FORMAT = BINARY
  LINES = 31010
  LINE_SAMPLES = 11026
  SAMPLE_TYPE = UNSIGNED_INTEGER
  SAMPLE_BITS = 8
  BANDS = 1
  BAND_STORAGE_TYPE = BAND_SEQUENTIAL
  MAXIMUM = 255
  MEAN = 80.7836
  MINIMUM = 1
  STANDARD_DEVIATION = 63.7052
END_OBJECT = IMAGE
/* MAP OBJECT DEFINITIONS */
OBJECT = IMAGE_MAP_PROJECTION
  ^DATA_SET_MAP_PROJECTION_CATALOG= "DSMAP.CAT"
  A_AXIS_RADIUS = 3396.0
  B_AXIS_RADIUS = 3396.0
  C_AXIS_RADIUS = 3396.0
  CENTER_LATITUDE = 0.0
  CENTER_LONGITUDE = 288.0
  COORDINATE_SYSTEM_NAME = PLANETOGRAPHIC
  COORDINATE_SYSTEM_TYPE = "BODY-FIXED ROTATING"
  EASTERNMOST_LONGITUDE = 295.012
  FIRST_STANDARD_PARALLEL = "N/A"
  LINE_FIRST_PIXEL = 1
  LINE_LAST_PIXEL = 31010
  LINE_PROJECTION_OFFSET = 196311.25
  MAP_PROJECTION_ROTATION = 0.0
  MAP_PROJECTION_TYPE = SINUSOIDAL
  MAP_RESOLUTION = 2370.85521546667
  MAP_SCALE = 0.025
  MAXIMUM_LATITUDE = 82.76309999999999
  MINIMUM_LATITUDE = 69.7593
  POSITIVE_LONGITUDE_DIRECTION = EAST
  REFERENCE_LATITUDE = "N/A"
  REFERENCE_LONGITUDE = "N/A"
  SAMPLE_FIRST_PIXEL = 1
  SAMPLE_LAST_PIXEL = 11026
  SAMPLE_PROJECTION_OFFSET = 5389.25
  SECOND_STANDARD_PARALLEL = "N/A"
  WESTERNMOST_LONGITUDE = 271.133
END_OBJECT = IMAGE_MAP_PROJECTION
END
