PDS_VERSION_ID = PDS3
/* FILE DATA ELEMENTS */
RECORD_TYPE = UNDEFINED
/* POINTERS TO DATA OBJECTS */
^IMAGE = ("H5567_0000_S24.TIF")
/* IDENTIFICATION DATA ELEMENTS */
DATA_SET_ID = "MEX-M-HRSC-4-REFDR-MAPPROJECT-EXT2-V4.0"
DATA_SET_NAME = "MARS EXPRESS HRSC MAP PROJECTED REFDR EXTENSION2 V4.0"
DETECTOR_ID = MEX_HRSC_S2
EVENT_TYPE = "MARS-REGIONAL-MAPPING-Gl-Eo-La"
INSTRUMENT_HOST_ID = MEX
INSTRUMENT_HOST_NAME = "MARS EXPRESS"
INSTRUMENT_ID = HRSC
INSTRUMENT_NAME = "HIGH RESOLUTION STEREO CAMERA"
MISSION_NAME = "MARS EXPRESS"
MISSION_PHASE_NAME = ME_Phase_12
PROCESSING_LEVEL_ID = 4
PRODUCT_CREATION_TIME = 2023-02-03T16:04:45.000Z
PRODUCT_ID = "H5567_0000_S24.TIF"
RELEASE_ID = 0003
REVISION_ID = 0000
/* QUALITY DATA ELEMENTS */
DATA_QUALITY_ID = 1
DATA_QUALITY_DESC = "Data calculated based on original SPICE kernels"
/* TIME DATA ELEMENTS */
SPACECRAFT_CLOCK_START_COUNT = "1/0157867730.09056"
SPACECRAFT_CLOCK_STOP_COUNT = "1/0157867932.23623"
START_TIME = 2008-05-03T04:10:03.422Z
STOP_TIME = 2008-05-03T04:12:14.046Z
/* ORBITAL DATA ELEMENTS */
ASCENDING_NODE_LONGITUDE = 112.54
MAXIMUM_RESOLUTION = 0.0307
FOOTPRINT_POINT_LATITUDE = (87.2782,87.0133,86.8281,86.5024, 86.3156,86.0927,86.0809,86.0091,86.0611 ,86.0858,86.112,86.1149,86.1095,86.0758 ,86.0317,85.9934,85.9481,85.868,85.7739 ,85.6275,85.5035,85.4152,85.3221,85.127 ,85.0207,84.8576,84.7438,84.6276, 84.5079,84.3858,84.1981,84.0056,83.8749 ,83.6755,83.4723,83.3348,83.1959, 83.0557,82.9143,82.7001,82.5559,82.4107 ,82.1175,81.821,81.5215,81.4462,81.4332 ,81.5487,81.6333,81.7092,81.8119, 81.9104,81.9143,81.9161,82.076,82.2356, 82.3949,82.5538,82.7125,82.9495,83.1855 ,83.342,83.4977,83.6529,83.8076,83.9618 ,84.1156,84.2678,84.4936,84.7866,84.934 ,85.0809,85.2946,85.4361,85.5758, 85.7133,85.8482,86.0456,86.2362,86.359, 86.478,86.5912,86.7003,86.8532,86.9479, 87.0357,87.1528,87.2204,87.2791,87.3291 ,87.3836,87.4063,87.418,87.4183,87.4077 ,87.3854,87.3523,87.3087,87.2818, 87.2782)
FOOTPRINT_POINT_LONGITUDE = (138.179,139.629,140.49,141.765,142.387 ,143.045,143.078,141.267,144.99,147.457 ,152.429,154.982,157.498,162.449, 166.108,168.516,170.846,174.203,177.457 ,181.606,184.519,186.349,188.111,191.32 ,192.916,195.106,196.511,197.843, 199.129,200.356,202.096,203.719,204.741 ,206.19,207.55,208.41,209.234,210.024, 210.781,211.86,212.544,213.201,214.442, 215.59,216.655,216.909,216.952,218.615, 219.928,221.187,223.037,225.013,225.097 ,225.126,224.74,224.337,223.918,223.48, 223.022,222.297,221.521,220.973,220.398 ,219.794,219.16,218.492,217.788,217.048 ,215.861,214.129,213.179,212.17,210.55, 209.381,208.136,206.81,205.397,203.097, 200.557,198.717,196.747,194.655,192.414 ,188.775,186.146,183.355,178.874, 175.689,172.354,168.851,163.42,159.704, 155.925,152.136,148.32,144.611,140.952, 137.357,135.522,138.179)
ORBIT_NUMBER = 5567
ORBITAL_ECCENTRICITY = 0.568
ORBITAL_INCLINATION = 86.76
ORBITAL_SEMIMAJOR_AXIS = 8634.21
PERIAPSIS_ALTITUDE = 357.41
PERIAPSIS_ARGUMENT_ANGLE = 99.01
PERIAPSIS_TIME = 2008-05-03T04:12:02.000Z
SPACECRAFT_ORIENTATION = (0.0,-1.0,0.0)
^MEX_ORIENTATION_DESC = "MEX_ORIENTATION_DESC.TXT"
SPACECRAFT_POINTING_MODE = NADIR
^MEX_POINTING_DESC = "MEX_POINTING_DESC.TXT"
RIGHT_ASCENSION = -1e+32
DECLINATION = -1e+32
OFFSET_ANGLE = -1e+32
SPACECRAFT_SOLAR_DISTANCE = 2.49149e+08
TARGET_NAME = MARS
/* CAMERA DATA ELEMENTS */
DETECTOR_TEMPERATURE = 17.7588
FOCAL_PLANE_TEMPERATURE = 6.9521
INST_CMPRS_NAME = "DISCRETE COSINE TRANSFORMATION (DCT)"
INST_CMPRS_RATIO = 9.90366
INST_CMPRS_QUALITY = 0
INST_CMPRS_QUANTZ_TBL_ID = 0
INSTRUMENT_TEMPERATURE = 10.6223
LENS_TEMPERATURE = 7.7677
MACROPIXEL_SIZE = 2
MISSING_FRAMES = 0
PIXEL_SUBSAMPLING_FLAG = N
SIGNAL_CHAIN_ID = 1
/* RADIOMETRIC DATA ELEMENTS */
BANDWIDTH = 178.0
CENTER_FILTER_WAVELENGTH = 679.0
RADIANCE_OFFSET = 3.39792
RADIANCE_SCALING_FACTOR = 0.0386204
REFLECTANCE_SCALING_FACTOR = 0.00126959
MEX:REFLECTANCE_OFFSET = 0.111702
/* IMAGE OBJECT DEFINITIONS */
OBJECT = IMAGE
  INTERCHANGE_FORMAT = BINARY
  LINES = 11705
  LINE_SAMPLES = 19538
  SAMPLE_TYPE = UNSIGNED_INTEGER
  SAMPLE_BITS = 8
  BANDS = 1
  BAND_STORAGE_TYPE = BAND_SEQUENTIAL
  MAXIMUM = 255
  MEAN = 149.586
  MINIMUM = 1
  STANDARD_DEVIATION = 20.6518
END_OBJECT = IMAGE
/* MAP OBJECT DEFINITIONS */
OBJECT = IMAGE_MAP_PROJECTION
  ^DATA_SET_MAP_PROJECTION_CATALOG= "DSMAP.CAT"
  A_AXIS_RADIUS = 3396.0
  B_AXIS_RADIUS = 3396.0
  C_AXIS_RADIUS = 3396.0
  CENTER_LATITUDE = 90.0
  CENTER_LONGITUDE = 0.0
  COORDINATE_SYSTEM_NAME = PLANETOGRAPHIC
  COORDINATE_SYSTEM_TYPE = "BODY-FIXED ROTATING"
  EASTERNMOST_LONGITUDE = 225.126
  FIRST_STANDARD_PARALLEL = "N/A"
  LINE_FIRST_PIXEL = 1
  LINE_LAST_PIXEL = 11705
  LINE_PROJECTION_OFFSET = 16274.75
  MAP_PROJECTION_ROTATION = 0.0
  MAP_PROJECTION_TYPE = STEREOGRAPHIC
  MAP_RESOLUTION = 2370.85521546667
  MAP_SCALE = 0.025
  MAXIMUM_LATITUDE = 87.4183
  MINIMUM_LATITUDE = 81.4332
  POSITIVE_LONGITUDE_DIRECTION = EAST
  REFERENCE_LATITUDE = "N/A"
  REFERENCE_LONGITUDE = "N/A"
  SAMPLE_FIRST_PIXEL = 1
  SAMPLE_LAST_PIXEL = 19538
  SAMPLE_PROJECTION_OFFSET = 13614.75
  SECOND_STANDARD_PARALLEL = "N/A"
  WESTERNMOST_LONGITUDE = 135.522
END_OBJECT = IMAGE_MAP_PROJECTION
END
