PDS_VERSION_ID = PDS3
/* FILE DATA ELEMENTS */
RECORD_TYPE = UNDEFINED
/* POINTERS TO DATA OBJECTS */
^IMAGE = ("H5563_0000_S24.TIF")
/* IDENTIFICATION DATA ELEMENTS */
DATA_SET_ID = "MEX-M-HRSC-4-REFDR-MAPPROJECT-EXT2-V4.0"
DATA_SET_NAME = "MARS EXPRESS HRSC MAP PROJECTED REFDR EXTENSION2 V4.0"
DETECTOR_ID = MEX_HRSC_S2
EVENT_TYPE = "MARS-REGIONAL-MAPPING-Gl-Pf-Eo"
INSTRUMENT_HOST_ID = MEX
INSTRUMENT_HOST_NAME = "MARS EXPRESS"
INSTRUMENT_ID = HRSC
INSTRUMENT_NAME = "HIGH RESOLUTION STEREO CAMERA"
MISSION_NAME = "MARS EXPRESS"
MISSION_PHASE_NAME = ME_Phase_12
PROCESSING_LEVEL_ID = 4
PRODUCT_CREATION_TIME = 2023-02-03T16:04:45.000Z
PRODUCT_ID = "H5563_0000_S24.TIF"
RELEASE_ID = 0003
REVISION_ID = 0000
/* QUALITY DATA ELEMENTS */
DATA_QUALITY_ID = 1
DATA_QUALITY_DESC = "Data calculated based on original SPICE kernels"
/* TIME DATA ELEMENTS */
SPACECRAFT_CLOCK_START_COUNT = "1/0157769337.07286"
SPACECRAFT_CLOCK_STOP_COUNT = "1/0157769597.38672"
START_TIME = 2008-05-02T00:50:06.024Z
STOP_TIME = 2008-05-02T00:53:19.287Z
/* ORBITAL DATA ELEMENTS */
ASCENDING_NODE_LONGITUDE = 112.62
MAXIMUM_RESOLUTION = 0.0308
FOOTPRINT_POINT_LATITUDE = (81.6664,81.5161,81.3964,81.233,81.2281 ,81.3376,81.0197,80.8066,80.5949, 80.3796,80.0556,79.8384,79.6206,79.2928 ,79.0738,78.8538,78.5235,78.1922, 77.9709,77.7492,77.5272,77.1935,76.9711 ,76.6371,76.3027,76.0796,75.7447, 75.4097,74.8512,74.4043,73.957,73.7097, 73.4429,73.1764,72.9099,72.6435,72.3772 ,71.9777,71.7117,71.446,71.1804,70.9148 ,70.6495,70.3848,69.9879,69.7236, 69.5915,69.5867,69.6275,69.6851,69.7265 ,69.7762,69.7777,69.7787,70.0455, 70.3125,70.5802,70.8479,71.1159,71.3843 ,71.6531,71.9222,72.1915,72.461,72.7305 ,73.0004,73.27,73.541,73.9474,74.1993, 74.6537,74.881,75.2225,75.5641,75.7918, 76.0199,76.248,76.4762,76.7043,76.9324, 77.1606,77.5031,77.8454,78.0734,78.3015 ,78.5296,78.7575,78.9854,79.2132, 79.5551,79.7826,80.0096,80.3504,80.577, 80.9158,81.1413,81.3671,81.6993,81.8113 ,81.6664)
FOOTPRINT_POINT_LONGITUDE = (265.507,262.606,260.588,258.141, 258.072,257.385,258.382,259.006,259.588 ,260.158,260.961,261.468,261.953, 262.641,263.075,263.493,264.086,264.644 ,264.998,265.339,265.667,266.136, 266.434,266.861,267.265,267.523,267.894 ,268.245,268.793,269.201,269.583, 269.785,269.995,270.197,270.392,270.58, 270.762,271.024,271.191,271.352,271.508 ,271.659,271.806,271.947,272.15,272.281 ,272.345,272.347,273.071,274.181, 275.066,276.265,276.303,276.317,276.224 ,276.127,276.028,275.925,275.82,275.711 ,275.599,275.483,275.363,275.239, 275.111,274.978,274.841,274.699,274.477 ,274.333,274.06,273.918,273.695,273.461 ,273.298,273.13,272.956,272.775,272.588 ,272.395,272.194,271.878,271.544,271.31 ,271.066,270.812,270.548,270.273, 269.985,269.529,269.208,268.871,268.336 ,267.957,267.353,266.923,266.471, 265.746,265.491,265.507)
ORBIT_NUMBER = 5563
ORBITAL_ECCENTRICITY = 0.568
ORBITAL_INCLINATION = 86.74
ORBITAL_SEMIMAJOR_AXIS = 8635.82
PERIAPSIS_ALTITUDE = 358.01
PERIAPSIS_ARGUMENT_ANGLE = 99.73
PERIAPSIS_TIME = 2008-05-02T00:50:03.000Z
SPACECRAFT_ORIENTATION = (0.0,-1.0,0.0)
^MEX_ORIENTATION_DESC = "MEX_ORIENTATION_DESC.TXT"
SPACECRAFT_POINTING_MODE = NADIR
^MEX_POINTING_DESC = "MEX_POINTING_DESC.TXT"
RIGHT_ASCENSION = -1e+32
DECLINATION = -1e+32
OFFSET_ANGLE = -1e+32
SPACECRAFT_SOLAR_DISTANCE = 2.49131e+08
TARGET_NAME = MARS
/* CAMERA DATA ELEMENTS */
DETECTOR_TEMPERATURE = 18.1666
FOCAL_PLANE_TEMPERATURE = 7.156
INST_CMPRS_NAME = "DISCRETE COSINE TRANSFORMATION (DCT)"
INST_CMPRS_RATIO = 12.2919
INST_CMPRS_QUALITY = 0
INST_CMPRS_QUANTZ_TBL_ID = 0
INSTRUMENT_TEMPERATURE = 11.0301
LENS_TEMPERATURE = 7.5638
MACROPIXEL_SIZE = 2
MISSING_FRAMES = 0
PIXEL_SUBSAMPLING_FLAG = N
SIGNAL_CHAIN_ID = 1
/* RADIOMETRIC DATA ELEMENTS */
BANDWIDTH = 178.0
CENTER_FILTER_WAVELENGTH = 679.0
RADIANCE_OFFSET = 4.37698
RADIANCE_SCALING_FACTOR = 0.0313932
REFLECTANCE_SCALING_FACTOR = 0.00103186
MEX:REFLECTANCE_OFFSET = 0.143866
/* IMAGE OBJECT DEFINITIONS */
OBJECT = IMAGE
  INTERCHANGE_FORMAT = BINARY
  LINES = 29025
  LINE_SAMPLES = 9617
  SAMPLE_TYPE = UNSIGNED_INTEGER
  SAMPLE_BITS = 8
  BANDS = 1
  BAND_STORAGE_TYPE = BAND_SEQUENTIAL
  MAXIMUM = 255
  MEAN = 84.2118
  MINIMUM = 1
  STANDARD_DEVIATION = 44.8869
END_OBJECT = IMAGE
/* MAP OBJECT DEFINITIONS */
OBJECT = IMAGE_MAP_PROJECTION
  ^DATA_SET_MAP_PROJECTION_CATALOG= "DSMAP.CAT"
  A_AXIS_RADIUS = 3396.0
  B_AXIS_RADIUS = 3396.0
  C_AXIS_RADIUS = 3396.0
  CENTER_LATITUDE = 0.0
  CENTER_LONGITUDE = 270.0
  COORDINATE_SYSTEM_NAME = PLANETOGRAPHIC
  COORDINATE_SYSTEM_TYPE = "BODY-FIXED ROTATING"
  EASTERNMOST_LONGITUDE = 276.317
  FIRST_STANDARD_PARALLEL = "N/A"
  LINE_FIRST_PIXEL = 1
  LINE_LAST_PIXEL = 29025
  LINE_PROJECTION_OFFSET = 193946.25
  MAP_PROJECTION_ROTATION = 0.0
  MAP_PROJECTION_TYPE = SINUSOIDAL
  MAP_RESOLUTION = 2370.85521546667
  MAP_SCALE = 0.025
  MAXIMUM_LATITUDE = 81.8113
  MINIMUM_LATITUDE = 69.58669999999999
  POSITIVE_LONGITUDE_DIRECTION = EAST
  REFERENCE_LATITUDE = "N/A"
  REFERENCE_LONGITUDE = "N/A"
  SAMPLE_FIRST_PIXEL = 1
  SAMPLE_LAST_PIXEL = 9617
  SAMPLE_PROJECTION_OFFSET = 4496.25
  SECOND_STANDARD_PARALLEL = "N/A"
  WESTERNMOST_LONGITUDE = 257.385
END_OBJECT = IMAGE_MAP_PROJECTION
END
