PDS_VERSION_ID = PDS3
/* FILE DATA ELEMENTS */
RECORD_TYPE = UNDEFINED
/* POINTERS TO DATA OBJECTS */
^IMAGE = ("H5560_0000_IR4.TIF")
/* IDENTIFICATION DATA ELEMENTS */
DATA_SET_ID = "MEX-M-HRSC-4-REFDR-MAPPROJECT-EXT2-V4.0"
DATA_SET_NAME = "MARS EXPRESS HRSC MAP PROJECTED REFDR EXTENSION2 V4.0"
DETECTOR_ID = MEX_HRSC_IR
EVENT_TYPE = "MARS-REGIONAL-MAPPING-Gl-Pf-Eo"
INSTRUMENT_HOST_ID = MEX
INSTRUMENT_HOST_NAME = "MARS EXPRESS"
INSTRUMENT_ID = HRSC
INSTRUMENT_NAME = "HIGH RESOLUTION STEREO CAMERA"
MISSION_NAME = "MARS EXPRESS"
MISSION_PHASE_NAME = ME_Phase_12
PROCESSING_LEVEL_ID = 4
PRODUCT_CREATION_TIME = 2023-02-03T16:04:45.000Z
PRODUCT_ID = "H5560_0000_IR4.TIF"
RELEASE_ID = 0003
REVISION_ID = 0000
/* QUALITY DATA ELEMENTS */
DATA_QUALITY_ID = 1
DATA_QUALITY_DESC = "Data calculated based on original SPICE kernels"
/* TIME DATA ELEMENTS */
SPACECRAFT_CLOCK_START_COUNT = "1/0157695451.08403"
SPACECRAFT_CLOCK_STOP_COUNT = "1/0157695671.48903"
START_TIME = 2008-05-01T04:17:40.454Z
STOP_TIME = 2008-05-01T04:20:10.810Z
/* ORBITAL DATA ELEMENTS */
ASCENDING_NODE_LONGITUDE = 112.67
MAXIMUM_RESOLUTION = 0.0602
FOOTPRINT_POINT_LATITUDE = (80.5059,80.3826,80.2463,80.0477, 80.0427,79.904,79.5535,79.2001,78.8441, 78.5763,78.3062,78.126,77.8544,77.582, 77.3998,77.1258,76.8508,76.667,76.3907, 76.1145,75.8369,75.6508,75.4645,75.2783 ,74.9988,74.7185,74.5315,74.344,74.0625 ,73.8746,73.5928,73.404,73.215,73.0261, 72.8369,72.5538,72.3642,72.174,71.9844, 71.7945,71.6042,71.4142,71.2239,71.0333 ,70.7474,70.6521,70.5963,70.6726, 70.7132,70.7631,70.7987,70.8499,70.8519 ,70.8534,71.0467,71.2398,71.4327, 71.6258,71.8187,72.0116,72.2046,72.4933 ,72.6859,72.8783,73.0702,73.2625, 73.4545,73.7426,73.9348,74.1266,74.4137 ,74.6051,74.8919,75.1783,75.3691, 75.5602,75.7508,75.9408,76.1313,76.4162 ,76.6058,76.7956,76.9846,77.1737, 77.3624,77.5512,77.834,78.0223,78.21, 78.3971,78.5842,78.8644,79.1443,79.3306 ,79.5163,79.7017,79.8866,80.2552,80.347 ,80.5059)
FOOTPRINT_POINT_LONGITUDE = (205.541,203.556,201.604,199.1,199.041, 198.936,199.824,200.653,201.429,201.979 ,202.502,202.838,203.322,203.785, 204.082,204.511,204.921,205.185,205.568 ,205.935,206.287,206.513,206.733, 206.947,207.259,207.558,207.752,207.94, 208.214,208.391,208.649,208.815,208.977 ,209.136,209.29,209.516,209.662,209.804 ,209.943,210.08,210.212,210.343,210.47, 210.594,210.776,210.835,210.869,211.88, 212.458,213.216,213.794,214.694,214.73, 214.742,214.654,214.564,214.473,214.379 ,214.284,214.186,214.086,213.932, 213.826,213.718,213.608,213.495,213.379 ,213.2,213.076,212.95,212.755,212.62, 212.413,212.196,212.047,211.894,211.737 ,211.576,211.409,211.152,210.974,210.79 ,210.602,210.408,210.208,210.002,209.68 ,209.457,209.227,208.99,208.745,208.362 ,207.958,207.677,207.386,207.085, 206.773,206.113,205.94,205.541)
ORBIT_NUMBER = 5560
ORBITAL_ECCENTRICITY = 0.568
ORBITAL_INCLINATION = 86.76
ORBITAL_SEMIMAJOR_AXIS = 8634.65
PERIAPSIS_ALTITUDE = 357.16
PERIAPSIS_ARGUMENT_ANGLE = 100.25
PERIAPSIS_TIME = 2008-05-01T04:18:24.000Z
SPACECRAFT_ORIENTATION = (0.0,-1.0,0.0)
^MEX_ORIENTATION_DESC = "MEX_ORIENTATION_DESC.TXT"
SPACECRAFT_POINTING_MODE = ACROSSTRACK
^MEX_POINTING_DESC = "MEX_POINTING_DESC.TXT"
RIGHT_ASCENSION = -1e+32
DECLINATION = -1e+32
OFFSET_ANGLE = -0.4
SPACECRAFT_SOLAR_DISTANCE = 2.49116e+08
TARGET_NAME = MARS
/* CAMERA DATA ELEMENTS */
DETECTOR_TEMPERATURE = 16.9432
FOCAL_PLANE_TEMPERATURE = 6.9521
INST_CMPRS_NAME = "DISCRETE COSINE TRANSFORMATION (DCT)"
INST_CMPRS_RATIO = 13.2172
INST_CMPRS_QUALITY = 0
INST_CMPRS_QUANTZ_TBL_ID = 0
INSTRUMENT_TEMPERATURE = 10.6223
LENS_TEMPERATURE = 7.3599
MACROPIXEL_SIZE = 4
MISSING_FRAMES = 0
PIXEL_SUBSAMPLING_FLAG = N
SIGNAL_CHAIN_ID = 2
/* RADIOMETRIC DATA ELEMENTS */
BANDWIDTH = 81.0
CENTER_FILTER_WAVELENGTH = 955.5
RADIANCE_OFFSET = 0.922267
RADIANCE_SCALING_FACTOR = 0.00632928
REFLECTANCE_SCALING_FACTOR = 0.000847399
MEX:REFLECTANCE_OFFSET = 0.123478
/* IMAGE OBJECT DEFINITIONS */
OBJECT = IMAGE
  INTERCHANGE_FORMAT = BINARY
  LINES = 11581
  LINE_SAMPLES = 4343
  SAMPLE_TYPE = UNSIGNED_INTEGER
  SAMPLE_BITS = 8
  BANDS = 1
  BAND_STORAGE_TYPE = BAND_SEQUENTIAL
  MAXIMUM = 255
  MEAN = 96.771
  MINIMUM = 1
  STANDARD_DEVIATION = 61.4767
END_OBJECT = IMAGE
/* MAP OBJECT DEFINITIONS */
OBJECT = IMAGE_MAP_PROJECTION
  ^DATA_SET_MAP_PROJECTION_CATALOG= "DSMAP.CAT"
  A_AXIS_RADIUS = 3396.0
  B_AXIS_RADIUS = 3396.0
  C_AXIS_RADIUS = 3396.0
  CENTER_LATITUDE = 0.0
  CENTER_LONGITUDE = 209.0
  COORDINATE_SYSTEM_NAME = PLANETOGRAPHIC
  COORDINATE_SYSTEM_TYPE = "BODY-FIXED ROTATING"
  EASTERNMOST_LONGITUDE = 214.742
  FIRST_STANDARD_PARALLEL = "N/A"
  LINE_FIRST_PIXEL = 1
  LINE_LAST_PIXEL = 11581
  LINE_PROJECTION_OFFSET = 95307.375
  MAP_PROJECTION_ROTATION = 0.0
  MAP_PROJECTION_TYPE = SINUSOIDAL
  MAP_RESOLUTION = 1185.42760773333
  MAP_SCALE = 0.05
  MAXIMUM_LATITUDE = 80.5059
  MINIMUM_LATITUDE = 70.5963
  POSITIVE_LONGITUDE_DIRECTION = EAST
  REFERENCE_LATITUDE = "N/A"
  REFERENCE_LONGITUDE = "N/A"
  SAMPLE_FIRST_PIXEL = 1
  SAMPLE_LAST_PIXEL = 4343
  SAMPLE_PROJECTION_OFFSET = 2103.375
  SECOND_STANDARD_PARALLEL = "N/A"
  WESTERNMOST_LONGITUDE = 198.936
END_OBJECT = IMAGE_MAP_PROJECTION
END
