PDS_VERSION_ID = PDS3
/* FILE DATA ELEMENTS */
RECORD_TYPE = UNDEFINED
/* POINTERS TO DATA OBJECTS */
^IMAGE = ("H5551_0000_S14.TIF")
/* IDENTIFICATION DATA ELEMENTS */
DATA_SET_ID = "MEX-M-HRSC-4-REFDR-MAPPROJECT-EXT2-V4.0"
DATA_SET_NAME = "MARS EXPRESS HRSC MAP PROJECTED REFDR EXTENSION2 V4.0"
DETECTOR_ID = MEX_HRSC_S1
EVENT_TYPE = "MARS-REGIONAL-MAPPING-Gl-La"
INSTRUMENT_HOST_ID = MEX
INSTRUMENT_HOST_NAME = "MARS EXPRESS"
INSTRUMENT_ID = HRSC
INSTRUMENT_NAME = "HIGH RESOLUTION STEREO CAMERA"
MISSION_NAME = "MARS EXPRESS"
MISSION_PHASE_NAME = ME_Phase_12
PROCESSING_LEVEL_ID = 4
PRODUCT_CREATION_TIME = 2023-02-03T16:04:45.000Z
PRODUCT_ID = "H5551_0000_S14.TIF"
RELEASE_ID = 0003
REVISION_ID = 0000
/* QUALITY DATA ELEMENTS */
DATA_QUALITY_ID = 1
DATA_QUALITY_DESC = "Data calculated based on original SPICE kernels"
/* TIME DATA ELEMENTS */
SPACECRAFT_CLOCK_START_COUNT = "1/0157473665.07302"
SPACECRAFT_CLOCK_STOP_COUNT = "1/0157473897.47451"
START_TIME = 2008-04-28T14:41:08.793Z
STOP_TIME = 2008-04-28T14:43:54.287Z
/* ORBITAL DATA ELEMENTS */
ASCENDING_NODE_LONGITUDE = 112.85
MAXIMUM_RESOLUTION = 0.0289
FOOTPRINT_POINT_LATITUDE = (85.6327,85.3561,85.0462,84.7878, 84.7786,84.6479,84.4101,84.1469,83.9712 ,83.791,83.6065,83.4183,83.2266,83.0318 ,82.8341,82.6337,82.4332,82.0881, 81.7371,81.3809,81.1102,80.9285,80.7456 ,80.5616,80.3764,80.191,80.0049,79.815, 79.4415,79.2526,79.0583,78.8685,78.6779 ,78.4868,78.2951,78.1028,77.91,77.717, 77.5234,77.3293,77.0376,76.8425,76.5488 ,76.3527,76.1562,75.9595,75.7624, 75.5649,75.3674,75.2684,75.261,75.3282, 75.4188,75.4612,75.5287,75.5307,75.5319 ,75.7341,75.9361,76.1378,76.3392, 76.5405,76.7415,76.9424,77.2433,77.6437 ,77.9431,78.1426,78.3417,78.5405, 78.8382,79.0366,79.334,79.5311,79.7313, 79.9282,80.2225,80.5159,80.7114,81.002, 81.1977,81.3914,81.6807,81.8725,82.2541 ,82.6325,83.0074,83.3362,83.5563, 83.7746,83.9912,84.2057,84.4181,84.6289 ,84.8374,85.043,85.2451,85.4435,85.5411 ,85.6327)
FOOTPRINT_POINT_LONGITUDE = (368.343,363.962,360.003,357.242, 357.152,357.943,360.56,363.025,364.525, 365.94,367.277,368.539,369.731,370.858, 371.923,372.931,373.875,375.365,376.73, 377.982,378.856,379.409,379.941,380.452 ,380.943,381.415,381.869,382.309, 383.135,383.527,383.906,384.271,384.623 ,384.963,385.292,385.61,385.918,386.216 ,386.504,386.784,387.186,387.444, 387.817,388.056,388.289,388.514,388.733 ,388.946,389.153,389.254,389.261, 390.292,391.857,392.671,394.118,394.167 ,394.184,394.044,393.899,393.751, 393.599,393.441,393.279,393.112,392.851 ,392.484,392.192,391.99,391.78,391.563, 391.223,390.986,390.611,390.352,390.071 ,389.789,389.346,388.876,388.544, 388.028,387.653,387.267,386.657,386.228 ,385.308,384.295,383.176,382.082, 381.281,380.425,379.508,378.526,377.469 ,376.322,375.081,373.736,372.283, 370.704,369.865,368.343)
ORBIT_NUMBER = 5551
ORBITAL_ECCENTRICITY = 0.568
ORBITAL_INCLINATION = 86.75
ORBITAL_SEMIMAJOR_AXIS = 8638.6
PERIAPSIS_ALTITUDE = 357.51
PERIAPSIS_ARGUMENT_ANGLE = 101.83
PERIAPSIS_TIME = 2008-04-28T14:43:49.000Z
SPACECRAFT_ORIENTATION = (0.0,-1.0,0.0)
^MEX_ORIENTATION_DESC = "MEX_ORIENTATION_DESC.TXT"
SPACECRAFT_POINTING_MODE = NADIR
^MEX_POINTING_DESC = "MEX_POINTING_DESC.TXT"
RIGHT_ASCENSION = -1e+32
DECLINATION = -1e+32
OFFSET_ANGLE = -1e+32
SPACECRAFT_SOLAR_DISTANCE = 2.49066e+08
TARGET_NAME = MARS
/* CAMERA DATA ELEMENTS */
DETECTOR_TEMPERATURE = 16.9432
FOCAL_PLANE_TEMPERATURE = 6.9521
INST_CMPRS_NAME = "DISCRETE COSINE TRANSFORMATION (DCT)"
INST_CMPRS_RATIO = 9.86311
INST_CMPRS_QUALITY = 0
INST_CMPRS_QUANTZ_TBL_ID = 0
INSTRUMENT_TEMPERATURE = 10.4184
LENS_TEMPERATURE = 7.3599
MACROPIXEL_SIZE = 2
MISSING_FRAMES = 0
PIXEL_SUBSAMPLING_FLAG = N
SIGNAL_CHAIN_ID = 1
/* RADIOMETRIC DATA ELEMENTS */
BANDWIDTH = 180.0
CENTER_FILTER_WAVELENGTH = 677.0
RADIANCE_OFFSET = 4.08033
RADIANCE_SCALING_FACTOR = 0.0317834
REFLECTANCE_SCALING_FACTOR = 0.00102866
MEX:REFLECTANCE_OFFSET = 0.132058
/* IMAGE OBJECT DEFINITIONS */
OBJECT = IMAGE
  INTERCHANGE_FORMAT = BINARY
  LINES = 24324
  LINE_SAMPLES = 11389
  SAMPLE_TYPE = UNSIGNED_INTEGER
  SAMPLE_BITS = 8
  BANDS = 1
  BAND_STORAGE_TYPE = BAND_SEQUENTIAL
  MAXIMUM = 255
  MEAN = 167.172
  MINIMUM = 1
  STANDARD_DEVIATION = 30.0442
END_OBJECT = IMAGE
/* MAP OBJECT DEFINITIONS */
OBJECT = IMAGE_MAP_PROJECTION
  ^DATA_SET_MAP_PROJECTION_CATALOG= "DSMAP.CAT"
  A_AXIS_RADIUS = 3396.0
  B_AXIS_RADIUS = 3396.0
  C_AXIS_RADIUS = 3396.0
  CENTER_LATITUDE = 0.0
  CENTER_LONGITUDE = 25.0
  COORDINATE_SYSTEM_NAME = PLANETOGRAPHIC
  COORDINATE_SYSTEM_TYPE = "BODY-FIXED ROTATING"
  EASTERNMOST_LONGITUDE = 34.184
  FIRST_STANDARD_PARALLEL = "N/A"
  LINE_FIRST_PIXEL = 1
  LINE_LAST_PIXEL = 24324
  LINE_PROJECTION_OFFSET = 202797.75
  MAP_PROJECTION_ROTATION = 0.0
  MAP_PROJECTION_TYPE = SINUSOIDAL
  MAP_RESOLUTION = 2370.85521546667
  MAP_SCALE = 0.025
  MAXIMUM_LATITUDE = 85.6327
  MINIMUM_LATITUDE = 75.261
  POSITIVE_LONGITUDE_DIRECTION = EAST
  REFERENCE_LATITUDE = "N/A"
  REFERENCE_LONGITUDE = "N/A"
  SAMPLE_FIRST_PIXEL = 1
  SAMPLE_LAST_PIXEL = 11389
  SAMPLE_PROJECTION_OFFSET = 5972.25
  SECOND_STANDARD_PARALLEL = "N/A"
  WESTERNMOST_LONGITUDE = -2.848
END_OBJECT = IMAGE_MAP_PROJECTION
END
