PDS_VERSION_ID = PDS3
/* FILE DATA ELEMENTS */
RECORD_TYPE = UNDEFINED
/* POINTERS TO DATA OBJECTS */
^IMAGE = ("H5551_0000_P24.TIF")
/* IDENTIFICATION DATA ELEMENTS */
DATA_SET_ID = "MEX-M-HRSC-4-REFDR-MAPPROJECT-EXT2-V4.0"
DATA_SET_NAME = "MARS EXPRESS HRSC MAP PROJECTED REFDR EXTENSION2 V4.0"
DETECTOR_ID = MEX_HRSC_P2
EVENT_TYPE = "MARS-REGIONAL-MAPPING-Gl-La"
INSTRUMENT_HOST_ID = MEX
INSTRUMENT_HOST_NAME = "MARS EXPRESS"
INSTRUMENT_ID = HRSC
INSTRUMENT_NAME = "HIGH RESOLUTION STEREO CAMERA"
MISSION_NAME = "MARS EXPRESS"
MISSION_PHASE_NAME = ME_Phase_12
PROCESSING_LEVEL_ID = 4
PRODUCT_CREATION_TIME = 2023-02-03T16:04:45.000Z
PRODUCT_ID = "H5551_0000_P24.TIF"
RELEASE_ID = 0003
REVISION_ID = 0000
/* QUALITY DATA ELEMENTS */
DATA_QUALITY_ID = 1
DATA_QUALITY_DESC = "Data calculated based on original SPICE kernels"
/* TIME DATA ELEMENTS */
SPACECRAFT_CLOCK_START_COUNT = "1/0157473665.07302"
SPACECRAFT_CLOCK_STOP_COUNT = "1/0157473897.47451"
START_TIME = 2008-04-28T14:42:05.670Z
STOP_TIME = 2008-04-28T14:44:48.044Z
/* ORBITAL DATA ELEMENTS */
ASCENDING_NODE_LONGITUDE = 112.85
MAXIMUM_RESOLUTION = 0.027
FOOTPRINT_POINT_LATITUDE = (85.4338,85.2215,84.8908,84.6523, 84.6439,84.6764,84.5311,84.3815,84.227, 84.0685,83.9073,83.7431,83.5761,83.4066 ,83.2347,83.0607,82.8846,82.7066, 82.5269,82.3455,82.1627,81.8859,81.6998 ,81.5126,81.3243,81.0403,80.8497, 80.5626,80.3702,80.177,79.9829,79.6914, 79.4956,79.1048,78.8094,78.6117,78.4135 ,78.1156,77.9166,77.7172,77.4176, 76.9169,76.6159,76.1135,75.7106,75.4081 ,75.3072,75.2866,75.3846,75.4425, 75.4867,75.5493,75.5514,75.5526,75.9642 ,76.273,76.6845,76.8903,77.096,77.4044, 77.61,77.8157,78.1237,78.4317,78.6367, 78.8418,79.0464,79.2505,79.455,79.7591, 79.9623,80.1662,80.3694,80.5725,80.774, 81.0792,81.3802,81.5812,81.7821,81.9825 ,82.1824,82.3819,82.5808,82.779,82.9766 ,83.1733,83.3691,83.5639,83.7576, 83.9501,84.1416,84.3316,84.52,84.7052, 84.8889,85.0706,85.25,85.4267,85.514, 85.4338)
FOOTPRINT_POINT_LONGITUDE = (369.747,366.261,361.789,359.087, 358.998,357.908,359.52,361.048,362.521, 363.919,365.232,366.475,367.65,368.763, 369.82,370.822,371.774,372.679,373.539, 374.358,375.138,376.24,376.931,377.592, 378.224,379.117,379.682,380.482,380.988 ,381.475,381.943,382.606,383.032, 383.822,384.382,384.74,385.085,385.58, 385.896,386.201,386.64,387.324,387.707, 388.307,388.755,389.073,389.176,389.197 ,390.814,391.871,392.742,394.107, 394.157,394.174,393.879,393.646,393.317 ,393.145,392.966,392.688,392.494, 392.294,391.98,391.649,391.418,391.178, 390.928,390.669,390.4,389.973,389.674, 389.364,389.04,388.702,388.348,387.789, 387.186,386.761,386.316,385.847,385.354 ,384.835,384.288,383.711,383.101, 382.455,381.77,381.044,380.272,379.45, 378.574,377.639,376.639,375.568,374.42, 373.185,371.857,370.424,369.665, 369.747)
ORBIT_NUMBER = 5551
ORBITAL_ECCENTRICITY = 0.568
ORBITAL_INCLINATION = 86.75
ORBITAL_SEMIMAJOR_AXIS = 8638.6
PERIAPSIS_ALTITUDE = 357.51
PERIAPSIS_ARGUMENT_ANGLE = 101.83
PERIAPSIS_TIME = 2008-04-28T14:43:49.000Z
SPACECRAFT_ORIENTATION = (0.0,-1.0,0.0)
^MEX_ORIENTATION_DESC = "MEX_ORIENTATION_DESC.TXT"
SPACECRAFT_POINTING_MODE = NADIR
^MEX_POINTING_DESC = "MEX_POINTING_DESC.TXT"
RIGHT_ASCENSION = -1e+32
DECLINATION = -1e+32
OFFSET_ANGLE = -1e+32
SPACECRAFT_SOLAR_DISTANCE = 2.49066e+08
TARGET_NAME = MARS
/* CAMERA DATA ELEMENTS */
DETECTOR_TEMPERATURE = 17.7588
FOCAL_PLANE_TEMPERATURE = 6.9521
INST_CMPRS_NAME = "DISCRETE COSINE TRANSFORMATION (DCT)"
INST_CMPRS_RATIO = 6.71794
INST_CMPRS_QUALITY = 0
INST_CMPRS_QUANTZ_TBL_ID = 0
INSTRUMENT_TEMPERATURE = 10.4184
LENS_TEMPERATURE = 7.3599
MACROPIXEL_SIZE = 2
MISSING_FRAMES = 0
PIXEL_SUBSAMPLING_FLAG = N
SIGNAL_CHAIN_ID = 3
/* RADIOMETRIC DATA ELEMENTS */
BANDWIDTH = 177.0
CENTER_FILTER_WAVELENGTH = 676.5
RADIANCE_OFFSET = 3.52103
RADIANCE_SCALING_FACTOR = 0.0309566
REFLECTANCE_SCALING_FACTOR = 0.00101822
MEX:REFLECTANCE_OFFSET = 0.115813
/* IMAGE OBJECT DEFINITIONS */
OBJECT = IMAGE
  INTERCHANGE_FORMAT = BINARY
  LINES = 24324
  LINE_SAMPLES = 11389
  SAMPLE_TYPE = UNSIGNED_INTEGER
  SAMPLE_BITS = 8
  BANDS = 1
  BAND_STORAGE_TYPE = BAND_SEQUENTIAL
  MAXIMUM = 255
  MEAN = 164.66
  MINIMUM = 1
  STANDARD_DEVIATION = 30.1836
END_OBJECT = IMAGE
/* MAP OBJECT DEFINITIONS */
OBJECT = IMAGE_MAP_PROJECTION
  ^DATA_SET_MAP_PROJECTION_CATALOG= "DSMAP.CAT"
  A_AXIS_RADIUS = 3396.0
  B_AXIS_RADIUS = 3396.0
  C_AXIS_RADIUS = 3396.0
  CENTER_LATITUDE = 0.0
  CENTER_LONGITUDE = 25.0
  COORDINATE_SYSTEM_NAME = PLANETOGRAPHIC
  COORDINATE_SYSTEM_TYPE = "BODY-FIXED ROTATING"
  EASTERNMOST_LONGITUDE = 34.174
  FIRST_STANDARD_PARALLEL = "N/A"
  LINE_FIRST_PIXEL = 1
  LINE_LAST_PIXEL = 24324
  LINE_PROJECTION_OFFSET = 202797.75
  MAP_PROJECTION_ROTATION = 0.0
  MAP_PROJECTION_TYPE = SINUSOIDAL
  MAP_RESOLUTION = 2370.85521546667
  MAP_SCALE = 0.025
  MAXIMUM_LATITUDE = 85.514
  MINIMUM_LATITUDE = 75.28660000000001
  POSITIVE_LONGITUDE_DIRECTION = EAST
  REFERENCE_LATITUDE = "N/A"
  REFERENCE_LONGITUDE = "N/A"
  SAMPLE_FIRST_PIXEL = 1
  SAMPLE_LAST_PIXEL = 11389
  SAMPLE_PROJECTION_OFFSET = 5972.25
  SECOND_STANDARD_PARALLEL = "N/A"
  WESTERNMOST_LONGITUDE = -2.092
END_OBJECT = IMAGE_MAP_PROJECTION
END
