PDS_VERSION_ID = PDS3
/* FILE DATA ELEMENTS */
RECORD_TYPE = UNDEFINED
/* POINTERS TO DATA OBJECTS */
^IMAGE = ("H5546_0000_P14.TIF")
/* IDENTIFICATION DATA ELEMENTS */
DATA_SET_ID = "MEX-M-HRSC-4-REFDR-MAPPROJECT-EXT2-V4.0"
DATA_SET_NAME = "MARS EXPRESS HRSC MAP PROJECTED REFDR EXTENSION2 V4.0"
DETECTOR_ID = MEX_HRSC_P1
EVENT_TYPE = "MARS-REGIONAL-MAPPING-Im-Pf"
INSTRUMENT_HOST_ID = MEX
INSTRUMENT_HOST_NAME = "MARS EXPRESS"
INSTRUMENT_ID = HRSC
INSTRUMENT_NAME = "HIGH RESOLUTION STEREO CAMERA"
MISSION_NAME = "MARS EXPRESS"
MISSION_PHASE_NAME = ME_Phase_12
PROCESSING_LEVEL_ID = 4
PRODUCT_CREATION_TIME = 2023-02-03T16:04:45.000Z
PRODUCT_ID = "H5546_0000_P14.TIF"
RELEASE_ID = 0003
REVISION_ID = 0000
/* QUALITY DATA ELEMENTS */
DATA_QUALITY_ID = 1
DATA_QUALITY_DESC = "Data calculated based on original SPICE kernels"
/* TIME DATA ELEMENTS */
SPACECRAFT_CLOCK_START_COUNT = "1/0157350682.09058"
SPACECRAFT_CLOCK_STOP_COUNT = "1/0157350940.64229"
START_TIME = 2008-04-27T04:31:36.955Z
STOP_TIME = 2008-04-27T04:34:40.441Z
/* ORBITAL DATA ELEMENTS */
ASCENDING_NODE_LONGITUDE = 112.95
MAXIMUM_RESOLUTION = 0.0297
FOOTPRINT_POINT_LATITUDE = (74.6633,74.5681,74.4555,74.4531, 74.3591,73.9254,73.7081,73.4906,73.1641 ,72.9461,72.7281,72.5096,72.1816, 71.8535,71.525,71.1928,70.9733,70.7539, 70.4245,70.2048,69.9848,69.6546,69.4345 ,69.1042,68.7737,68.5532,68.3328, 68.1122,67.8914,67.5603,67.3396,66.9486 ,66.6849,66.2892,66.0258,65.7621, 65.3663,65.1022,64.7063,64.4421,64.1782 ,63.9146,63.6506,63.2552,62.9914, 62.7276,62.5958,62.5785,62.6017,62.6348 ,62.6671,62.69,62.6908,62.6915,62.9567, 63.2219,63.4875,63.7529,64.0177,64.2831 ,64.549,64.815,65.0811,65.3455,65.6109, 65.8763,66.2747,66.5405,66.9387,67.2043 ,67.4681,67.6906,68.0243,68.2468, 68.5804,68.8027,69.1363,69.3585,69.5808 ,69.9143,70.1365,70.4697,70.6918, 71.0247,71.2466,71.4719,71.6936,71.9153 ,72.2477,72.58,72.912,73.1333,73.3544, 73.5753,73.7961,74.0168,74.2374,74.4579 ,74.5681,74.6633)
FOOTPRINT_POINT_LONGITUDE = (175.659,173.424,171.322,171.28,171.242 ,171.593,171.76,171.923,172.16,172.311, 172.459,172.603,172.811,173.011,173.203 ,173.39,173.509,173.625,173.794,173.903 ,174.009,174.163,174.263,174.408, 174.548,174.639,174.727,174.814,174.898 ,175.021,175.1,175.236,175.325,175.453, 175.536,175.617,175.734,175.809,175.919 ,175.989,176.058,176.125,176.19,176.285 ,176.346,176.406,176.435,176.439, 176.927,177.707,178.609,179.4,179.43, 179.44,179.398,179.355,179.31,179.265, 179.219,179.172,179.123,179.072,179.02, 178.97,178.917,178.863,178.779,178.72, 178.631,178.569,178.506,178.452,178.368 ,178.311,178.222,178.162,178.068, 178.004,177.939,177.837,177.767,177.66, 177.586,177.471,177.393,177.311,177.228 ,177.143,177.012,176.875,176.733, 176.635,176.534,176.43,176.324,176.215, 176.102,175.986,175.927,175.659)
ORBIT_NUMBER = 5546
ORBITAL_ECCENTRICITY = 0.568
ORBITAL_INCLINATION = 86.75
ORBITAL_SEMIMAJOR_AXIS = 8637.48
PERIAPSIS_ALTITUDE = 357.62
PERIAPSIS_ARGUMENT_ANGLE = 102.71
PERIAPSIS_TIME = 2008-04-27T04:31:19.000Z
SPACECRAFT_ORIENTATION = (0.0,-1.0,0.0)
^MEX_ORIENTATION_DESC = "MEX_ORIENTATION_DESC.TXT"
SPACECRAFT_POINTING_MODE = ACROSSTRACK
^MEX_POINTING_DESC = "MEX_POINTING_DESC.TXT"
RIGHT_ASCENSION = -1e+32
DECLINATION = -1e+32
OFFSET_ANGLE = 0.2
SPACECRAFT_SOLAR_DISTANCE = 2.49034e+08
TARGET_NAME = MARS
/* CAMERA DATA ELEMENTS */
DETECTOR_TEMPERATURE = 16.7393
FOCAL_PLANE_TEMPERATURE = 7.156
INST_CMPRS_NAME = "DISCRETE COSINE TRANSFORMATION (DCT)"
INST_CMPRS_RATIO = 16.3159
INST_CMPRS_QUALITY = 0
INST_CMPRS_QUANTZ_TBL_ID = 0
INSTRUMENT_TEMPERATURE = 10.6223
LENS_TEMPERATURE = 7.5638
MACROPIXEL_SIZE = 2
MISSING_FRAMES = 1
PIXEL_SUBSAMPLING_FLAG = N
SIGNAL_CHAIN_ID = 3
/* RADIOMETRIC DATA ELEMENTS */
BANDWIDTH = 174.0
CENTER_FILTER_WAVELENGTH = 675.0
RADIANCE_OFFSET = 3.6861
RADIANCE_SCALING_FACTOR = 0.030242
REFLECTANCE_SCALING_FACTOR = 0.00100882
MEX:REFLECTANCE_OFFSET = 0.122962
/* IMAGE OBJECT DEFINITIONS */
OBJECT = IMAGE
  INTERCHANGE_FORMAT = BINARY
  LINES = 28502
  LINE_SAMPLES = 6819
  SAMPLE_TYPE = UNSIGNED_INTEGER
  SAMPLE_BITS = 8
  BANDS = 1
  BAND_STORAGE_TYPE = BAND_SEQUENTIAL
  MAXIMUM = 255
  MEAN = 57.9059
  MINIMUM = 1
  STANDARD_DEVIATION = 15.6334
END_OBJECT = IMAGE
/* MAP OBJECT DEFINITIONS */
OBJECT = IMAGE_MAP_PROJECTION
  ^DATA_SET_MAP_PROJECTION_CATALOG= "DSMAP.CAT"
  A_AXIS_RADIUS = 3396.0
  B_AXIS_RADIUS = 3396.0
  C_AXIS_RADIUS = 3396.0
  CENTER_LATITUDE = 0.0
  CENTER_LONGITUDE = 176.0
  COORDINATE_SYSTEM_NAME = PLANETOGRAPHIC
  COORDINATE_SYSTEM_TYPE = "BODY-FIXED ROTATING"
  EASTERNMOST_LONGITUDE = 179.44
  FIRST_STANDARD_PARALLEL = "N/A"
  LINE_FIRST_PIXEL = 1
  LINE_LAST_PIXEL = 28502
  LINE_PROJECTION_OFFSET = 176883.25
  MAP_PROJECTION_ROTATION = 0.0
  MAP_PROJECTION_TYPE = SINUSOIDAL
  MAP_RESOLUTION = 2370.85521546667
  MAP_SCALE = 0.025
  MAXIMUM_LATITUDE = 74.66330000000001
  MINIMUM_LATITUDE = 62.5785
  POSITIVE_LONGITUDE_DIRECTION = EAST
  REFERENCE_LATITUDE = "N/A"
  REFERENCE_LONGITUDE = "N/A"
  SAMPLE_FIRST_PIXEL = 1
  SAMPLE_LAST_PIXEL = 6819
  SAMPLE_PROJECTION_OFFSET = 3057.75
  SECOND_STANDARD_PARALLEL = "N/A"
  WESTERNMOST_LONGITUDE = 171.242
END_OBJECT = IMAGE_MAP_PROJECTION
END
