PDS_VERSION_ID = PDS3
/* FILE DATA ELEMENTS */
RECORD_TYPE = UNDEFINED
/* POINTERS TO DATA OBJECTS */
^IMAGE = ("H5538_0000_RE4.TIF")
/* IDENTIFICATION DATA ELEMENTS */
DATA_SET_ID = "MEX-M-HRSC-4-REFDR-MAPPROJECT-EXT2-V4.0"
DATA_SET_NAME = "MARS EXPRESS HRSC MAP PROJECTED REFDR EXTENSION2 V4.0"
DETECTOR_ID = MEX_HRSC_RED
EVENT_TYPE = "MARS-REGIONAL-MAPPING-Vo-Gl-Eo"
INSTRUMENT_HOST_ID = MEX
INSTRUMENT_HOST_NAME = "MARS EXPRESS"
INSTRUMENT_ID = HRSC
INSTRUMENT_NAME = "HIGH RESOLUTION STEREO CAMERA"
MISSION_NAME = "MARS EXPRESS"
MISSION_PHASE_NAME = ME_Phase_12
PROCESSING_LEVEL_ID = 4
PRODUCT_CREATION_TIME = 2023-02-03T16:04:45.000Z
PRODUCT_ID = "H5538_0000_RE4.TIF"
RELEASE_ID = 0003
REVISION_ID = 0000
/* QUALITY DATA ELEMENTS */
DATA_QUALITY_ID = 1
DATA_QUALITY_DESC = "Data calculated based on original SPICE kernels"
/* TIME DATA ELEMENTS */
SPACECRAFT_CLOCK_START_COUNT = "1/0157153431.08391"
SPACECRAFT_CLOCK_STOP_COUNT = "1/0157153658.33656"
START_TIME = 2008-04-24T21:44:59.416Z
STOP_TIME = 2008-04-24T21:47:34.555Z
/* ORBITAL DATA ELEMENTS */
ASCENDING_NODE_LONGITUDE = 113.12
MAXIMUM_RESOLUTION = 0.0602
FOOTPRINT_POINT_LATITUDE = (85.4555,85.3116,85.0595,84.7996, 84.6211,84.6125,84.6439,84.4127,84.2495 ,84.0825,83.8411,83.6922,83.4636, 83.3081,83.1504,82.9904,82.8284,82.582, 82.4158,82.1635,81.9938,81.8227,81.6502 ,81.4767,81.3021,81.1265,80.9505, 80.6839,80.5049,80.235,80.0543,79.873, 79.6912,79.5088,79.3258,79.1424,78.9582 ,78.7736,78.5888,78.2179,77.9388, 77.5657,77.2851,77.0035,76.7211,76.2498 ,75.9682,75.8741,75.8462,75.9281, 75.9856,76.0635,76.1219,76.1241,76.1256 ,76.5125,76.8018,76.9952,77.2849,77.575 ,77.7683,77.9613,78.1536,78.3463, 78.6351,78.8275,79.0193,79.2113,79.4987 ,79.6904,79.882,80.1685,80.4541,80.739, 80.9286,81.2126,81.4001,81.5879,81.7754 ,82.0548,82.2409,82.4271,82.7022, 82.8859,83.0689,83.251,83.4322,83.6125, 83.7916,83.9698,84.1467,84.3224,84.4957 ,84.6681,84.859,85.055,85.2497,85.4406, 85.5343,85.4555)
FOOTPRINT_POINT_LONGITUDE = (227.305,225.077,221.679,218.688, 216.871,216.787,215.452,218.209,219.983 ,221.617,223.766,224.975,226.684, 227.757,228.779,229.756,230.688,232.01, 232.84,234.018,234.759,235.469,236.151, 236.803,237.429,238.029,238.601,239.425 ,239.949,240.699,241.174,241.632, 242.072,242.497,242.906,243.301,243.684 ,244.053,244.409,245.086,245.565, 246.168,246.596,247.006,247.399,248.013 ,248.354,248.465,248.498,249.824, 250.822,252.305,253.554,253.602,253.618 ,253.291,253.033,252.854,252.575, 252.283,252.081,251.871,251.655,251.431 ,251.081,250.837,250.584,250.322, 249.911,249.624,249.326,248.856,248.358 ,247.828,247.456,246.868,246.455, 246.022,245.569,244.85,244.341,243.806, 242.956,242.35,241.712,241.04,240.329, 239.578,238.783,237.939,237.044,236.093 ,235.082,234.003,232.699,231.227, 229.623,227.881,226.955,227.305)
ORBIT_NUMBER = 5538
ORBITAL_ECCENTRICITY = 0.568
ORBITAL_INCLINATION = 86.75
ORBITAL_SEMIMAJOR_AXIS = 8638.02
PERIAPSIS_ALTITUDE = 356.36
PERIAPSIS_ARGUMENT_ANGLE = 104.09
PERIAPSIS_TIME = 2008-04-24T21:47:15.000Z
SPACECRAFT_ORIENTATION = (0.0,-1.0,0.0)
^MEX_ORIENTATION_DESC = "MEX_ORIENTATION_DESC.TXT"
SPACECRAFT_POINTING_MODE = ACROSSTRACK
^MEX_POINTING_DESC = "MEX_POINTING_DESC.TXT"
RIGHT_ASCENSION = -1e+32
DECLINATION = -1e+32
OFFSET_ANGLE = -0.2
SPACECRAFT_SOLAR_DISTANCE = 2.48976e+08
TARGET_NAME = MARS
/* CAMERA DATA ELEMENTS */
DETECTOR_TEMPERATURE = 18.1666
FOCAL_PLANE_TEMPERATURE = 6.9521
INST_CMPRS_NAME = "DISCRETE COSINE TRANSFORMATION (DCT)"
INST_CMPRS_RATIO = 16.3062
INST_CMPRS_QUALITY = 0
INST_CMPRS_QUANTZ_TBL_ID = 0
INSTRUMENT_TEMPERATURE = 10.8262
LENS_TEMPERATURE = 7.5638
MACROPIXEL_SIZE = 4
MISSING_FRAMES = 0
PIXEL_SUBSAMPLING_FLAG = N
SIGNAL_CHAIN_ID = 2
/* RADIOMETRIC DATA ELEMENTS */
BANDWIDTH = 48.0
CENTER_FILTER_WAVELENGTH = 748.0
RADIANCE_OFFSET = 1.19969
RADIANCE_SCALING_FACTOR = 0.00705699
REFLECTANCE_SCALING_FACTOR = 0.000998304
MEX:REFLECTANCE_OFFSET = 0.169712
/* IMAGE OBJECT DEFINITIONS */
OBJECT = IMAGE
  INTERCHANGE_FORMAT = BINARY
  LINES = 11578
  LINE_SAMPLES = 5912
  SAMPLE_TYPE = UNSIGNED_INTEGER
  SAMPLE_BITS = 8
  BANDS = 1
  BAND_STORAGE_TYPE = BAND_SEQUENTIAL
  MAXIMUM = 255
  MEAN = 166.923
  MINIMUM = 1
  STANDARD_DEVIATION = 45.7749
END_OBJECT = IMAGE
/* MAP OBJECT DEFINITIONS */
OBJECT = IMAGE_MAP_PROJECTION
  ^DATA_SET_MAP_PROJECTION_CATALOG= "DSMAP.CAT"
  A_AXIS_RADIUS = 3396.0
  B_AXIS_RADIUS = 3396.0
  C_AXIS_RADIUS = 3396.0
  CENTER_LATITUDE = 0.0
  CENTER_LONGITUDE = 244.0
  COORDINATE_SYSTEM_NAME = PLANETOGRAPHIC
  COORDINATE_SYSTEM_TYPE = "BODY-FIXED ROTATING"
  EASTERNMOST_LONGITUDE = 253.618
  FIRST_STANDARD_PARALLEL = "N/A"
  LINE_FIRST_PIXEL = 1
  LINE_LAST_PIXEL = 11578
  LINE_PROJECTION_OFFSET = 101452.375
  MAP_PROJECTION_ROTATION = 0.0
  MAP_PROJECTION_TYPE = SINUSOIDAL
  MAP_RESOLUTION = 1185.42760773333
  MAP_SCALE = 0.05
  MAXIMUM_LATITUDE = 85.5343
  MINIMUM_LATITUDE = 75.8462
  POSITIVE_LONGITUDE_DIRECTION = EAST
  REFERENCE_LATITUDE = "N/A"
  REFERENCE_LONGITUDE = "N/A"
  SAMPLE_FIRST_PIXEL = 1
  SAMPLE_LAST_PIXEL = 5912
  SAMPLE_PROJECTION_OFFSET = 3176.625
  SECOND_STANDARD_PARALLEL = "N/A"
  WESTERNMOST_LONGITUDE = 215.452
END_OBJECT = IMAGE_MAP_PROJECTION
END
