PDS_VERSION_ID = PDS3
/* FILE DATA ELEMENTS */
RECORD_TYPE = UNDEFINED
/* POINTERS TO DATA OBJECTS */
^IMAGE = ("H5535_0000_S14.TIF")
/* IDENTIFICATION DATA ELEMENTS */
DATA_SET_ID = "MEX-M-HRSC-4-REFDR-MAPPROJECT-EXT2-V4.0"
DATA_SET_NAME = "MARS EXPRESS HRSC MAP PROJECTED REFDR EXTENSION2 V4.0"
DETECTOR_ID = MEX_HRSC_S1
EVENT_TYPE = "MARS-REGIONAL-MAPPING-Vo-Eo-Ts"
INSTRUMENT_HOST_ID = MEX
INSTRUMENT_HOST_NAME = "MARS EXPRESS"
INSTRUMENT_ID = HRSC
INSTRUMENT_NAME = "HIGH RESOLUTION STEREO CAMERA"
MISSION_NAME = "MARS EXPRESS"
MISSION_PHASE_NAME = ME_Phase_12
PROCESSING_LEVEL_ID = 4
PRODUCT_CREATION_TIME = 2023-02-03T16:04:45.000Z
PRODUCT_ID = "H5535_0000_S14.TIF"
RELEASE_ID = 0003
REVISION_ID = 0000
/* QUALITY DATA ELEMENTS */
DATA_QUALITY_ID = 1
DATA_QUALITY_DESC = "Data calculated based on original SPICE kernels"
/* TIME DATA ELEMENTS */
SPACECRAFT_CLOCK_START_COUNT = "1/0157079541.07291"
SPACECRAFT_CLOCK_STOP_COUNT = "1/0157079772.40940"
START_TIME = 2008-04-24T01:12:24.811Z
STOP_TIME = 2008-04-24T01:15:09.419Z
/* ORBITAL DATA ELEMENTS */
ASCENDING_NODE_LONGITUDE = 113.17
MAXIMUM_RESOLUTION = 0.0306
FOOTPRINT_POINT_LATITUDE = (85.3675,85.245,85.148,85.0448,84.9362, 84.8224,84.7039,84.6964,84.5794,84.4036 ,84.2243,84.0419,83.8566,83.6684, 83.4777,83.2845,83.0894,82.8921,82.6931 ,82.4923,82.2899,82.086,81.8806,81.6738 ,81.4658,81.2565,81.0461,80.7285, 80.5157,80.3021,79.9909,79.6286,79.2641 ,78.8975,78.3469,78.1619,77.8853, 77.6964,77.3259,77.1368,76.763,76.5751, 76.2938,76.105,75.9162,75.7265,75.5371, 75.2532,75.0637,74.9686,74.9327,74.9908 ,75.0198,75.046,75.079,75.1011,75.1021, 75.103,75.3927,75.7787,75.9716,76.1644, 76.4536,76.6466,76.8391,77.0307,77.2221 ,77.5083,77.6995,77.8911,78.0816, 78.2721,78.4623,78.8422,79.0323,79.2222 ,79.6009,79.9786,80.3549,80.5788, 80.9138,81.1366,81.4701,81.8026,82.0232 ,82.2432,82.4626,82.6815,82.8996, 83.1169,83.4415,83.6566,83.8708,84.0839 ,84.4013,84.6116,84.82,85.1299,85.2327, 85.3675)
FOOTPRINT_POINT_LONGITUDE = (180.081,176.939,174.776,172.716, 170.758,168.896,167.127,167.02,167.869, 169.285,170.614,171.863,173.037,174.144 ,175.186,176.17,177.098,177.975,178.804 ,179.59,180.334,181.041,181.711,182.349 ,182.956,183.533,184.084,184.862, 185.352,185.819,186.461,187.155,187.801 ,188.405,189.234,189.493,189.865, 190.108,190.563,190.783,191.2,191.4, 191.688,191.873,192.054,192.23,192.401, 192.647,192.806,192.884,192.914,194.264 ,195.02,195.785,196.9,197.785,197.834, 197.852,197.712,197.517,197.415,197.309 ,197.144,197.029,196.911,196.793, 196.671,196.483,196.35,196.21,196.07, 195.924,195.774,195.457,195.288,195.113 ,194.746,194.351,193.926,193.657, 193.229,192.926,192.44,191.914,191.541, 191.147,190.731,190.289,189.82,189.323, 188.513,187.93,187.307,186.639,185.546, 184.743,183.882,182.452,181.928, 180.081)
ORBIT_NUMBER = 5535
ORBITAL_ECCENTRICITY = 0.568
ORBITAL_INCLINATION = 86.75
ORBITAL_SEMIMAJOR_AXIS = 8637.77
PERIAPSIS_ALTITUDE = 356.37
PERIAPSIS_ARGUMENT_ANGLE = 104.63
PERIAPSIS_TIME = 2008-04-24T01:15:40.000Z
SPACECRAFT_ORIENTATION = (0.0,-1.0,0.0)
^MEX_ORIENTATION_DESC = "MEX_ORIENTATION_DESC.TXT"
SPACECRAFT_POINTING_MODE = ACROSSTRACK
^MEX_POINTING_DESC = "MEX_POINTING_DESC.TXT"
RIGHT_ASCENSION = -1e+32
DECLINATION = -1e+32
OFFSET_ANGLE = 0.539
SPACECRAFT_SOLAR_DISTANCE = 2.48953e+08
TARGET_NAME = MARS
/* CAMERA DATA ELEMENTS */
DETECTOR_TEMPERATURE = 16.9432
FOCAL_PLANE_TEMPERATURE = 7.156
INST_CMPRS_NAME = "DISCRETE COSINE TRANSFORMATION (DCT)"
INST_CMPRS_RATIO = 7.30597
INST_CMPRS_QUALITY = 0
INST_CMPRS_QUANTZ_TBL_ID = 0
INSTRUMENT_TEMPERATURE = 10.8262
LENS_TEMPERATURE = 7.3599
MACROPIXEL_SIZE = 2
MISSING_FRAMES = 0
PIXEL_SUBSAMPLING_FLAG = N
SIGNAL_CHAIN_ID = 1
/* RADIOMETRIC DATA ELEMENTS */
BANDWIDTH = 180.0
CENTER_FILTER_WAVELENGTH = 677.0
RADIANCE_OFFSET = 5.03054
RADIANCE_SCALING_FACTOR = 0.0276187
REFLECTANCE_SCALING_FACTOR = 0.000893053
MEX:REFLECTANCE_OFFSET = 0.162663
/* IMAGE OBJECT DEFINITIONS */
OBJECT = IMAGE
  INTERCHANGE_FORMAT = BINARY
  LINES = 24550
  LINE_SAMPLES = 9650
  SAMPLE_TYPE = UNSIGNED_INTEGER
  SAMPLE_BITS = 8
  BANDS = 1
  BAND_STORAGE_TYPE = BAND_SEQUENTIAL
  MAXIMUM = 255
  MEAN = 173.23
  MINIMUM = 1
  STANDARD_DEVIATION = 41.4971
END_OBJECT = IMAGE
/* MAP OBJECT DEFINITIONS */
OBJECT = IMAGE_MAP_PROJECTION
  ^DATA_SET_MAP_PROJECTION_CATALOG= "DSMAP.CAT"
  A_AXIS_RADIUS = 3396.0
  B_AXIS_RADIUS = 3396.0
  C_AXIS_RADIUS = 3396.0
  CENTER_LATITUDE = 0.0
  CENTER_LONGITUDE = 190.0
  COORDINATE_SYSTEM_NAME = PLANETOGRAPHIC
  COORDINATE_SYSTEM_TYPE = "BODY-FIXED ROTATING"
  EASTERNMOST_LONGITUDE = 197.852
  FIRST_STANDARD_PARALLEL = "N/A"
  LINE_FIRST_PIXEL = 1
  LINE_LAST_PIXEL = 24550
  LINE_PROJECTION_OFFSET = 202219.75
  MAP_PROJECTION_ROTATION = 0.0
  MAP_PROJECTION_TYPE = SINUSOIDAL
  MAP_RESOLUTION = 2370.85521546667
  MAP_SCALE = 0.025
  MAXIMUM_LATITUDE = 85.36750000000001
  MINIMUM_LATITUDE = 74.9327
  POSITIVE_LONGITUDE_DIRECTION = EAST
  REFERENCE_LATITUDE = "N/A"
  REFERENCE_LONGITUDE = "N/A"
  SAMPLE_FIRST_PIXEL = 1
  SAMPLE_LAST_PIXEL = 9650
  SAMPLE_PROJECTION_OFFSET = 4924.25
  SECOND_STANDARD_PARALLEL = "N/A"
  WESTERNMOST_LONGITUDE = 167.02
END_OBJECT = IMAGE_MAP_PROJECTION
END
