PDS_VERSION_ID = PDS3
/* FILE DATA ELEMENTS */
RECORD_TYPE = UNDEFINED
/* POINTERS TO DATA OBJECTS */
^IMAGE = ("H5535_0000_BL4.TIF")
/* IDENTIFICATION DATA ELEMENTS */
DATA_SET_ID = "MEX-M-HRSC-4-REFDR-MAPPROJECT-EXT2-V4.0"
DATA_SET_NAME = "MARS EXPRESS HRSC MAP PROJECTED REFDR EXTENSION2 V4.0"
DETECTOR_ID = MEX_HRSC_BLUE
EVENT_TYPE = "MARS-REGIONAL-MAPPING-Vo-Eo-Ts"
INSTRUMENT_HOST_ID = MEX
INSTRUMENT_HOST_NAME = "MARS EXPRESS"
INSTRUMENT_ID = HRSC
INSTRUMENT_NAME = "HIGH RESOLUTION STEREO CAMERA"
MISSION_NAME = "MARS EXPRESS"
MISSION_PHASE_NAME = ME_Phase_12
PROCESSING_LEVEL_ID = 4
PRODUCT_CREATION_TIME = 2023-02-03T16:04:45.000Z
PRODUCT_ID = "H5535_0000_BL4.TIF"
RELEASE_ID = 0003
REVISION_ID = 0000
/* QUALITY DATA ELEMENTS */
DATA_QUALITY_ID = 1
DATA_QUALITY_DESC = "Data calculated based on original SPICE kernels"
/* TIME DATA ELEMENTS */
SPACECRAFT_CLOCK_START_COUNT = "1/0157079541.07291"
SPACECRAFT_CLOCK_STOP_COUNT = "1/0157079772.40940"
START_TIME = 2008-04-24T01:13:06.423Z
STOP_TIME = 2008-04-24T01:15:47.186Z
/* ORBITAL DATA ELEMENTS */
ASCENDING_NODE_LONGITUDE = 113.17
MAXIMUM_RESOLUTION = 0.0576
FOOTPRINT_POINT_LATITUDE = (85.2481,85.1226,84.9307,84.722,84.5909 ,84.5839,84.5987,84.4112,84.22,84.0253, 83.8276,83.6272,83.4242,83.219,83.0116, 82.8023,82.5912,82.3809,82.0212,81.6578 ,81.2911,80.9216,80.5496,80.0814, 79.8932,79.7046,79.421,79.2314,79.0414, 78.851,78.6603,78.4691,78.2776,78.0859, 77.8938,77.6058,77.4131,77.1241,76.9306 ,76.5441,76.3502,76.1564,75.9625, 75.6713,75.3796,75.0876,74.9903,74.9381 ,75.0188,75.1031,75.1528,75.1544, 75.1558,75.4527,75.6507,75.9473,76.1451 ,76.3426,76.6389,76.9351,77.1328, 77.3303,77.5279,77.7252,78.0209,78.218, 78.415,78.7103,78.907,79.1034,79.3978, 79.594,79.79,79.9858,80.1815,80.377, 80.5723,80.7675,80.9624,81.1571,81.3515 ,81.5456,81.8362,82.0297,82.2228, 82.4155,82.6079,82.7998,83.1299,83.3573 ,83.584,83.8099,84.0347,84.2586,84.4812 ,84.7024,84.9224,85.1404,85.2485, 85.2481)
FOOTPRINT_POINT_LONGITUDE = (180.32,177.415,173.666,170.246,168.36, 168.264,168.036,169.531,170.928,172.235 ,173.458,174.604,175.679,176.688, 177.637,178.531,179.374,180.16,181.396, 182.523,183.553,184.499,185.368,186.361 ,186.731,187.087,187.597,187.921, 188.234,188.536,188.827,189.109,189.381 ,189.643,189.897,190.261,190.495, 190.831,191.048,191.459,191.656,191.846 ,192.031,192.298,192.554,192.799, 192.879,192.921,194.462,196.367,197.713 ,197.76,197.776,197.628,197.528,197.368 ,197.258,197.144,196.965,196.78,196.653 ,196.522,196.388,196.247,196.026, 195.873,195.715,195.468,195.295,195.114 ,194.83,194.632,194.427,194.213,193.991 ,193.76,193.519,193.268,193.006,192.732 ,192.446,192.145,191.668,191.332, 190.978,190.607,190.215,189.803,189.037 ,188.462,187.847,187.188,186.478, 185.713,184.886,183.989,183.017,181.955 ,181.385,180.32)
ORBIT_NUMBER = 5535
ORBITAL_ECCENTRICITY = 0.568
ORBITAL_INCLINATION = 86.75
ORBITAL_SEMIMAJOR_AXIS = 8637.77
PERIAPSIS_ALTITUDE = 356.37
PERIAPSIS_ARGUMENT_ANGLE = 104.63
PERIAPSIS_TIME = 2008-04-24T01:15:40.000Z
SPACECRAFT_ORIENTATION = (0.0,-1.0,0.0)
^MEX_ORIENTATION_DESC = "MEX_ORIENTATION_DESC.TXT"
SPACECRAFT_POINTING_MODE = ACROSSTRACK
^MEX_POINTING_DESC = "MEX_POINTING_DESC.TXT"
RIGHT_ASCENSION = -1e+32
DECLINATION = -1e+32
OFFSET_ANGLE = 0.539
SPACECRAFT_SOLAR_DISTANCE = 2.48953e+08
TARGET_NAME = MARS
/* CAMERA DATA ELEMENTS */
DETECTOR_TEMPERATURE = 17.7588
FOCAL_PLANE_TEMPERATURE = 7.156
INST_CMPRS_NAME = "DISCRETE COSINE TRANSFORMATION (DCT)"
INST_CMPRS_RATIO = 10.9459
INST_CMPRS_QUALITY = 0
INST_CMPRS_QUANTZ_TBL_ID = 0
INSTRUMENT_TEMPERATURE = 10.8262
LENS_TEMPERATURE = 7.3599
MACROPIXEL_SIZE = 4
MISSING_FRAMES = 0
PIXEL_SUBSAMPLING_FLAG = N
SIGNAL_CHAIN_ID = 2
/* RADIOMETRIC DATA ELEMENTS */
BANDWIDTH = 76.0
CENTER_FILTER_WAVELENGTH = 444.0
RADIANCE_OFFSET = 0.955462
RADIANCE_SCALING_FACTOR = 0.00713697
REFLECTANCE_SCALING_FACTOR = 0.000454466
MEX:REFLECTANCE_OFFSET = 0.0608416
/* IMAGE OBJECT DEFINITIONS */
OBJECT = IMAGE
  INTERCHANGE_FORMAT = BINARY
  LINES = 12275
  LINE_SAMPLES = 4825
  SAMPLE_TYPE = UNSIGNED_INTEGER
  SAMPLE_BITS = 8
  BANDS = 1
  BAND_STORAGE_TYPE = BAND_SEQUENTIAL
  MAXIMUM = 254
  MEAN = 162.591
  MINIMUM = 1
  STANDARD_DEVIATION = 42.1671
END_OBJECT = IMAGE
/* MAP OBJECT DEFINITIONS */
OBJECT = IMAGE_MAP_PROJECTION
  ^DATA_SET_MAP_PROJECTION_CATALOG= "DSMAP.CAT"
  A_AXIS_RADIUS = 3396.0
  B_AXIS_RADIUS = 3396.0
  C_AXIS_RADIUS = 3396.0
  CENTER_LATITUDE = 0.0
  CENTER_LONGITUDE = 190.0
  COORDINATE_SYSTEM_NAME = PLANETOGRAPHIC
  COORDINATE_SYSTEM_TYPE = "BODY-FIXED ROTATING"
  EASTERNMOST_LONGITUDE = 197.776
  FIRST_STANDARD_PARALLEL = "N/A"
  LINE_FIRST_PIXEL = 1
  LINE_LAST_PIXEL = 12275
  LINE_PROJECTION_OFFSET = 101109.625
  MAP_PROJECTION_ROTATION = 0.0
  MAP_PROJECTION_TYPE = SINUSOIDAL
  MAP_RESOLUTION = 1185.42760773333
  MAP_SCALE = 0.05
  MAXIMUM_LATITUDE = 85.24850000000001
  MINIMUM_LATITUDE = 74.93810000000001
  POSITIVE_LONGITUDE_DIRECTION = EAST
  REFERENCE_LATITUDE = "N/A"
  REFERENCE_LONGITUDE = "N/A"
  SAMPLE_FIRST_PIXEL = 1
  SAMPLE_LAST_PIXEL = 4825
  SAMPLE_PROJECTION_OFFSET = 2461.875
  SECOND_STANDARD_PARALLEL = "N/A"
  WESTERNMOST_LONGITUDE = 168.036
END_OBJECT = IMAGE_MAP_PROJECTION
END
