PDS_VERSION_ID = PDS3
/* FILE DATA ELEMENTS */
RECORD_TYPE = UNDEFINED
/* POINTERS TO DATA OBJECTS */
^IMAGE = ("H5525_0000_BL4.TIF")
/* IDENTIFICATION DATA ELEMENTS */
DATA_SET_ID = "MEX-M-HRSC-4-REFDR-MAPPROJECT-EXT2-V4.0"
DATA_SET_NAME = "MARS EXPRESS HRSC MAP PROJECTED REFDR EXTENSION2 V4.0"
DETECTOR_ID = MEX_HRSC_BLUE
EVENT_TYPE = "MARS-REGIONAL-MAPPING-Vo-Te-Gl"
INSTRUMENT_HOST_ID = MEX
INSTRUMENT_HOST_NAME = "MARS EXPRESS"
INSTRUMENT_ID = HRSC
INSTRUMENT_NAME = "HIGH RESOLUTION STEREO CAMERA"
MISSION_NAME = "MARS EXPRESS"
MISSION_PHASE_NAME = ME_Phase_12
PROCESSING_LEVEL_ID = 4
PRODUCT_CREATION_TIME = 2023-02-03T16:04:45.000Z
PRODUCT_ID = "H5525_0000_BL4.TIF"
RELEASE_ID = 0003
REVISION_ID = 0000
/* QUALITY DATA ELEMENTS */
DATA_QUALITY_ID = 1
DATA_QUALITY_DESC = "Data calculated based on original SPICE kernels"
/* TIME DATA ELEMENTS */
SPACECRAFT_CLOCK_START_COUNT = "1/0156833346.09044"
SPACECRAFT_CLOCK_STOP_COUNT = "1/0156833635.47626"
START_TIME = 2008-04-21T04:49:48.276Z
STOP_TIME = 2008-04-21T04:53:27.585Z
/* ORBITAL DATA ELEMENTS */
ASCENDING_NODE_LONGITUDE = 113.38
MAXIMUM_RESOLUTION = 0.0574
FOOTPRINT_POINT_LATITUDE = (76.7998,76.6997,76.5312,76.5283, 76.5398,76.2744,76.0086,75.609,75.2085, 74.941,74.5392,74.2709,74.0023,73.7334, 73.3297,73.0602,72.7906,72.5207,72.2507 ,71.9805,71.7101,71.4397,71.1691, 70.8984,70.6277,70.3568,70.0859,69.8149 ,69.5438,69.2728,68.8661,68.595,68.3238 ,68.0527,67.7816,67.2395,66.6975, 66.1558,65.479,64.938,64.4763,64.1539, 63.8316,63.5096,63.1878,62.8661,62.7054 ,62.6475,62.7153,62.7493,62.7713, 62.7722,62.7735,63.0968,63.4203,63.7442 ,64.0682,64.3926,64.7171,65.0288, 65.5734,66.1186,66.3914,66.6643,66.9373 ,67.2104,67.4836,67.757,68.0304,68.3039 ,68.5775,68.8511,69.1248,69.3986, 69.6725,69.9464,70.2202,70.4941,70.905, 71.3161,71.59,71.864,72.1379,72.4119, 72.6858,72.9597,73.2335,73.5072,73.9177 ,74.328,74.6014,75.0112,75.2843,75.5572 ,75.8299,76.1026,76.375,76.6472,76.7832 ,76.7998)
FOOTPRINT_POINT_LONGITUDE = (114.635,112.568,109.713,109.667, 109.461,109.784,110.094,110.536,110.953 ,111.218,111.597,111.838,112.07,112.294 ,112.615,112.82,113.018,113.209,113.394 ,113.573,113.746,113.913,114.075, 114.232,114.383,114.53,114.673,114.811, 114.945,115.075,115.262,115.383,115.5, 115.613,115.724,115.934,116.134,116.322 ,116.544,116.71,116.845,116.936,117.024 ,117.108,117.191,117.27,117.309,117.323 ,118.722,119.56,120.183,120.21,120.219, 120.161,120.102,120.041,119.979,119.915 ,119.849,119.783,119.665,119.54,119.476 ,119.409,119.341,119.271,119.199, 119.126,119.05,118.972,118.892,118.81, 118.726,118.639,118.55,118.458,118.363, 118.265,118.113,117.954,117.844,117.73, 117.612,117.491,117.366,117.236,117.102 ,116.963,116.746,116.517,116.357, 116.105,115.93,115.747,115.558,115.361, 115.155,114.941,114.831,114.635)
ORBIT_NUMBER = 5525
ORBITAL_ECCENTRICITY = 0.568
ORBITAL_INCLINATION = 86.75
ORBITAL_SEMIMAJOR_AXIS = 8642.43
PERIAPSIS_ALTITUDE = 355.93
PERIAPSIS_ARGUMENT_ANGLE = 106.37
PERIAPSIS_TIME = 2008-04-21T04:50:36.000Z
SPACECRAFT_ORIENTATION = (0.0,-1.0,0.0)
^MEX_ORIENTATION_DESC = "MEX_ORIENTATION_DESC.TXT"
SPACECRAFT_POINTING_MODE = NADIR
^MEX_POINTING_DESC = "MEX_POINTING_DESC.TXT"
RIGHT_ASCENSION = -1e+32
DECLINATION = -1e+32
OFFSET_ANGLE = -1e+32
SPACECRAFT_SOLAR_DISTANCE = 2.48866e+08
TARGET_NAME = MARS
/* CAMERA DATA ELEMENTS */
DETECTOR_TEMPERATURE = 17.9627
FOCAL_PLANE_TEMPERATURE = 7.156
INST_CMPRS_NAME = "DISCRETE COSINE TRANSFORMATION (DCT)"
INST_CMPRS_RATIO = 9.96579
INST_CMPRS_QUALITY = 0
INST_CMPRS_QUANTZ_TBL_ID = 0
INSTRUMENT_TEMPERATURE = 10.6223
LENS_TEMPERATURE = 7.3599
MACROPIXEL_SIZE = 4
MISSING_FRAMES = 0
PIXEL_SUBSAMPLING_FLAG = N
SIGNAL_CHAIN_ID = 2
/* RADIOMETRIC DATA ELEMENTS */
BANDWIDTH = 76.0
CENTER_FILTER_WAVELENGTH = 444.0
RADIANCE_OFFSET = 0.583798
RADIANCE_SCALING_FACTOR = 0.00699196
REFLECTANCE_SCALING_FACTOR = 0.000444925
MEX:REFLECTANCE_OFFSET = 0.0371493
/* IMAGE OBJECT DEFINITIONS */
OBJECT = IMAGE
  INTERCHANGE_FORMAT = BINARY
  LINES = 16824
  LINE_SAMPLES = 3833
  SAMPLE_TYPE = UNSIGNED_INTEGER
  SAMPLE_BITS = 8
  BANDS = 1
  BAND_STORAGE_TYPE = BAND_SEQUENTIAL
  MAXIMUM = 255
  MEAN = 88.949
  MINIMUM = 1
  STANDARD_DEVIATION = 103.749
END_OBJECT = IMAGE
/* MAP OBJECT DEFINITIONS */
OBJECT = IMAGE_MAP_PROJECTION
  ^DATA_SET_MAP_PROJECTION_CATALOG= "DSMAP.CAT"
  A_AXIS_RADIUS = 3396.0
  B_AXIS_RADIUS = 3396.0
  C_AXIS_RADIUS = 3396.0
  CENTER_LATITUDE = 0.0
  CENTER_LONGITUDE = 117.0
  COORDINATE_SYSTEM_NAME = PLANETOGRAPHIC
  COORDINATE_SYSTEM_TYPE = "BODY-FIXED ROTATING"
  EASTERNMOST_LONGITUDE = 120.219
  FIRST_STANDARD_PARALLEL = "N/A"
  LINE_FIRST_PIXEL = 1
  LINE_LAST_PIXEL = 16824
  LINE_PROJECTION_OFFSET = 91084.125
  MAP_PROJECTION_ROTATION = 0.0
  MAP_PROJECTION_TYPE = SINUSOIDAL
  MAP_RESOLUTION = 1185.42760773333
  MAP_SCALE = 0.05
  MAXIMUM_LATITUDE = 76.7998
  MINIMUM_LATITUDE = 62.6475
  POSITIVE_LONGITUDE_DIRECTION = EAST
  REFERENCE_LATITUDE = "N/A"
  REFERENCE_LONGITUDE = "N/A"
  SAMPLE_FIRST_PIXEL = 1
  SAMPLE_LAST_PIXEL = 3833
  SAMPLE_PROJECTION_OFFSET = 2090.375
  SECOND_STANDARD_PARALLEL = "N/A"
  WESTERNMOST_LONGITUDE = 109.461
END_OBJECT = IMAGE_MAP_PROJECTION
END
