PDS_VERSION_ID = PDS3
/* FILE DATA ELEMENTS */
RECORD_TYPE = UNDEFINED
/* POINTERS TO DATA OBJECTS */
^IMAGE = ("H5524_0000_S14.TIF")
/* IDENTIFICATION DATA ELEMENTS */
DATA_SET_ID = "MEX-M-HRSC-4-REFDR-MAPPROJECT-EXT2-V4.0"
DATA_SET_NAME = "MARS EXPRESS HRSC MAP PROJECTED REFDR EXTENSION2 V4.0"
DETECTOR_ID = MEX_HRSC_S1
EVENT_TYPE = "MARS-REGIONAL-MAPPING-Im-Gl-Pf"
INSTRUMENT_HOST_ID = MEX
INSTRUMENT_HOST_NAME = "MARS EXPRESS"
INSTRUMENT_ID = HRSC
INSTRUMENT_NAME = "HIGH RESOLUTION STEREO CAMERA"
MISSION_NAME = "MARS EXPRESS"
MISSION_PHASE_NAME = ME_Phase_12
PROCESSING_LEVEL_ID = 4
PRODUCT_CREATION_TIME = 2023-02-03T16:04:45.000Z
PRODUCT_ID = "H5524_0000_S14.TIF"
RELEASE_ID = 0003
REVISION_ID = 0000
/* QUALITY DATA ELEMENTS */
DATA_QUALITY_ID = 1
DATA_QUALITY_DESC = "Data calculated based on original SPICE kernels"
/* TIME DATA ELEMENTS */
SPACECRAFT_CLOCK_START_COUNT = "1/0156808660.08240"
SPACECRAFT_CLOCK_STOP_COUNT = "1/0156808908.08284"
START_TIME = 2008-04-20T21:57:43.835Z
STOP_TIME = 2008-04-20T22:00:44.567Z
/* ORBITAL DATA ELEMENTS */
ASCENDING_NODE_LONGITUDE = 113.39
MAXIMUM_RESOLUTION = 0.0304
FOOTPRINT_POINT_LATITUDE = (80.0162,79.9458,79.8201,79.6344,79.63, 79.4808,79.2319,78.9814,78.6153,78.1917 ,77.7657,77.5513,77.3363,77.1206, 76.7963,76.5795,76.3624,76.0361,75.7071 ,75.378,75.1583,74.938,74.6067,74.3857, 73.942,73.6081,73.3851,73.1622,72.9385, 72.7154,72.4903,72.2668,72.0412,71.8163 ,71.591,71.3653,71.0265,70.8003,70.4608 ,70.2338,70.0068,69.7795,69.4382,69.097 ,68.8688,68.6405,68.4118,68.2976, 68.2596,68.3076,68.3711,68.4274,68.4286 ,68.4295,68.6603,68.8908,69.121,69.3515 ,69.5813,69.8108,70.041,70.2711,70.616, 70.9596,71.1889,71.4175,71.6453,71.8742 ,72.1029,72.3308,72.5593,72.7873, 73.0143,73.3559,73.5832,73.8092,74.0353 ,74.2627,74.4886,74.8272,75.053,75.3916 ,75.7289,75.9541,76.1775,76.4013, 76.6265,76.9579,77.1819,77.4041,77.7386 ,77.9595,78.2909,78.6211,78.8411, 79.0634,79.3253,79.7169,79.847,80.0162)
FOOTPRINT_POINT_LONGITUDE = (211.299,209.835,207.552,204.706, 204.644,204.689,205.212,205.712,206.4, 207.137,207.823,208.148,208.462,208.765 ,209.2,209.479,209.748,210.135,210.505, 210.857,211.082,211.301,211.617,211.82, 212.208,212.485,212.663,212.836,213.004 ,213.167,213.326,213.481,213.631, 213.777,213.92,214.059,214.261,214.391, 214.58,214.702,214.82,214.936,215.105, 215.268,215.373,215.475,215.575,215.624 ,215.641,216.457,217.672,218.994, 219.027,219.039,218.973,218.905,218.836 ,218.765,218.692,218.619,218.542, 218.463,218.342,218.217,218.131,218.043 ,217.953,217.86,217.764,217.667,217.565 ,217.462,217.357,217.191,217.077, 216.961,216.842,216.716,216.589,216.391 ,216.253,216.038,215.813,215.656, 215.498,215.332,215.157,214.896,214.707 ,214.514,214.207,213.998,213.667, 213.317,213.072,212.813,212.493,211.983 ,211.805,211.299)
ORBIT_NUMBER = 5524
ORBITAL_ECCENTRICITY = 0.568
ORBITAL_INCLINATION = 86.76
ORBITAL_SEMIMAJOR_AXIS = 8638.72
PERIAPSIS_ALTITUDE = 355.26
PERIAPSIS_ARGUMENT_ANGLE = 106.55
PERIAPSIS_TIME = 2008-04-20T22:00:02.000Z
SPACECRAFT_ORIENTATION = (0.0,-1.0,0.0)
^MEX_ORIENTATION_DESC = "MEX_ORIENTATION_DESC.TXT"
SPACECRAFT_POINTING_MODE = NADIR
^MEX_POINTING_DESC = "MEX_POINTING_DESC.TXT"
RIGHT_ASCENSION = -1e+32
DECLINATION = -1e+32
OFFSET_ANGLE = -1e+32
SPACECRAFT_SOLAR_DISTANCE = 2.48857e+08
TARGET_NAME = MARS
/* CAMERA DATA ELEMENTS */
DETECTOR_TEMPERATURE = 17.9627
FOCAL_PLANE_TEMPERATURE = 6.9521
INST_CMPRS_NAME = "DISCRETE COSINE TRANSFORMATION (DCT)"
INST_CMPRS_RATIO = 11.4439
INST_CMPRS_QUALITY = 0
INST_CMPRS_QUANTZ_TBL_ID = 0
INSTRUMENT_TEMPERATURE = 10.4184
LENS_TEMPERATURE = 7.5638
MACROPIXEL_SIZE = 2
MISSING_FRAMES = 0
PIXEL_SUBSAMPLING_FLAG = N
SIGNAL_CHAIN_ID = 1
/* RADIOMETRIC DATA ELEMENTS */
BANDWIDTH = 180.0
CENTER_FILTER_WAVELENGTH = 677.0
RADIANCE_OFFSET = 4.11884
RADIANCE_SCALING_FACTOR = 0.0347896
REFLECTANCE_SCALING_FACTOR = 0.00112406
MEX:REFLECTANCE_OFFSET = 0.133081
/* IMAGE OBJECT DEFINITIONS */
OBJECT = IMAGE
  INTERCHANGE_FORMAT = BINARY
  LINES = 27554
  LINE_SAMPLES = 8402
  SAMPLE_TYPE = UNSIGNED_INTEGER
  SAMPLE_BITS = 8
  BANDS = 1
  BAND_STORAGE_TYPE = BAND_SEQUENTIAL
  MAXIMUM = 255
  MEAN = 88.4088
  MINIMUM = 1
  STANDARD_DEVIATION = 56.939
END_OBJECT = IMAGE
/* MAP OBJECT DEFINITIONS */
OBJECT = IMAGE_MAP_PROJECTION
  ^DATA_SET_MAP_PROJECTION_CATALOG= "DSMAP.CAT"
  A_AXIS_RADIUS = 3396.0
  B_AXIS_RADIUS = 3396.0
  C_AXIS_RADIUS = 3396.0
  CENTER_LATITUDE = 0.0
  CENTER_LONGITUDE = 214.0
  COORDINATE_SYSTEM_NAME = PLANETOGRAPHIC
  COORDINATE_SYSTEM_TYPE = "BODY-FIXED ROTATING"
  EASTERNMOST_LONGITUDE = 219.039
  FIRST_STANDARD_PARALLEL = "N/A"
  LINE_FIRST_PIXEL = 1
  LINE_LAST_PIXEL = 27554
  LINE_PROJECTION_OFFSET = 189435.75
  MAP_PROJECTION_ROTATION = 0.0
  MAP_PROJECTION_TYPE = SINUSOIDAL
  MAP_RESOLUTION = 2370.85521546667
  MAP_SCALE = 0.025
  MAXIMUM_LATITUDE = 80.0162
  MINIMUM_LATITUDE = 68.25960000000001
  POSITIVE_LONGITUDE_DIRECTION = EAST
  REFERENCE_LATITUDE = "N/A"
  REFERENCE_LONGITUDE = "N/A"
  SAMPLE_FIRST_PIXEL = 1
  SAMPLE_LAST_PIXEL = 8402
  SAMPLE_PROJECTION_OFFSET = 4019.75
  SECOND_STANDARD_PARALLEL = "N/A"
  WESTERNMOST_LONGITUDE = 204.644
END_OBJECT = IMAGE_MAP_PROJECTION
END
