PDS_VERSION_ID = PDS3
/* FILE DATA ELEMENTS */
RECORD_TYPE = UNDEFINED
/* POINTERS TO DATA OBJECTS */
^IMAGE = ("H5517_0000_ND4.TIF")
/* IDENTIFICATION DATA ELEMENTS */
DATA_SET_ID = "MEX-M-HRSC-4-REFDR-MAPPROJECT-EXT2-V4.0"
DATA_SET_NAME = "MARS EXPRESS HRSC MAP PROJECTED REFDR EXTENSION2 V4.0"
DETECTOR_ID = MEX_HRSC_NADIR
EVENT_TYPE = "MARS-REGIONAL-MAPPING-Vo-Eo-Ts"
INSTRUMENT_HOST_ID = MEX
INSTRUMENT_HOST_NAME = "MARS EXPRESS"
INSTRUMENT_ID = HRSC
INSTRUMENT_NAME = "HIGH RESOLUTION STEREO CAMERA"
MISSION_NAME = "MARS EXPRESS"
MISSION_PHASE_NAME = ME_Phase_12
PROCESSING_LEVEL_ID = 4
PRODUCT_CREATION_TIME = 2023-02-03T16:04:45.000Z
PRODUCT_ID = "H5517_0000_ND4.TIF"
RELEASE_ID = 0003
REVISION_ID = 0000
/* QUALITY DATA ELEMENTS */
DATA_QUALITY_ID = 1
DATA_QUALITY_DESC = "Data calculated based on original SPICE kernels"
/* TIME DATA ELEMENTS */
SPACECRAFT_CLOCK_START_COUNT = "1/0156636226.09067"
SPACECRAFT_CLOCK_STOP_COUNT = "1/0156636447.23480"
START_TIME = 2008-04-18T22:04:24.482Z
STOP_TIME = 2008-04-18T22:06:56.479Z
/* ORBITAL DATA ELEMENTS */
ASCENDING_NODE_LONGITUDE = 113.53
MAXIMUM_RESOLUTION = 0.0143
FOOTPRINT_POINT_LATITUDE = (79.939,79.8162,79.6788,79.6047,79.5067 ,79.5017,79.4689,79.2588,78.9458, 78.5895,78.2308,77.8701,77.5075,77.1432 ,76.777,76.4092,76.0402,75.6699,75.2984 ,74.9258,74.7391,74.5521,74.365,74.1776 ,73.99,73.8022,73.6142,73.426,73.2375, 73.0489,72.8602,72.6712,72.4822,72.2929 ,72.1036,71.9141,71.7245,71.4398, 71.2499,70.9648,70.7735,70.5838,70.3937 ,70.2031,70.1078,70.099,70.1514,70.191, 70.2531,70.2862,70.3154,70.3171,70.3182 ,70.5113,70.7044,70.8975,71.0905, 71.2835,71.4764,71.6693,71.8622,72.055, 72.344,72.5366,72.7292,72.9217,73.1141, 73.3064,73.4986,73.6908,73.8828,74.0748 ,74.2666,74.4584,74.65,74.8415,75.0329, 75.2241,75.4152,75.6062,75.797,75.9877, 76.1782,76.3686,76.5587,76.7488,76.9386 ,77.1282,77.3175,77.5067,77.6957, 77.8844,78.2612,78.6369,79.0114,79.3846 ,79.6011,79.8226,79.9332,79.939)
FOOTPRINT_POINT_LONGITUDE = (188.735,186.659,184.61,183.596,182.338 ,182.276,181.848,182.364,183.093, 183.869,184.595,185.279,185.922,186.53, 187.098,187.635,188.144,188.626,189.082 ,189.515,189.723,189.925,190.123, 190.316,190.504,190.688,190.866,191.042 ,191.21,191.376,191.539,191.697,191.852 ,192.003,192.152,192.296,192.438, 192.644,192.778,192.973,193.083,193.216 ,193.343,193.46,193.518,193.523,194.295 ,194.918,195.975,196.592,197.17,197.206 ,197.224,197.14,197.054,196.966,196.876 ,196.785,196.691,196.596,196.498, 196.398,196.244,196.138,196.03,195.919, 195.806,195.69,195.571,195.449,195.325, 195.197,195.066,194.931,194.794,194.652 ,194.507,194.359,194.206,194.049, 193.887,193.722,193.551,193.376,193.195 ,193.01,192.819,192.622,192.419,192.21, 191.995,191.773,191.307,190.81,190.279, 189.709,189.359,188.985,188.791, 188.735)
ORBIT_NUMBER = 5517
ORBITAL_ECCENTRICITY = 0.568
ORBITAL_INCLINATION = 86.76
ORBITAL_SEMIMAJOR_AXIS = 8640.2
PERIAPSIS_ALTITUDE = 355.29
PERIAPSIS_ARGUMENT_ANGLE = 107.79
PERIAPSIS_TIME = 2008-04-18T22:06:31.000Z
SPACECRAFT_ORIENTATION = (0.0,-1.0,0.0)
^MEX_ORIENTATION_DESC = "MEX_ORIENTATION_DESC.TXT"
SPACECRAFT_POINTING_MODE = ACROSSTRACK
^MEX_POINTING_DESC = "MEX_POINTING_DESC.TXT"
RIGHT_ASCENSION = -1e+32
DECLINATION = -1e+32
OFFSET_ANGLE = -0.499
SPACECRAFT_SOLAR_DISTANCE = 2.48788e+08
TARGET_NAME = MARS
/* CAMERA DATA ELEMENTS */
DETECTOR_TEMPERATURE = 17.5549
FOCAL_PLANE_TEMPERATURE = 6.9521
INST_CMPRS_NAME = "DISCRETE COSINE TRANSFORMATION (DCT)"
INST_CMPRS_RATIO = 6.26927
INST_CMPRS_QUALITY = 0
INST_CMPRS_QUANTZ_TBL_ID = 0
INSTRUMENT_TEMPERATURE = 10.4184
LENS_TEMPERATURE = 7.156
MACROPIXEL_SIZE = 1
MISSING_FRAMES = 0
PIXEL_SUBSAMPLING_FLAG = N
SIGNAL_CHAIN_ID = 0
/* RADIOMETRIC DATA ELEMENTS */
BANDWIDTH = 177.0
CENTER_FILTER_WAVELENGTH = 677.5
RADIANCE_OFFSET = 2.40536
RADIANCE_SCALING_FACTOR = 0.0418724
REFLECTANCE_SCALING_FACTOR = 0.0013768
MEX:REFLECTANCE_OFFSET = 0.0790906
/* IMAGE OBJECT DEFINITIONS */
OBJECT = IMAGE
  INTERCHANGE_FORMAT = BINARY
  LINES = 46679
  LINE_SAMPLES = 17142
  SAMPLE_TYPE = UNSIGNED_INTEGER
  SAMPLE_BITS = 8
  BANDS = 1
  BAND_STORAGE_TYPE = BAND_SEQUENTIAL
  MAXIMUM = 255
  MEAN = 110.076
  MINIMUM = 1
  STANDARD_DEVIATION = 54.36
END_OBJECT = IMAGE
/* MAP OBJECT DEFINITIONS */
OBJECT = IMAGE_MAP_PROJECTION
  ^DATA_SET_MAP_PROJECTION_CATALOG= "DSMAP.CAT"
  A_AXIS_RADIUS = 3396.0
  B_AXIS_RADIUS = 3396.0
  C_AXIS_RADIUS = 3396.0
  CENTER_LATITUDE = 0.0
  CENTER_LONGITUDE = 192.0
  COORDINATE_SYSTEM_NAME = PLANETOGRAPHIC
  COORDINATE_SYSTEM_TYPE = "BODY-FIXED ROTATING"
  EASTERNMOST_LONGITUDE = 197.224
  FIRST_STANDARD_PARALLEL = "N/A"
  LINE_FIRST_PIXEL = 1
  LINE_LAST_PIXEL = 46679
  LINE_PROJECTION_OFFSET = 379068.0
  MAP_PROJECTION_ROTATION = 0.0
  MAP_PROJECTION_TYPE = SINUSOIDAL
  MAP_RESOLUTION = 4741.71043093333
  MAP_SCALE = 0.0125
  MAXIMUM_LATITUDE = 79.93899999999999
  MINIMUM_LATITUDE = 70.099
  POSITIVE_LONGITUDE_DIRECTION = EAST
  REFERENCE_LATITUDE = "N/A"
  REFERENCE_LONGITUDE = "N/A"
  SAMPLE_FIRST_PIXEL = 1
  SAMPLE_LAST_PIXEL = 17142
  SAMPLE_PROJECTION_OFFSET = 8798.0
  SECOND_STANDARD_PARALLEL = "N/A"
  WESTERNMOST_LONGITUDE = 181.848
END_OBJECT = IMAGE_MAP_PROJECTION
END
