PDS_VERSION_ID = PDS3
/* FILE DATA ELEMENTS */
RECORD_TYPE = UNDEFINED
/* POINTERS TO DATA OBJECTS */
^IMAGE = ("H5511_0000_S24.TIF")
/* IDENTIFICATION DATA ELEMENTS */
DATA_SET_ID = "MEX-M-HRSC-4-REFDR-MAPPROJECT-EXT2-V4.0"
DATA_SET_NAME = "MARS EXPRESS HRSC MAP PROJECTED REFDR EXTENSION2 V4.0"
DETECTOR_ID = MEX_HRSC_S2
EVENT_TYPE = "MARS-REGIONAL-MAPPING-Gl-Pf-Eo"
INSTRUMENT_HOST_ID = MEX
INSTRUMENT_HOST_NAME = "MARS EXPRESS"
INSTRUMENT_ID = HRSC
INSTRUMENT_NAME = "HIGH RESOLUTION STEREO CAMERA"
MISSION_NAME = "MARS EXPRESS"
MISSION_PHASE_NAME = ME_Phase_12
PROCESSING_LEVEL_ID = 4
PRODUCT_CREATION_TIME = 2023-02-03T16:04:45.000Z
PRODUCT_ID = "H5511_0000_S24.TIF"
RELEASE_ID = 0003
REVISION_ID = 0000
/* QUALITY DATA ELEMENTS */
DATA_QUALITY_ID = 1
DATA_QUALITY_DESC = "Data calculated based on original SPICE kernels"
/* TIME DATA ELEMENTS */
SPACECRAFT_CLOCK_START_COUNT = "1/0156488368.08249"
SPACECRAFT_CLOCK_STOP_COUNT = "1/0156488592.49478"
START_TIME = 2008-04-17T05:00:44.348Z
STOP_TIME = 2008-04-17T05:03:14.492Z
/* ORBITAL DATA ELEMENTS */
ASCENDING_NODE_LONGITUDE = 113.65
MAXIMUM_RESOLUTION = 0.0305
FOOTPRINT_POINT_LATITUDE = (83.5995,83.4813,83.3935,83.2296, 83.1303,83.007,83.0004,83.0911,82.8121, 82.5275,82.3346,82.1387,81.9424,81.7458 ,81.5462,81.3464,81.0457,80.8505, 80.6791,80.5076,80.3357,80.1626,79.9891 ,79.8149,79.5529,79.2901,79.1142, 78.9375,78.7607,78.5835,78.4058,78.2281 ,78.05,77.8715,77.6927,77.5138,77.3346, 77.0653,76.7954,76.5252,76.1644,75.9836 ,75.6217,75.3499,74.8964,74.5331, 74.0788,73.9878,73.9636,74.0078,74.0938 ,74.1414,74.1942,74.1959,74.197,74.5681 ,74.9383,75.3091,75.4942,75.6794, 75.8646,76.0498,76.2351,76.5127,76.7902 ,76.9752,77.1602,77.4375,77.6223, 77.8069,77.9916,78.1763,78.3606,78.545, 78.7291,78.9135,79.0976,79.2814,79.465, 79.6485,79.8316,80.0148,80.1978,80.3807 ,80.5636,80.8375,81.0189,81.29,81.5966, 81.8127,82.1332,82.347,82.5611,82.7718, 82.9837,83.1951,83.4036,83.6126,83.7168 ,83.5995)
FOOTPRINT_POINT_LONGITUDE = (63.4522,61.167,59.6258,57.0266,55.5964 ,53.9475,53.8622,52.9235,54.4359, 55.8409,56.724,57.5715,58.3683,59.1179, 59.8422,60.5256,61.4843,62.0747,62.568, 63.0403,63.494,63.9346,64.3585,64.7677, 65.3548,65.9107,66.2668,66.6124,66.9455 ,67.268,67.5807,67.8829,68.1756,68.4597 ,68.735,69.0016,69.2606,69.6351,69.9936 ,70.3364,70.7715,70.9804,71.381,71.6675 ,72.1202,72.4618,72.8646,72.9421, 72.9626,73.6999,75.2736,76.2432,77.44, 77.4843,77.5001,77.2889,77.0663,76.8321 ,76.7102,76.585,76.4564,76.3243,76.1885 ,75.9774,75.7571,75.6049,75.4481, 75.2039,75.0348,74.8604,74.6805,74.4949 ,74.3031,74.105,73.9003,73.6886,73.4696 ,73.2428,73.0079,72.7645,72.5121, 72.2503,71.9785,71.6962,71.4028,70.9403 ,70.6161,70.104,69.479,69.0146,68.2704, 67.739,67.1763,66.5815,65.9493,65.2772, 64.5634,63.8011,63.4008,63.4522)
ORBIT_NUMBER = 5511
ORBITAL_ECCENTRICITY = 0.568
ORBITAL_INCLINATION = 86.76
ORBITAL_SEMIMAJOR_AXIS = 8645.04
PERIAPSIS_ALTITUDE = 354.29
PERIAPSIS_ARGUMENT_ANGLE = 108.83
PERIAPSIS_TIME = 2008-04-17T05:03:31.000Z
SPACECRAFT_ORIENTATION = (0.0,-1.0,0.0)
^MEX_ORIENTATION_DESC = "MEX_ORIENTATION_DESC.TXT"
SPACECRAFT_POINTING_MODE = NADIR
^MEX_POINTING_DESC = "MEX_POINTING_DESC.TXT"
RIGHT_ASCENSION = -1e+32
DECLINATION = -1e+32
OFFSET_ANGLE = -1e+32
SPACECRAFT_SOLAR_DISTANCE = 2.48725e+08
TARGET_NAME = MARS
/* CAMERA DATA ELEMENTS */
DETECTOR_TEMPERATURE = 18.1666
FOCAL_PLANE_TEMPERATURE = 6.3404
INST_CMPRS_NAME = "DISCRETE COSINE TRANSFORMATION (DCT)"
INST_CMPRS_RATIO = 10.6838
INST_CMPRS_QUALITY = 0
INST_CMPRS_QUANTZ_TBL_ID = 0
INSTRUMENT_TEMPERATURE = 10.6223
LENS_TEMPERATURE = 7.5638
MACROPIXEL_SIZE = 2
MISSING_FRAMES = 0
PIXEL_SUBSAMPLING_FLAG = N
SIGNAL_CHAIN_ID = 1
/* RADIOMETRIC DATA ELEMENTS */
BANDWIDTH = 178.0
CENTER_FILTER_WAVELENGTH = 679.0
RADIANCE_OFFSET = 6.69227
RADIANCE_SCALING_FACTOR = 0.0233637
REFLECTANCE_SCALING_FACTOR = 0.000765438
MEX:REFLECTANCE_OFFSET = 0.219251
/* IMAGE OBJECT DEFINITIONS */
OBJECT = IMAGE
  INTERCHANGE_FORMAT = BINARY
  LINES = 23228
  LINE_SAMPLES = 9386
  SAMPLE_TYPE = UNSIGNED_INTEGER
  SAMPLE_BITS = 8
  BANDS = 1
  BAND_STORAGE_TYPE = BAND_SEQUENTIAL
  MAXIMUM = 255
  MEAN = 141.067
  MINIMUM = 1
  STANDARD_DEVIATION = 38.2877
END_OBJECT = IMAGE
/* MAP OBJECT DEFINITIONS */
OBJECT = IMAGE_MAP_PROJECTION
  ^DATA_SET_MAP_PROJECTION_CATALOG= "DSMAP.CAT"
  A_AXIS_RADIUS = 3396.0
  B_AXIS_RADIUS = 3396.0
  C_AXIS_RADIUS = 3396.0
  CENTER_LATITUDE = 0.0
  CENTER_LONGITUDE = 71.0
  COORDINATE_SYSTEM_NAME = PLANETOGRAPHIC
  COORDINATE_SYSTEM_TYPE = "BODY-FIXED ROTATING"
  EASTERNMOST_LONGITUDE = 77.5001
  FIRST_STANDARD_PARALLEL = "N/A"
  LINE_FIRST_PIXEL = 1
  LINE_LAST_PIXEL = 23228
  LINE_PROJECTION_OFFSET = 198557.25
  MAP_PROJECTION_ROTATION = 0.0
  MAP_PROJECTION_TYPE = SINUSOIDAL
  MAP_RESOLUTION = 2370.85521546667
  MAP_SCALE = 0.025
  MAXIMUM_LATITUDE = 83.71680000000001
  MINIMUM_LATITUDE = 73.9636
  POSITIVE_LONGITUDE_DIRECTION = EAST
  REFERENCE_LATITUDE = "N/A"
  REFERENCE_LONGITUDE = "N/A"
  SAMPLE_FIRST_PIXEL = 1
  SAMPLE_LAST_PIXEL = 9386
  SAMPLE_PROJECTION_OFFSET = 5197.25
  SECOND_STANDARD_PARALLEL = "N/A"
  WESTERNMOST_LONGITUDE = 52.9235
END_OBJECT = IMAGE_MAP_PROJECTION
END
