PDS_VERSION_ID = PDS3
/* FILE DATA ELEMENTS */
RECORD_TYPE = UNDEFINED
/* POINTERS TO DATA OBJECTS */
^IMAGE = ("H5511_0000_S14.TIF")
/* IDENTIFICATION DATA ELEMENTS */
DATA_SET_ID = "MEX-M-HRSC-4-REFDR-MAPPROJECT-EXT2-V4.0"
DATA_SET_NAME = "MARS EXPRESS HRSC MAP PROJECTED REFDR EXTENSION2 V4.0"
DETECTOR_ID = MEX_HRSC_S1
EVENT_TYPE = "MARS-REGIONAL-MAPPING-Gl-Pf-Eo"
INSTRUMENT_HOST_ID = MEX
INSTRUMENT_HOST_NAME = "MARS EXPRESS"
INSTRUMENT_ID = HRSC
INSTRUMENT_NAME = "HIGH RESOLUTION STEREO CAMERA"
MISSION_NAME = "MARS EXPRESS"
MISSION_PHASE_NAME = ME_Phase_12
PROCESSING_LEVEL_ID = 4
PRODUCT_CREATION_TIME = 2023-02-03T16:04:45.000Z
PRODUCT_ID = "H5511_0000_S14.TIF"
RELEASE_ID = 0003
REVISION_ID = 0000
/* QUALITY DATA ELEMENTS */
DATA_QUALITY_ID = 1
DATA_QUALITY_DESC = "Data calculated based on original SPICE kernels"
/* TIME DATA ELEMENTS */
SPACECRAFT_CLOCK_START_COUNT = "1/0156488368.08249"
SPACECRAFT_CLOCK_STOP_COUNT = "1/0156488592.49478"
START_TIME = 2008-04-17T04:59:31.853Z
STOP_TIME = 2008-04-17T05:02:09.730Z
/* ORBITAL DATA ELEMENTS */
ASCENDING_NODE_LONGITUDE = 113.65
MAXIMUM_RESOLUTION = 0.0309
FOOTPRINT_POINT_LATITUDE = (83.8568,83.744,83.6473,83.5119,83.4028 ,83.1921,83.1845,83.0477,82.8786,82.623 ,82.3656,82.1923,82.0167,81.8375, 81.6595,81.4789,81.2966,81.1118,80.8352 ,80.6495,80.4621,80.1795,79.99,79.7998, 79.6085,79.3198,79.1265,78.933,78.6408, 78.4453,78.2491,78.0523,77.8547,77.6566 ,77.3583,77.1589,76.959,76.7648,76.4277 ,76.0894,75.7499,75.4092,74.9784, 74.7217,74.5493,74.2908,74.0319,73.9454 ,73.9283,73.9867,74.0533,74.0956, 74.1427,74.1727,74.1746,74.1758,74.5272 ,74.7909,74.9666,75.142,75.3171,75.4955 ,75.7578,76.1068,76.455,76.7159,77.0625 ,77.3625,77.5686,77.7745,77.9799,78.185 ,78.3898,78.5942,78.7982,79.0017, 79.3065,79.5092,79.7115,79.9134,80.1147 ,80.3155,80.5156,80.715,80.9161,81.1135 ,81.313,81.6113,81.8069,82.0044,82.1994 ,82.394,82.5876,82.7816,82.9733,83.2595 ,83.4494,83.637,83.7307,83.8568)
FOOTPRINT_POINT_LONGITUDE = (62.8563,60.6606,58.9631,56.816,55.2436 ,52.5246,52.4339,52.7646,53.7042, 55.0288,56.2604,57.0356,57.7784,58.4923 ,59.1721,59.825,60.4513,61.0531,61.9079 ,62.4495,62.9706,63.7145,64.187,64.6418 ,65.0799,65.7076,66.1073,66.4929, 67.0464,67.3997,67.741,68.0711,68.3903, 68.6991,69.1438,69.4286,69.7045,69.9636 ,70.394,70.8029,71.1919,71.5622,72.0038 ,72.2546,72.4168,72.6533,72.8818, 72.9562,72.971,73.888,75.033,75.8316, 76.8133,77.4851,77.53,77.5458,77.352, 77.1998,77.0949,76.9881,76.8787,76.7642 ,76.5907,76.349,76.095,75.8953,75.6175, 75.364,75.1825,74.9948,74.8009,74.6001, 74.3923,74.1771,73.9543,73.7238,73.3607 ,73.1069,72.8432,72.569,72.284,71.9875, 71.6795,71.359,71.016,70.6707,70.2982, 69.7058,69.299,68.8597,68.408,67.9319, 67.4324,66.8987,66.3454,65.4542,64.8152 ,64.1478,63.7974,62.8563)
ORBIT_NUMBER = 5511
ORBITAL_ECCENTRICITY = 0.568
ORBITAL_INCLINATION = 86.76
ORBITAL_SEMIMAJOR_AXIS = 8645.04
PERIAPSIS_ALTITUDE = 354.29
PERIAPSIS_ARGUMENT_ANGLE = 108.83
PERIAPSIS_TIME = 2008-04-17T05:03:31.000Z
SPACECRAFT_ORIENTATION = (0.0,-1.0,0.0)
^MEX_ORIENTATION_DESC = "MEX_ORIENTATION_DESC.TXT"
SPACECRAFT_POINTING_MODE = NADIR
^MEX_POINTING_DESC = "MEX_POINTING_DESC.TXT"
RIGHT_ASCENSION = -1e+32
DECLINATION = -1e+32
OFFSET_ANGLE = -1e+32
SPACECRAFT_SOLAR_DISTANCE = 2.48725e+08
TARGET_NAME = MARS
/* CAMERA DATA ELEMENTS */
DETECTOR_TEMPERATURE = 16.7393
FOCAL_PLANE_TEMPERATURE = 6.3404
INST_CMPRS_NAME = "DISCRETE COSINE TRANSFORMATION (DCT)"
INST_CMPRS_RATIO = 10.0524
INST_CMPRS_QUALITY = 0
INST_CMPRS_QUANTZ_TBL_ID = 0
INSTRUMENT_TEMPERATURE = 10.6223
LENS_TEMPERATURE = 7.5638
MACROPIXEL_SIZE = 2
MISSING_FRAMES = 1
PIXEL_SUBSAMPLING_FLAG = N
SIGNAL_CHAIN_ID = 1
/* RADIOMETRIC DATA ELEMENTS */
BANDWIDTH = 180.0
CENTER_FILTER_WAVELENGTH = 677.0
RADIANCE_OFFSET = 7.04955
RADIANCE_SCALING_FACTOR = 0.0232966
REFLECTANCE_SCALING_FACTOR = 0.000751921
MEX:REFLECTANCE_OFFSET = 0.227531
/* IMAGE OBJECT DEFINITIONS */
OBJECT = IMAGE
  INTERCHANGE_FORMAT = BINARY
  LINES = 23228
  LINE_SAMPLES = 9386
  SAMPLE_TYPE = UNSIGNED_INTEGER
  SAMPLE_BITS = 8
  BANDS = 1
  BAND_STORAGE_TYPE = BAND_SEQUENTIAL
  MAXIMUM = 255
  MEAN = 132.604
  MINIMUM = 1
  STANDARD_DEVIATION = 36.6086
END_OBJECT = IMAGE
/* MAP OBJECT DEFINITIONS */
OBJECT = IMAGE_MAP_PROJECTION
  ^DATA_SET_MAP_PROJECTION_CATALOG= "DSMAP.CAT"
  A_AXIS_RADIUS = 3396.0
  B_AXIS_RADIUS = 3396.0
  C_AXIS_RADIUS = 3396.0
  CENTER_LATITUDE = 0.0
  CENTER_LONGITUDE = 71.0
  COORDINATE_SYSTEM_NAME = PLANETOGRAPHIC
  COORDINATE_SYSTEM_TYPE = "BODY-FIXED ROTATING"
  EASTERNMOST_LONGITUDE = 77.5458
  FIRST_STANDARD_PARALLEL = "N/A"
  LINE_FIRST_PIXEL = 1
  LINE_LAST_PIXEL = 23228
  LINE_PROJECTION_OFFSET = 198557.25
  MAP_PROJECTION_ROTATION = 0.0
  MAP_PROJECTION_TYPE = SINUSOIDAL
  MAP_RESOLUTION = 2370.85521546667
  MAP_SCALE = 0.025
  MAXIMUM_LATITUDE = 83.85680000000001
  MINIMUM_LATITUDE = 73.92829999999999
  POSITIVE_LONGITUDE_DIRECTION = EAST
  REFERENCE_LATITUDE = "N/A"
  REFERENCE_LONGITUDE = "N/A"
  SAMPLE_FIRST_PIXEL = 1
  SAMPLE_LAST_PIXEL = 9386
  SAMPLE_PROJECTION_OFFSET = 5197.25
  SECOND_STANDARD_PARALLEL = "N/A"
  WESTERNMOST_LONGITUDE = 52.4339
END_OBJECT = IMAGE_MAP_PROJECTION
END
