PDS_VERSION_ID = PDS3
/* FILE DATA ELEMENTS */
RECORD_TYPE = UNDEFINED
/* POINTERS TO DATA OBJECTS */
^IMAGE = ("H5491_0000_S14.TIF")
/* IDENTIFICATION DATA ELEMENTS */
DATA_SET_ID = "MEX-M-HRSC-4-REFDR-MAPPROJECT-EXT2-V4.0"
DATA_SET_NAME = "MARS EXPRESS HRSC MAP PROJECTED REFDR EXTENSION2 V4.0"
DETECTOR_ID = MEX_HRSC_S1
EVENT_TYPE = "MARS-REGIONAL-MAPPING-Te-Im-Pf"
INSTRUMENT_HOST_ID = MEX
INSTRUMENT_HOST_NAME = "MARS EXPRESS"
INSTRUMENT_ID = HRSC
INSTRUMENT_NAME = "HIGH RESOLUTION STEREO CAMERA"
MISSION_NAME = "MARS EXPRESS"
MISSION_PHASE_NAME = ME_Phase_12
PROCESSING_LEVEL_ID = 4
PRODUCT_CREATION_TIME = 2023-02-02T05:41:08.000Z
PRODUCT_ID = "H5491_0000_S14.TIF"
RELEASE_ID = 0002
REVISION_ID = 0000
/* QUALITY DATA ELEMENTS */
DATA_QUALITY_ID = 1
DATA_QUALITY_DESC = "Data calculated based on original SPICE kernels"
/* TIME DATA ELEMENTS */
SPACECRAFT_CLOCK_START_COUNT = "1/0155995918.09082"
SPACECRAFT_CLOCK_STOP_COUNT = "1/0155996203.15063"
START_TIME = 2008-04-11T12:12:01.859Z
STOP_TIME = 2008-04-11T12:15:36.242Z
/* ORBITAL DATA ELEMENTS */
ASCENDING_NODE_LONGITUDE = 114.06
MAXIMUM_RESOLUTION = 0.0303
FOOTPRINT_POINT_LATITUDE = (70.9692,70.9105,70.8589,70.8043, 70.8023,70.6664,70.3978,69.994,69.7247, 69.3195,69.0491,68.6426,68.2352,67.9636 ,67.6912,67.2828,66.8731,66.5998, 66.3261,66.0518,65.7774,65.5029,65.228, 64.9527,64.6775,64.4017,63.9877,63.5732 ,63.1582,62.7427,62.3265,62.0491, 61.6326,61.3551,61.0765,60.7985,60.3825 ,60.0995,59.824,59.5444,59.1256,58.7068 ,58.2873,57.8679,57.5883,57.0285, 56.8886,56.8825,56.9032,56.9223,56.9374 ,56.9582,56.9587,56.9593,57.2402, 57.5213,57.8021,58.2233,58.6442,58.9244 ,59.205,59.6256,59.906,60.3264,60.606, 60.8858,61.1654,61.585,61.8645,62.1437, 62.5624,62.8411,63.2591,63.5376,63.8159 ,64.094,64.3721,64.6498,65.0661,65.4817 ,65.7586,66.1738,66.4503,66.7264, 67.0017,67.2774,67.5526,67.8277,68.1027 ,68.3773,68.6517,68.9258,69.1997, 69.4734,69.7467,70.0197,70.2923,70.7009 ,70.8368,70.9692)
FOOTPRINT_POINT_LONGITUDE = (280.533,279.039,277.949,276.937, 276.903,276.873,277.019,277.229,277.364 ,277.56,277.685,277.867,278.041,278.154 ,278.263,278.421,278.572,278.67,278.765 ,278.858,278.948,279.036,279.121, 279.205,279.286,279.365,279.479,279.59, 279.696,279.798,279.897,279.96,280.052, 280.112,280.17,280.227,280.31,280.362, 280.415,280.466,280.539,280.61,280.679, 280.744,280.787,280.869,280.889,280.89, 281.391,281.918,282.4,283.232,283.255, 283.263,283.235,283.207,283.178,283.134 ,283.088,283.057,283.025,282.976, 282.942,282.89,282.855,282.819,282.782, 282.725,282.685,282.645,282.584,282.542 ,282.476,282.431,282.386,282.339, 282.291,282.242,282.166,282.087,282.033 ,281.95,281.892,281.833,281.774,281.712 ,281.648,281.584,281.517,281.448, 281.378,281.305,281.231,281.154,281.076 ,280.995,280.912,280.783,280.738, 280.533)
ORBIT_NUMBER = 5491
ORBITAL_ECCENTRICITY = 0.568
ORBITAL_INCLINATION = 86.74
ORBITAL_SEMIMAJOR_AXIS = 8646.94
PERIAPSIS_ALTITUDE = 353.86
PERIAPSIS_ARGUMENT_ANGLE = 112.35
PERIAPSIS_TIME = 2008-04-11T12:13:26.000Z
SPACECRAFT_ORIENTATION = (0.0,-1.0,0.0)
^MEX_ORIENTATION_DESC = "MEX_ORIENTATION_DESC.TXT"
SPACECRAFT_POINTING_MODE = ACROSSTRACK
^MEX_POINTING_DESC = "MEX_POINTING_DESC.TXT"
RIGHT_ASCENSION = -1e+32
DECLINATION = -1e+32
OFFSET_ANGLE = 0.15
SPACECRAFT_SOLAR_DISTANCE = 2.48483e+08
TARGET_NAME = MARS
/* CAMERA DATA ELEMENTS */
DETECTOR_TEMPERATURE = 16.7393
FOCAL_PLANE_TEMPERATURE = 7.5638
INST_CMPRS_NAME = "DISCRETE COSINE TRANSFORMATION (DCT)"
INST_CMPRS_RATIO = 11.7224
INST_CMPRS_QUALITY = 0
INST_CMPRS_QUANTZ_TBL_ID = 0
INSTRUMENT_TEMPERATURE = 10.6223
LENS_TEMPERATURE = 7.5638
MACROPIXEL_SIZE = 2
MISSING_FRAMES = 0
PIXEL_SUBSAMPLING_FLAG = N
SIGNAL_CHAIN_ID = 1
/* RADIOMETRIC DATA ELEMENTS */
BANDWIDTH = 180.0
CENTER_FILTER_WAVELENGTH = 677.0
RADIANCE_OFFSET = 3.13546
RADIANCE_SCALING_FACTOR = 0.0143888
REFLECTANCE_SCALING_FACTOR = 0.00046351
MEX:REFLECTANCE_OFFSET = 0.101003
/* IMAGE OBJECT DEFINITIONS */
OBJECT = IMAGE
  INTERCHANGE_FORMAT = BINARY
  LINES = 33122
  LINE_SAMPLES = 6173
  SAMPLE_TYPE = UNSIGNED_INTEGER
  SAMPLE_BITS = 8
  BANDS = 1
  BAND_STORAGE_TYPE = BAND_SEQUENTIAL
  MAXIMUM = 255
  MEAN = 164.014
  MINIMUM = 1
  STANDARD_DEVIATION = 31.5632
END_OBJECT = IMAGE
/* MAP OBJECT DEFINITIONS */
OBJECT = IMAGE_MAP_PROJECTION
  ^DATA_SET_MAP_PROJECTION_CATALOG= "DSMAP.CAT"
  A_AXIS_RADIUS = 3396.0
  B_AXIS_RADIUS = 3396.0
  C_AXIS_RADIUS = 3396.0
  CENTER_LATITUDE = 0.0
  CENTER_LONGITUDE = 281.0
  COORDINATE_SYSTEM_NAME = PLANETOGRAPHIC
  COORDINATE_SYSTEM_TYPE = "BODY-FIXED ROTATING"
  EASTERNMOST_LONGITUDE = 283.263
  FIRST_STANDARD_PARALLEL = "N/A"
  LINE_FIRST_PIXEL = 1
  LINE_LAST_PIXEL = 33122
  LINE_PROJECTION_OFFSET = 168007.75
  MAP_PROJECTION_ROTATION = 0.0
  MAP_PROJECTION_TYPE = SINUSOIDAL
  MAP_RESOLUTION = 2370.85521546667
  MAP_SCALE = 0.025
  MAXIMUM_LATITUDE = 70.9692
  MINIMUM_LATITUDE = 56.8825
  POSITIVE_LONGITUDE_DIRECTION = EAST
  REFERENCE_LATITUDE = "N/A"
  REFERENCE_LONGITUDE = "N/A"
  SAMPLE_FIRST_PIXEL = 1
  SAMPLE_LAST_PIXEL = 6173
  SAMPLE_PROJECTION_OFFSET = 3235.25
  SECOND_STANDARD_PARALLEL = "N/A"
  WESTERNMOST_LONGITUDE = 276.873
END_OBJECT = IMAGE_MAP_PROJECTION
END
