PDS_VERSION_ID = PDS3
/* FILE DATA ELEMENTS */
RECORD_TYPE = UNDEFINED
/* POINTERS TO DATA OBJECTS */
^IMAGE = ("H5481_0000_P14.TIF")
/* IDENTIFICATION DATA ELEMENTS */
DATA_SET_ID = "MEX-M-HRSC-4-REFDR-MAPPROJECT-EXT2-V4.0"
DATA_SET_NAME = "MARS EXPRESS HRSC MAP PROJECTED REFDR EXTENSION2 V4.0"
DETECTOR_ID = MEX_HRSC_P1
EVENT_TYPE = "MARS-REGIONAL-MAPPING-Gl-La"
INSTRUMENT_HOST_ID = MEX
INSTRUMENT_HOST_NAME = "MARS EXPRESS"
INSTRUMENT_ID = HRSC
INSTRUMENT_NAME = "HIGH RESOLUTION STEREO CAMERA"
MISSION_NAME = "MARS EXPRESS"
MISSION_PHASE_NAME = ME_Phase_12
PROCESSING_LEVEL_ID = 4
PRODUCT_CREATION_TIME = 2023-02-02T05:41:08.000Z
PRODUCT_ID = "H5481_0000_P14.TIF"
RELEASE_ID = 0002
REVISION_ID = 0000
/* QUALITY DATA ELEMENTS */
DATA_QUALITY_ID = 1
DATA_QUALITY_DESC = "Data calculated based on original SPICE kernels"
/* TIME DATA ELEMENTS */
SPACECRAFT_CLOCK_START_COUNT = "1/0155749177.07308"
SPACECRAFT_CLOCK_STOP_COUNT = "1/0155749438.40582"
START_TIME = 2008-04-08T15:40:02.206Z
STOP_TIME = 2008-04-08T15:42:53.354Z
/* ORBITAL DATA ELEMENTS */
ASCENDING_NODE_LONGITUDE = 114.25
MAXIMUM_RESOLUTION = 0.0369
FOOTPRINT_POINT_LATITUDE = (84.9567,84.8278,84.7167,84.5926, 84.4568,84.3103,84.1543,84.1442,84.219, 84.4002,84.5793,84.8423,85.0117,85.178, 85.3406,85.5732,85.7225,85.8663,86.0026 ,86.133,86.2566,86.3703,86.4762,86.5733 ,86.7004,86.7707,86.8294,86.8768,86.924 ,86.9396,86.9424,86.9224,86.8938, 86.8533,86.8012,86.7381,86.6661,86.5847 ,86.4945,86.3961,86.2908,86.0631, 85.7475,85.4091,85.0501,84.8259,84.5262 ,84.2177,84.1394,84.1348,84.2464, 84.3508,84.4295,84.5237,84.6157,84.7011 ,84.7046,84.7063,85.065,85.5946,85.7759 ,86.1305,86.5687,86.9181,87.0901, 87.2598,87.4263,87.5917,87.8329,87.9863 ,88.1321,88.2701,88.3976,88.5593, 88.6421,88.7204,88.7356,88.7203,88.6418 ,88.5563,88.4489,88.3248,88.1848, 88.0328,87.8749,87.7062,87.5311,87.3505 ,87.1684,86.884,86.5945,86.3987,86.1991 ,85.9993,85.7965,85.591,85.3843,85.1768 ,85.073,84.9567)
FOOTPRINT_POINT_LONGITUDE = (43.9885,48.4869,51.5746,54.5023,57.269 ,59.8792,62.338,62.4867,62.9926,64.1386 ,65.3647,67.3597,68.789,70.3218,71.9643 ,74.6123,76.5389,78.5983,80.7755, 83.1114,85.6082,88.2207,91.0024,93.9566 ,98.6822,101.977,105.386,108.937, 114.376,118.061,121.771,127.283,130.866 ,134.353,137.747,141.03,144.115,147.066 ,149.875,152.539,155.042,159.583, 164.528,168.712,172.29,174.194,176.431, 178.438,178.907,178.934,181.067,183.31, 185.209,187.799,190.842,194.35,194.522, 194.584,193.526,191.707,190.973,189.347 ,186.775,184.188,182.665,180.931, 178.997,176.753,172.723,169.509,165.817 ,161.448,156.333,147.092,139.833, 127.359,118.41,109.495,96.9432,89.4792, 82.9536,77.3453,72.5079,68.3586,64.8133 ,61.7973,59.155,56.8663,54.8618,52.3108 ,50.1599,48.9292,47.8049,46.784,45.8791 ,45.0482,44.2825,43.5868,43.2614, 43.9885)
ORBIT_NUMBER = 5481
ORBITAL_ECCENTRICITY = 0.568
ORBITAL_INCLINATION = 86.76
ORBITAL_SEMIMAJOR_AXIS = 8646.68
PERIAPSIS_ALTITUDE = 352.85
PERIAPSIS_ARGUMENT_ANGLE = 114.09
PERIAPSIS_TIME = 2008-04-08T15:48:16.000Z
SPACECRAFT_ORIENTATION = (0.0,-1.0,0.0)
^MEX_ORIENTATION_DESC = "MEX_ORIENTATION_DESC.TXT"
SPACECRAFT_POINTING_MODE = ACROSSTRACK
^MEX_POINTING_DESC = "MEX_POINTING_DESC.TXT"
RIGHT_ASCENSION = -1e+32
DECLINATION = -1e+32
OFFSET_ANGLE = 1.0
SPACECRAFT_SOLAR_DISTANCE = 2.48344e+08
TARGET_NAME = MARS
/* CAMERA DATA ELEMENTS */
DETECTOR_TEMPERATURE = 17.5549
FOCAL_PLANE_TEMPERATURE = 7.3599
INST_CMPRS_NAME = "DISCRETE COSINE TRANSFORMATION (DCT)"
INST_CMPRS_RATIO = 12.1132
INST_CMPRS_QUALITY = 0
INST_CMPRS_QUANTZ_TBL_ID = 0
INSTRUMENT_TEMPERATURE = 10.8262
LENS_TEMPERATURE = 7.9716
MACROPIXEL_SIZE = 2
MISSING_FRAMES = 1
PIXEL_SUBSAMPLING_FLAG = N
SIGNAL_CHAIN_ID = 3
/* RADIOMETRIC DATA ELEMENTS */
BANDWIDTH = 174.0
CENTER_FILTER_WAVELENGTH = 675.0
RADIANCE_OFFSET = 4.01831
RADIANCE_SCALING_FACTOR = 0.0269264
REFLECTANCE_SCALING_FACTOR = 0.000893245
MEX:REFLECTANCE_OFFSET = 0.133302
/* IMAGE OBJECT DEFINITIONS */
OBJECT = IMAGE
  INTERCHANGE_FORMAT = BINARY
  LINES = 22439
  LINE_SAMPLES = 15164
  SAMPLE_TYPE = UNSIGNED_INTEGER
  SAMPLE_BITS = 8
  BANDS = 1
  BAND_STORAGE_TYPE = BAND_SEQUENTIAL
  MAXIMUM = 255
  MEAN = 106.979
  MINIMUM = 1
  STANDARD_DEVIATION = 37.6846
END_OBJECT = IMAGE
/* MAP OBJECT DEFINITIONS */
OBJECT = IMAGE_MAP_PROJECTION
  ^DATA_SET_MAP_PROJECTION_CATALOG= "DSMAP.CAT"
  A_AXIS_RADIUS = 3396.0
  B_AXIS_RADIUS = 3396.0
  C_AXIS_RADIUS = 3396.0
  CENTER_LATITUDE = 90.0
  CENTER_LONGITUDE = 0.0
  COORDINATE_SYSTEM_NAME = PLANETOGRAPHIC
  COORDINATE_SYSTEM_TYPE = "BODY-FIXED ROTATING"
  EASTERNMOST_LONGITUDE = 194.584
  FIRST_STANDARD_PARALLEL = "N/A"
  LINE_FIRST_PIXEL = 1
  LINE_LAST_PIXEL = 22439
  LINE_PROJECTION_OFFSET = 13919.25
  MAP_PROJECTION_ROTATION = 0.0
  MAP_PROJECTION_TYPE = STEREOGRAPHIC
  MAP_RESOLUTION = 2370.85521546667
  MAP_SCALE = 0.025
  MAXIMUM_LATITUDE = 88.73560000000001
  MINIMUM_LATITUDE = 84.1348
  POSITIVE_LONGITUDE_DIRECTION = EAST
  REFERENCE_LATITUDE = "N/A"
  REFERENCE_LONGITUDE = "N/A"
  SAMPLE_FIRST_PIXEL = 1
  SAMPLE_LAST_PIXEL = 15164
  SAMPLE_PROJECTION_OFFSET = 3048.25
  SECOND_STANDARD_PARALLEL = "N/A"
  WESTERNMOST_LONGITUDE = 43.2614
END_OBJECT = IMAGE_MAP_PROJECTION
END
