PDS_VERSION_ID = PDS3
/* FILE DATA ELEMENTS */
RECORD_TYPE = UNDEFINED
/* POINTERS TO DATA OBJECTS */
^IMAGE = ("H5479_0000_ND4.TIF")
/* IDENTIFICATION DATA ELEMENTS */
DATA_SET_ID = "MEX-M-HRSC-4-REFDR-MAPPROJECT-EXT2-V4.0"
DATA_SET_NAME = "MARS EXPRESS HRSC MAP PROJECTED REFDR EXTENSION2 V4.0"
DETECTOR_ID = MEX_HRSC_NADIR
EVENT_TYPE = "MARS-REGIONAL-MAPPING-Gl-La"
INSTRUMENT_HOST_ID = MEX
INSTRUMENT_HOST_NAME = "MARS EXPRESS"
INSTRUMENT_ID = HRSC
INSTRUMENT_NAME = "HIGH RESOLUTION STEREO CAMERA"
MISSION_NAME = "MARS EXPRESS"
MISSION_PHASE_NAME = ME_Phase_12
PROCESSING_LEVEL_ID = 4
PRODUCT_CREATION_TIME = 2023-02-02T05:41:08.000Z
PRODUCT_ID = "H5479_0000_ND4.TIF"
RELEASE_ID = 0002
REVISION_ID = 0000
/* QUALITY DATA ELEMENTS */
DATA_QUALITY_ID = 1
DATA_QUALITY_DESC = "Data calculated based on original SPICE kernels"
/* TIME DATA ELEMENTS */
SPACECRAFT_CLOCK_START_COUNT = "1/0155699900.08246"
SPACECRAFT_CLOCK_STOP_COUNT = "1/0155700199.30080"
START_TIME = 2008-04-08T01:59:24.978Z
STOP_TIME = 2008-04-08T02:02:41.980Z
/* ORBITAL DATA ELEMENTS */
ASCENDING_NODE_LONGITUDE = 114.29
MAXIMUM_RESOLUTION = 0.0172
FOOTPRINT_POINT_LATITUDE = (84.6571,84.6137,84.5595,84.4895, 84.4053,84.308,84.199,84.1918,84.2033, 84.572,84.8149,85.1708,85.4031,85.6325, 85.854,86.0711,86.3857,86.5846,86.7757, 86.9576,87.1252,87.3526,87.4843,87.595, 87.6849,87.7511,87.7915,87.8049,87.7917 ,87.7516,87.6475,87.5511,87.4364, 87.2348,87.0862,86.9267,86.7579,86.4915 ,86.1212,85.9288,85.7323,85.436,85.0345 ,84.5212,84.1118,83.6969,83.3827, 83.0739,82.9706,82.9557,83.0223,83.0823 ,83.135,83.1798,83.2199,83.2477,83.2489 ,83.2497,83.6841,84.0171,84.4609, 84.9036,85.2412,85.6928,86.1433,86.4875 ,86.7168,86.9458,87.1741,87.5214, 87.7534,87.9842,88.2139,88.5609,88.7894 ,89.0131,89.2276,89.4253,89.6114, 89.5762,89.4272,89.2258,89.0037,88.7725 ,88.4107,88.1661,87.9203,87.6693, 87.4173,87.1651,86.7809,86.5235,86.2663 ,86.0045,85.7428,85.4812,85.2152, 84.8164,84.6822,84.6571)
FOOTPRINT_POINT_LONGITUDE = (234.285,238.52,241.779,244.911,247.902 ,250.752,253.462,253.626,253.309, 254.893,256.065,258.025,259.501,261.131 ,262.911,264.894,268.305,270.881,273.78 ,277.035,280.627,286.837,291.567, 296.683,302.254,308.222,314.437,320.729 ,327.029,333.186,341.761,346.961, 351.742,358.072,361.717,364.999,367.951 ,371.819,376.049,377.87,379.526,381.711 ,384.199,386.773,388.473,389.949, 390.933,391.805,392.079,392.118,394.017 ,395.99,398.036,400.159,402.64,405.207, 405.352,405.424,405.202,405.016,404.731 ,404.396,404.095,403.614,403.05,402.458 ,402.024,401.527,400.941,399.855, 398.931,397.79,396.367,393.337,390.292, 385.91,379.05,366.864,328.106,293.687, 270.864,258.493,251.421,246.967,242.704 ,240.795,239.35,238.193,237.245,236.472 ,235.56,235.055,234.623,234.228,233.873 ,233.575,233.291,232.92,232.82,234.285)
ORBIT_NUMBER = 5479
ORBITAL_ECCENTRICITY = 0.569
ORBITAL_INCLINATION = 86.75
ORBITAL_SEMIMAJOR_AXIS = 8651.97
PERIAPSIS_ALTITUDE = 353.04
PERIAPSIS_ARGUMENT_ANGLE = 114.45
PERIAPSIS_TIME = 2008-04-08T02:07:17.000Z
SPACECRAFT_ORIENTATION = (0.0,-1.0,0.0)
^MEX_ORIENTATION_DESC = "MEX_ORIENTATION_DESC.TXT"
SPACECRAFT_POINTING_MODE = ACROSSTRACK
^MEX_POINTING_DESC = "MEX_POINTING_DESC.TXT"
RIGHT_ASCENSION = -1e+32
DECLINATION = -1e+32
OFFSET_ANGLE = 1.831
SPACECRAFT_SOLAR_DISTANCE = 2.48314e+08
TARGET_NAME = MARS
/* CAMERA DATA ELEMENTS */
DETECTOR_TEMPERATURE = 18.3705
FOCAL_PLANE_TEMPERATURE = 7.5638
INST_CMPRS_NAME = "DISCRETE COSINE TRANSFORMATION (DCT)"
INST_CMPRS_RATIO = 6.79693
INST_CMPRS_QUALITY = 0
INST_CMPRS_QUANTZ_TBL_ID = 0
INSTRUMENT_TEMPERATURE = 11.0301
LENS_TEMPERATURE = 7.7677
MACROPIXEL_SIZE = 1
MISSING_FRAMES = 0
PIXEL_SUBSAMPLING_FLAG = N
SIGNAL_CHAIN_ID = 0
/* RADIOMETRIC DATA ELEMENTS */
BANDWIDTH = 177.0
CENTER_FILTER_WAVELENGTH = 677.5
RADIANCE_OFFSET = 1.99354
RADIANCE_SCALING_FACTOR = 0.0283179
REFLECTANCE_SCALING_FACTOR = 0.000927572
MEX:REFLECTANCE_OFFSET = 0.0653
/* IMAGE OBJECT DEFINITIONS */
OBJECT = IMAGE
  INTERCHANGE_FORMAT = BINARY
  LINES = 43634
  LINE_SAMPLES = 49178
  SAMPLE_TYPE = UNSIGNED_INTEGER
  SAMPLE_BITS = 8
  BANDS = 1
  BAND_STORAGE_TYPE = BAND_SEQUENTIAL
  MAXIMUM = 255
  MEAN = 168.408
  MINIMUM = 1
  STANDARD_DEVIATION = 38.6698
END_OBJECT = IMAGE
/* MAP OBJECT DEFINITIONS */
OBJECT = IMAGE_MAP_PROJECTION
  ^DATA_SET_MAP_PROJECTION_CATALOG= "DSMAP.CAT"
  A_AXIS_RADIUS = 3396.0
  B_AXIS_RADIUS = 3396.0
  C_AXIS_RADIUS = 3396.0
  CENTER_LATITUDE = 90.0
  CENTER_LONGITUDE = 0.0
  COORDINATE_SYSTEM_NAME = PLANETOGRAPHIC
  COORDINATE_SYSTEM_TYPE = "BODY-FIXED ROTATING"
  EASTERNMOST_LONGITUDE = 45.424
  FIRST_STANDARD_PARALLEL = "N/A"
  LINE_FIRST_PIXEL = 1
  LINE_LAST_PIXEL = 43634
  LINE_PROJECTION_OFFSET = 15308.0
  MAP_PROJECTION_ROTATION = 0.0
  MAP_PROJECTION_TYPE = STEREOGRAPHIC
  MAP_RESOLUTION = 4741.71043093333
  MAP_SCALE = 0.0125
  MAXIMUM_LATITUDE = 89.6114
  MINIMUM_LATITUDE = 82.95569999999999
  POSITIVE_LONGITUDE_DIRECTION = EAST
  REFERENCE_LATITUDE = "N/A"
  REFERENCE_LONGITUDE = "N/A"
  SAMPLE_FIRST_PIXEL = 1
  SAMPLE_LAST_PIXEL = 49178
  SAMPLE_PROJECTION_OFFSET = 26351.0
  SECOND_STANDARD_PARALLEL = "N/A"
  WESTERNMOST_LONGITUDE = -127.18
END_OBJECT = IMAGE_MAP_PROJECTION
END
