PDS_VERSION_ID = PDS3
/* FILE DATA ELEMENTS */
RECORD_TYPE = UNDEFINED
/* POINTERS TO DATA OBJECTS */
^IMAGE = ("H5475_0000_ND4.TIF")
/* IDENTIFICATION DATA ELEMENTS */
DATA_SET_ID = "MEX-M-HRSC-4-REFDR-MAPPROJECT-EXT2-V4.0"
DATA_SET_NAME = "MARS EXPRESS HRSC MAP PROJECTED REFDR EXTENSION2 V4.0"
DETECTOR_ID = MEX_HRSC_NADIR
EVENT_TYPE = "MARS-REGIONAL-MAPPING-Te-Im-Pf"
INSTRUMENT_HOST_ID = MEX
INSTRUMENT_HOST_NAME = "MARS EXPRESS"
INSTRUMENT_ID = HRSC
INSTRUMENT_NAME = "HIGH RESOLUTION STEREO CAMERA"
MISSION_NAME = "MARS EXPRESS"
MISSION_PHASE_NAME = ME_Phase_11
PROCESSING_LEVEL_ID = 4
PRODUCT_CREATION_TIME = 2023-02-02T05:41:08.000Z
PRODUCT_ID = "H5475_0000_ND4.TIF"
RELEASE_ID = 0002
REVISION_ID = 0000
/* QUALITY DATA ELEMENTS */
DATA_QUALITY_ID = 1
DATA_QUALITY_DESC = "Data calculated based on original SPICE kernels"
/* TIME DATA ELEMENTS */
SPACECRAFT_CLOCK_START_COUNT = "1/0155601719.08426"
SPACECRAFT_CLOCK_STOP_COUNT = "1/0155601968.00775"
START_TIME = 2008-04-06T22:42:38.609Z
STOP_TIME = 2008-04-06T22:45:37.602Z
/* ORBITAL DATA ELEMENTS */
ASCENDING_NODE_LONGITUDE = 114.37
MAXIMUM_RESOLUTION = 0.0142
FOOTPRINT_POINT_LATITUDE = (74.9141,74.8328,74.7408,74.6242, 74.6207,74.6004,74.3448,74.0888,73.8321 ,73.575,73.3173,73.0592,72.8046,72.3704 ,71.9349,71.4984,71.0609,70.6224, 70.1831,69.743,69.302,69.0813,68.8604, 68.6393,68.418,68.1933,67.9717,67.7501, 67.5283,67.3063,67.0842,66.862,66.6397, 66.4173,66.1947,65.9721,65.7494,65.5266 ,65.3036,65.0807,64.8576,64.6345, 64.4113,64.188,63.9646,63.7413,63.4061, 63.2944,63.2939,63.3377,63.3999,63.4403 ,63.4415,63.4423,63.6675,63.8928,64.118 ,64.4558,64.681,64.9061,65.1312,65.3563 ,65.5814,65.8064,66.1438,66.3687, 66.5935,66.8183,67.0431,67.2677,67.4923 ,67.7168,67.9413,68.1657,68.39,68.6176, 68.8417,69.0657,69.2897,69.5135,69.7372 ,69.9608,70.1843,70.4077,70.631,70.8541 ,71.0771,71.3,71.7453,72.19,72.6341, 73.0775,73.4697,73.7335,73.997,74.2603, 74.5233,74.7859,74.9171,74.9141)
FOOTPRINT_POINT_LONGITUDE = (77.1087,75.6385,74.1652,72.5042,72.458 ,72.1589,72.438,72.7089,72.9707,73.2239 ,73.4687,73.706,73.9323,74.301,74.6512, 74.9834,75.2993,75.5997,75.8857,76.1588 ,76.4184,76.5439,76.6664,76.786,76.903, 77.0193,77.1308,77.2399,77.3473,77.4516 ,77.5536,77.6536,77.7512,77.8468, 77.9406,78.0324,78.1224,78.2097,78.2953 ,78.3793,78.4615,78.5428,78.622,78.6985 ,78.7742,78.8483,78.957,78.9923,78.9924 ,79.7152,80.868,81.7352,81.7622,81.7754 ,81.7253,81.6744,81.6224,81.5426, 81.4881,81.4326,81.376,81.3182,81.2594, 81.1993,81.1069,81.0438,80.9794,80.9136 ,80.8465,80.778,80.708,80.6365,80.5635, 80.4889,80.4127,80.3336,80.254,80.1725, 80.0893,80.0041,79.917,79.8278,79.7366, 79.6431,79.5475,79.4495,79.3492,79.2464 ,79.0331,78.8088,78.5727,78.3239, 78.0922,77.9297,77.7616,77.588,77.4084, 77.2224,77.127,77.1087)
ORBIT_NUMBER = 5475
ORBITAL_ECCENTRICITY = 0.569
ORBITAL_INCLINATION = 86.76
ORBITAL_SEMIMAJOR_AXIS = 8653.1
PERIAPSIS_ALTITUDE = 351.79
PERIAPSIS_ARGUMENT_ANGLE = 115.13
PERIAPSIS_TIME = 2008-04-06T22:45:18.000Z
SPACECRAFT_ORIENTATION = (0.0,-1.0,0.0)
^MEX_ORIENTATION_DESC = "MEX_ORIENTATION_DESC.TXT"
SPACECRAFT_POINTING_MODE = ACROSSTRACK
^MEX_POINTING_DESC = "MEX_POINTING_DESC.TXT"
RIGHT_ASCENSION = -1e+32
DECLINATION = -1e+32
OFFSET_ANGLE = -0.539
SPACECRAFT_SOLAR_DISTANCE = 2.48255e+08
TARGET_NAME = MARS
/* CAMERA DATA ELEMENTS */
DETECTOR_TEMPERATURE = 17.9627
FOCAL_PLANE_TEMPERATURE = 7.7677
INST_CMPRS_NAME = "DISCRETE COSINE TRANSFORMATION (DCT)"
INST_CMPRS_RATIO = 6.63042
INST_CMPRS_QUALITY = 0
INST_CMPRS_QUANTZ_TBL_ID = 0
INSTRUMENT_TEMPERATURE = 9.6028
LENS_TEMPERATURE = 8.3794
MACROPIXEL_SIZE = 1
MISSING_FRAMES = 2
PIXEL_SUBSAMPLING_FLAG = N
SIGNAL_CHAIN_ID = 0
/* RADIOMETRIC DATA ELEMENTS */
BANDWIDTH = 177.0
CENTER_FILTER_WAVELENGTH = 677.5
RADIANCE_OFFSET = 3.34404
RADIANCE_SCALING_FACTOR = 0.0319795
REFLECTANCE_SCALING_FACTOR = 0.00104701
MEX:REFLECTANCE_OFFSET = 0.109484
/* IMAGE OBJECT DEFINITIONS */
OBJECT = IMAGE
  INTERCHANGE_FORMAT = BINARY
  LINES = 55116
  LINE_SAMPLES = 15360
  SAMPLE_TYPE = UNSIGNED_INTEGER
  SAMPLE_BITS = 8
  BANDS = 1
  BAND_STORAGE_TYPE = BAND_SEQUENTIAL
  MAXIMUM = 255
  MEAN = 108.54
  MINIMUM = 1
  STANDARD_DEVIATION = 62.3285
END_OBJECT = IMAGE
/* MAP OBJECT DEFINITIONS */
OBJECT = IMAGE_MAP_PROJECTION
  ^DATA_SET_MAP_PROJECTION_CATALOG= "DSMAP.CAT"
  A_AXIS_RADIUS = 3396.0
  B_AXIS_RADIUS = 3396.0
  C_AXIS_RADIUS = 3396.0
  CENTER_LATITUDE = 0.0
  CENTER_LONGITUDE = 78.0
  COORDINATE_SYSTEM_NAME = PLANETOGRAPHIC
  COORDINATE_SYSTEM_TYPE = "BODY-FIXED ROTATING"
  EASTERNMOST_LONGITUDE = 81.7754
  FIRST_STANDARD_PARALLEL = "N/A"
  LINE_FIRST_PIXEL = 1
  LINE_LAST_PIXEL = 55116
  LINE_PROJECTION_OFFSET = 355237.0
  MAP_PROJECTION_ROTATION = 0.0
  MAP_PROJECTION_TYPE = SINUSOIDAL
  MAP_RESOLUTION = 4741.71043093333
  MAP_SCALE = 0.0125
  MAXIMUM_LATITUDE = 74.9171
  MINIMUM_LATITUDE = 63.2939
  POSITIVE_LONGITUDE_DIRECTION = EAST
  REFERENCE_LATITUDE = "N/A"
  REFERENCE_LONGITUDE = "N/A"
  SAMPLE_FIRST_PIXEL = 1
  SAMPLE_LAST_PIXEL = 15360
  SAMPLE_PROJECTION_OFFSET = 7355.0
  SECOND_STANDARD_PARALLEL = "N/A"
  WESTERNMOST_LONGITUDE = 72.1589
END_OBJECT = IMAGE_MAP_PROJECTION
END
