PDS_VERSION_ID = PDS3
/* FILE DATA ELEMENTS */
RECORD_TYPE = UNDEFINED
/* POINTERS TO DATA OBJECTS */
^IMAGE = ("H5472_0001_IR4.TIF")
/* IDENTIFICATION DATA ELEMENTS */
DATA_SET_ID = "MEX-M-HRSC-4-REFDR-MAPPROJECT-EXT2-V4.0"
DATA_SET_NAME = "MARS EXPRESS HRSC MAP PROJECTED REFDR EXTENSION2 V4.0"
DETECTOR_ID = MEX_HRSC_IR
EVENT_TYPE = "MARS-LOCAL-COLOR-Gl-Pf"
INSTRUMENT_HOST_ID = MEX
INSTRUMENT_HOST_NAME = "MARS EXPRESS"
INSTRUMENT_ID = HRSC
INSTRUMENT_NAME = "HIGH RESOLUTION STEREO CAMERA"
MISSION_NAME = "MARS EXPRESS"
MISSION_PHASE_NAME = ME_Phase_11
PROCESSING_LEVEL_ID = 4
PRODUCT_CREATION_TIME = 2023-02-02T05:41:08.000Z
PRODUCT_ID = "H5472_0001_IR4.TIF"
RELEASE_ID = 0002
REVISION_ID = 0000
/* QUALITY DATA ELEMENTS */
DATA_QUALITY_ID = 1
DATA_QUALITY_DESC = "Data calculated based on original SPICE kernels"
/* TIME DATA ELEMENTS */
SPACECRAFT_CLOCK_START_COUNT = "1/0155528376.08269"
SPACECRAFT_CLOCK_STOP_COUNT = "1/0155528517.49979"
START_TIME = 2008-04-06T02:19:39.852Z
STOP_TIME = 2008-04-06T02:20:34.495Z
/* ORBITAL DATA ELEMENTS */
ASCENDING_NODE_LONGITUDE = 114.43
MAXIMUM_RESOLUTION = 0.0191
FOOTPRINT_POINT_LATITUDE = (39.3694,39.379,39.385,39.3907,39.396, 39.401,39.4056,39.4098,39.4138,39.4174, 39.4207,39.4237,39.4263,39.4266,39.3699 ,39.2684,39.1336,38.9994,38.8987, 38.7655,38.6293,38.4606,38.328,38.1563, 37.9842,37.8808,37.745,37.6412,37.5702, 37.4625,37.3218,37.1485,37.0442,36.9394 ,36.8694,36.7647,36.6939,36.6227, 36.5514,36.4442,36.3725,36.3008,36.2302 ,36.1241,36.053,35.9463,35.9111,35.8934 ,35.8899,35.8878,35.8841,35.8811, 35.8765,35.87,35.8653,35.8595,35.8563, 35.853,35.8496,35.8462,35.8423,35.8342, 35.8291,35.8249,35.8239,35.8237,35.8952 ,35.9667,36.0379,36.1103,36.2184, 36.2903,36.3979,36.4679,36.5727,36.6439 ,36.7501,36.8208,36.891,36.9611,37.0319 ,37.1034,37.2107,37.3507,37.4208, 37.5259,37.6657,37.7685,37.9058,38.1121 ,38.2496,38.4214,38.5933,38.7301, 38.8645,38.9991,39.1336,39.268,39.3015, 39.3694)
FOOTPRINT_POINT_LONGITUDE = (26.588,26.3346,26.1669,26.0001,25.8343 ,25.6693,25.5052,25.3422,25.1801, 25.0189,24.8583,24.6986,24.5396,24.5198 ,24.5219,24.5221,24.5223,24.5223, 24.5223,24.522,24.5217,24.5209,24.5198, 24.5195,24.5192,24.519,24.5183,24.5178, 24.5177,24.5177,24.5172,24.516,24.5154, 24.5147,24.5143,24.5137,24.5132,24.5127 ,24.5122,24.5115,24.511,24.5105,24.5099 ,24.5089,24.5083,24.5073,24.507,24.5068 ,24.6727,24.7978,24.9654,25.1124, 25.2813,25.494,25.6647,25.8367,25.9232, 26.01,26.0969,26.184,26.2716,26.4056, 26.495,26.6473,26.6694,26.6803,26.6797, 26.679,26.6787,26.677,26.6753,26.6743, 26.673,26.6739,26.6757,26.6755,26.6738, 26.6725,26.6717,26.6711,26.6697,26.6676 ,26.6644,26.6634,26.6629,26.6621, 26.6609,26.6601,26.6588,26.6566,26.6552 ,26.6536,26.652,26.6508,26.6495,26.6481 ,26.6468,26.6456,26.6455,26.588)
ORBIT_NUMBER = 5472
ORBITAL_ECCENTRICITY = 0.569
ORBITAL_INCLINATION = 86.74
ORBITAL_SEMIMAJOR_AXIS = 8652.57
PERIAPSIS_ALTITUDE = 352.78
PERIAPSIS_ARGUMENT_ANGLE = 115.67
PERIAPSIS_TIME = 2008-04-06T02:13:44.000Z
SPACECRAFT_ORIENTATION = (0.0,-1.0,0.0)
^MEX_ORIENTATION_DESC = "MEX_ORIENTATION_DESC.TXT"
SPACECRAFT_POINTING_MODE = ACROSSTRACK
^MEX_POINTING_DESC = "MEX_POINTING_DESC.TXT"
RIGHT_ASCENSION = -1e+32
DECLINATION = -1e+32
OFFSET_ANGLE = 1.058
SPACECRAFT_SOLAR_DISTANCE = 2.48209e+08
TARGET_NAME = MARS
/* CAMERA DATA ELEMENTS */
DETECTOR_TEMPERATURE = 18.7783
FOCAL_PLANE_TEMPERATURE = 8.1755
INST_CMPRS_NAME = "DISCRETE COSINE TRANSFORMATION (DCT)"
INST_CMPRS_RATIO = 4.76209
INST_CMPRS_QUALITY = 0
INST_CMPRS_QUANTZ_TBL_ID = 0
INSTRUMENT_TEMPERATURE = 12.6613
LENS_TEMPERATURE = 8.3794
MACROPIXEL_SIZE = 1
MISSING_FRAMES = 0
PIXEL_SUBSAMPLING_FLAG = N
SIGNAL_CHAIN_ID = 3
/* RADIOMETRIC DATA ELEMENTS */
BANDWIDTH = 81.0
CENTER_FILTER_WAVELENGTH = 955.5
RADIANCE_OFFSET = 1.00359
RADIANCE_SCALING_FACTOR = 0.00661902
REFLECTANCE_SCALING_FACTOR = 0.000879744
MEX:REFLECTANCE_OFFSET = 0.133388
/* IMAGE OBJECT DEFINITIONS */
OBJECT = IMAGE
  INTERCHANGE_FORMAT = BINARY
  LINES = 8316
  LINE_SAMPLES = 4424
  SAMPLE_TYPE = UNSIGNED_INTEGER
  SAMPLE_BITS = 8
  BANDS = 1
  BAND_STORAGE_TYPE = BAND_SEQUENTIAL
  MAXIMUM = 254
  MEAN = 180.838
  MINIMUM = 1
  STANDARD_DEVIATION = 17.9231
END_OBJECT = IMAGE
/* MAP OBJECT DEFINITIONS */
OBJECT = IMAGE_MAP_PROJECTION
  ^DATA_SET_MAP_PROJECTION_CATALOG= "DSMAP.CAT"
  A_AXIS_RADIUS = 3396.0
  B_AXIS_RADIUS = 3396.0
  C_AXIS_RADIUS = 3396.0
  CENTER_LATITUDE = 0.0
  CENTER_LONGITUDE = 26.0
  COORDINATE_SYSTEM_NAME = PLANETOGRAPHIC
  COORDINATE_SYSTEM_TYPE = "BODY-FIXED ROTATING"
  EASTERNMOST_LONGITUDE = 26.6803
  FIRST_STANDARD_PARALLEL = "N/A"
  LINE_FIRST_PIXEL = 1
  LINE_LAST_PIXEL = 8316
  LINE_PROJECTION_OFFSET = 93383.0
  MAP_PROJECTION_ROTATION = 0.0
  MAP_PROJECTION_TYPE = SINUSOIDAL
  MAP_RESOLUTION = 2370.85521546667
  MAP_SCALE = 0.025
  MAXIMUM_LATITUDE = 39.4266
  MINIMUM_LATITUDE = 35.8237
  POSITIVE_LONGITUDE_DIRECTION = EAST
  REFERENCE_LATITUDE = "N/A"
  REFERENCE_LONGITUDE = "N/A"
  SAMPLE_FIRST_PIXEL = 1
  SAMPLE_LAST_PIXEL = 4424
  SAMPLE_PROJECTION_OFFSET = 3015.0
  SECOND_STANDARD_PARALLEL = "N/A"
  WESTERNMOST_LONGITUDE = 24.5068
END_OBJECT = IMAGE_MAP_PROJECTION
END
