PDS_VERSION_ID = PDS3
/* FILE DATA ELEMENTS */
RECORD_TYPE = UNDEFINED
/* POINTERS TO DATA OBJECTS */
^IMAGE = ("H5467_0000_S14.TIF")
/* IDENTIFICATION DATA ELEMENTS */
DATA_SET_ID = "MEX-M-HRSC-4-REFDR-MAPPROJECT-EXT2-V4.0"
DATA_SET_NAME = "MARS EXPRESS HRSC MAP PROJECTED REFDR EXTENSION2 V4.0"
DETECTOR_ID = MEX_HRSC_S1
EVENT_TYPE = "MARS-REGIONAL-MAPPING-Te-Im-Pf"
INSTRUMENT_HOST_ID = MEX
INSTRUMENT_HOST_NAME = "MARS EXPRESS"
INSTRUMENT_ID = HRSC
INSTRUMENT_NAME = "HIGH RESOLUTION STEREO CAMERA"
MISSION_NAME = "MARS EXPRESS"
MISSION_PHASE_NAME = ME_Phase_11
PROCESSING_LEVEL_ID = 4
PRODUCT_CREATION_TIME = 2023-02-02T05:41:08.000Z
PRODUCT_ID = "H5467_0000_S14.TIF"
RELEASE_ID = 0002
REVISION_ID = 0000
/* QUALITY DATA ELEMENTS */
DATA_QUALITY_ID = 1
DATA_QUALITY_DESC = "Data calculated based on original SPICE kernels"
/* TIME DATA ELEMENTS */
SPACECRAFT_CLOCK_START_COUNT = "1/0155404779.08422"
SPACECRAFT_CLOCK_STOP_COUNT = "1/0155405095.65161"
START_TIME = 2008-04-04T15:59:42.870Z
STOP_TIME = 2008-04-04T16:03:47.980Z
/* ORBITAL DATA ELEMENTS */
ASCENDING_NODE_LONGITUDE = 114.53
MAXIMUM_RESOLUTION = 0.0302
FOOTPRINT_POINT_LATITUDE = (67.4629,67.4379,67.4097,67.3752,67.374 ,67.2486,66.631,66.3215,66.0116,65.7011 ,65.3903,65.0791,64.6113,64.2992, 63.9867,63.6738,63.3606,62.8896,62.5754 ,62.1032,61.7881,61.4728,61.157,60.841, 60.5248,60.2083,59.8913,59.4159,59.0984 ,58.7808,58.4629,58.145,57.8268,57.5085 ,57.1898,56.7112,56.3921,56.0729, 55.5939,55.1142,54.7942,54.4744,54.1543 ,53.6734,53.3529,53.0319,52.5516, 52.2311,51.9104,51.5895,51.4061,51.403, 51.4126,51.4186,51.418,51.4178,51.4183, 51.9246,52.2458,52.7278,53.2106,53.5319 ,54.0138,54.3351,54.656,54.9772,55.4586 ,55.9395,56.4197,56.9003,57.3801,57.7, 58.0196,58.3393,58.8182,59.1374,59.4561 ,59.9338,60.4111,60.8881,61.2056, 61.6815,61.9985,62.4734,62.7898,63.2645 ,63.7366,64.0514,64.3662,64.6806, 64.9947,65.3084,65.6217,65.9348,66.2476 ,66.5596,66.8715,67.1829,67.3386, 67.4629)
FOOTPRINT_POINT_LONGITUDE = (163.994,162.81,161.83,160.864,160.835, 160.852,161.057,161.155,161.25,161.342, 161.431,161.518,161.644,161.724,161.802 ,161.878,161.952,162.059,162.127, 162.226,162.29,162.352,162.412,162.471, 162.527,162.583,162.636,162.714,162.764 ,162.812,162.86,162.905,162.95,162.993, 163.035,163.096,163.135,163.173,163.228 ,163.281,163.314,163.347,163.379, 163.425,163.455,163.483,163.525,163.551 ,163.577,163.602,163.616,163.616, 164.263,165.042,165.708,165.729,165.737 ,165.711,165.695,165.67,165.643,165.624 ,165.596,165.577,165.558,165.537, 165.506,165.474,165.441,165.406,165.371 ,165.346,165.321,165.295,165.256, 165.228,165.2,165.157,165.112,165.065, 165.033,164.984,164.949,164.896,164.86, 164.802,164.745,164.705,164.663,164.62, 164.577,164.532,164.485,164.438,164.389 ,164.339,164.287,164.234,164.206, 163.994)
ORBIT_NUMBER = 5467
ORBITAL_ECCENTRICITY = 0.569
ORBITAL_INCLINATION = 86.75
ORBITAL_SEMIMAJOR_AXIS = 8651.12
PERIAPSIS_ALTITUDE = 352.73
PERIAPSIS_ARGUMENT_ANGLE = 116.55
PERIAPSIS_TIME = 2008-04-04T16:01:17.000Z
SPACECRAFT_ORIENTATION = (0.0,-1.0,0.0)
^MEX_ORIENTATION_DESC = "MEX_ORIENTATION_DESC.TXT"
SPACECRAFT_POINTING_MODE = ACROSSTRACK
^MEX_POINTING_DESC = "MEX_POINTING_DESC.TXT"
RIGHT_ASCENSION = -1e+32
DECLINATION = -1e+32
OFFSET_ANGLE = 0.5
SPACECRAFT_SOLAR_DISTANCE = 2.4813e+08
TARGET_NAME = MARS
/* CAMERA DATA ELEMENTS */
DETECTOR_TEMPERATURE = 16.9432
FOCAL_PLANE_TEMPERATURE = 8.1755
INST_CMPRS_NAME = "DISCRETE COSINE TRANSFORMATION (DCT)"
INST_CMPRS_RATIO = 12.3777
INST_CMPRS_QUALITY = 0
INST_CMPRS_QUANTZ_TBL_ID = 0
INSTRUMENT_TEMPERATURE = 11.234
LENS_TEMPERATURE = 8.7872
MACROPIXEL_SIZE = 2
MISSING_FRAMES = 0
PIXEL_SUBSAMPLING_FLAG = N
SIGNAL_CHAIN_ID = 1
/* RADIOMETRIC DATA ELEMENTS */
BANDWIDTH = 180.0
CENTER_FILTER_WAVELENGTH = 677.0
RADIANCE_OFFSET = 3.40959
RADIANCE_SCALING_FACTOR = 0.0282762
REFLECTANCE_SCALING_FACTOR = 0.000908281
MEX:REFLECTANCE_OFFSET = 0.109522
/* IMAGE OBJECT DEFINITIONS */
OBJECT = IMAGE
  INTERCHANGE_FORMAT = BINARY
  LINES = 37861
  LINE_SAMPLES = 5458
  SAMPLE_TYPE = UNSIGNED_INTEGER
  SAMPLE_BITS = 8
  BANDS = 1
  BAND_STORAGE_TYPE = BAND_SEQUENTIAL
  MAXIMUM = 255
  MEAN = 58.2685
  MINIMUM = 1
  STANDARD_DEVIATION = 17.3528
END_OBJECT = IMAGE
/* MAP OBJECT DEFINITIONS */
OBJECT = IMAGE_MAP_PROJECTION
  ^DATA_SET_MAP_PROJECTION_CATALOG= "DSMAP.CAT"
  A_AXIS_RADIUS = 3396.0
  B_AXIS_RADIUS = 3396.0
  C_AXIS_RADIUS = 3396.0
  CENTER_LATITUDE = 0.0
  CENTER_LONGITUDE = 164.0
  COORDINATE_SYSTEM_NAME = PLANETOGRAPHIC
  COORDINATE_SYSTEM_TYPE = "BODY-FIXED ROTATING"
  EASTERNMOST_LONGITUDE = 165.737
  FIRST_STANDARD_PARALLEL = "N/A"
  LINE_FIRST_PIXEL = 1
  LINE_LAST_PIXEL = 37861
  LINE_PROJECTION_OFFSET = 159746.25
  MAP_PROJECTION_ROTATION = 0.0
  MAP_PROJECTION_TYPE = SINUSOIDAL
  MAP_RESOLUTION = 2370.85521546667
  MAP_SCALE = 0.025
  MAXIMUM_LATITUDE = 67.4629
  MINIMUM_LATITUDE = 51.403
  POSITIVE_LONGITUDE_DIRECTION = EAST
  REFERENCE_LATITUDE = "N/A"
  REFERENCE_LONGITUDE = "N/A"
  SAMPLE_FIRST_PIXEL = 1
  SAMPLE_LAST_PIXEL = 5458
  SAMPLE_PROJECTION_OFFSET = 2881.75
  SECOND_STANDARD_PARALLEL = "N/A"
  WESTERNMOST_LONGITUDE = 160.835
END_OBJECT = IMAGE_MAP_PROJECTION
END
