PDS_VERSION_ID = PDS3
/* FILE DATA ELEMENTS */
RECORD_TYPE = UNDEFINED
/* POINTERS TO DATA OBJECTS */
^IMAGE = ("H5462_0000_S14.TIF")
/* IDENTIFICATION DATA ELEMENTS */
DATA_SET_ID = "MEX-M-HRSC-4-REFDR-MAPPROJECT-EXT2-V4.0"
DATA_SET_NAME = "MARS EXPRESS HRSC MAP PROJECTED REFDR EXTENSION2 V4.0"
DETECTOR_ID = MEX_HRSC_S1
EVENT_TYPE = "MARS-REGIONAL-MAPPING-Te-Im-Pf"
INSTRUMENT_HOST_ID = MEX
INSTRUMENT_HOST_NAME = "MARS EXPRESS"
INSTRUMENT_ID = HRSC
INSTRUMENT_NAME = "HIGH RESOLUTION STEREO CAMERA"
MISSION_NAME = "MARS EXPRESS"
MISSION_PHASE_NAME = ME_Phase_11
PROCESSING_LEVEL_ID = 4
PRODUCT_CREATION_TIME = 2023-02-02T05:41:08.000Z
PRODUCT_ID = "H5462_0000_S14.TIF"
RELEASE_ID = 0002
REVISION_ID = 0000
/* QUALITY DATA ELEMENTS */
DATA_QUALITY_ID = 1
DATA_QUALITY_DESC = "Data calculated based on original SPICE kernels"
/* TIME DATA ELEMENTS */
SPACECRAFT_CLOCK_START_COUNT = "1/0155281556.08253"
SPACECRAFT_CLOCK_STOP_COUNT = "1/0155281826.07586"
START_TIME = 2008-04-03T05:45:59.861Z
STOP_TIME = 2008-04-03T05:49:23.751Z
/* ORBITAL DATA ELEMENTS */
ASCENDING_NODE_LONGITUDE = 114.64
MAXIMUM_RESOLUTION = 0.0301
FOOTPRINT_POINT_LATITUDE = (70.9875,70.9352,70.8382,70.779,70.7766 ,70.6331,70.3427,70.0517,69.7601, 69.4681,69.1752,68.7579,68.2646,67.7698 ,67.3977,66.9004,66.6513,66.4021, 66.0274,65.7773,65.5271,65.2764,65.0254 ,64.774,64.5221,64.27,64.0177,63.7651, 63.3856,63.1324,62.8789,62.6247,62.3707 ,62.1163,61.8615,61.6066,61.2236, 60.9682,60.7124,60.4567,60.0692,59.8125 ,59.4275,59.1703,58.9134,58.656,58.3984 ,58.1407,57.883,57.754,57.7464,57.7953, 57.8269,57.8526,57.8534,57.8541,58.1135 ,58.3722,58.7604,59.019,59.2775,59.5359 ,59.7939,60.1807,60.5707,60.8284, 61.2144,61.4717,61.8565,62.1131,62.3693 ,62.6253,63.0092,63.2647,63.5201, 63.7752,64.0299,64.2846,64.5389,64.793, 65.0467,65.4269,65.6805,65.9332,66.312, 66.5642,66.8161,67.1938,67.4452,67.6962 ,68.0724,68.573,69.0723,69.3692,69.8144 ,70.1106,70.4064,70.7017,70.8491, 70.9875)
FOOTPRINT_POINT_LONGITUDE = (301.625,300.516,298.787,297.872, 297.835,297.76,297.933,298.101,298.264, 298.421,298.574,298.784,299.02,299.244, 299.405,299.611,299.711,299.808,299.949 ,300.041,300.13,300.217,300.303,300.386 ,300.467,300.547,300.625,300.701, 300.812,300.883,300.954,301.022,301.089 ,301.155,301.219,301.282,301.373, 301.433,301.491,301.548,301.631,301.685 ,301.764,301.814,301.864,301.913, 301.961,302.007,302.053,302.075,302.077 ,303.006,303.708,304.387,304.41,304.418 ,304.389,304.359,304.312,304.281, 304.249,304.216,304.182,304.131,304.078 ,304.042,303.986,303.948,303.891, 303.851,303.81,303.769,303.706,303.662, 303.618,303.573,303.527,303.479,303.431 ,303.382,303.332,303.255,303.202, 303.148,303.065,303.008,302.95,302.86, 302.798,302.735,302.637,302.501,302.359 ,302.271,302.133,302.038,301.94,301.839 ,301.788,301.625)
ORBIT_NUMBER = 5462
ORBITAL_ECCENTRICITY = 0.569
ORBITAL_INCLINATION = 86.75
ORBITAL_SEMIMAJOR_AXIS = 8652.3
PERIAPSIS_ALTITUDE = 351.8
PERIAPSIS_ARGUMENT_ANGLE = 117.45
PERIAPSIS_TIME = 2008-04-03T05:48:45.000Z
SPACECRAFT_ORIENTATION = (0.0,-1.0,0.0)
^MEX_ORIENTATION_DESC = "MEX_ORIENTATION_DESC.TXT"
SPACECRAFT_POINTING_MODE = ACROSSTRACK
^MEX_POINTING_DESC = "MEX_POINTING_DESC.TXT"
RIGHT_ASCENSION = -1e+32
DECLINATION = -1e+32
OFFSET_ANGLE = -0.1
SPACECRAFT_SOLAR_DISTANCE = 2.48047e+08
TARGET_NAME = MARS
/* CAMERA DATA ELEMENTS */
DETECTOR_TEMPERATURE = 17.5549
FOCAL_PLANE_TEMPERATURE = 7.7677
INST_CMPRS_NAME = "DISCRETE COSINE TRANSFORMATION (DCT)"
INST_CMPRS_RATIO = 12.4147
INST_CMPRS_QUALITY = 0
INST_CMPRS_QUANTZ_TBL_ID = 0
INSTRUMENT_TEMPERATURE = 10.8262
LENS_TEMPERATURE = 8.1755
MACROPIXEL_SIZE = 2
MISSING_FRAMES = 1
PIXEL_SUBSAMPLING_FLAG = N
SIGNAL_CHAIN_ID = 1
/* RADIOMETRIC DATA ELEMENTS */
BANDWIDTH = 180.0
CENTER_FILTER_WAVELENGTH = 677.0
RADIANCE_OFFSET = 3.46548
RADIANCE_SCALING_FACTOR = 0.0173165
REFLECTANCE_SCALING_FACTOR = 0.000555866
MEX:REFLECTANCE_OFFSET = 0.111244
/* IMAGE OBJECT DEFINITIONS */
OBJECT = IMAGE
  INTERCHANGE_FORMAT = BINARY
  LINES = 31021
  LINE_SAMPLES = 6354
  SAMPLE_TYPE = UNSIGNED_INTEGER
  SAMPLE_BITS = 8
  BANDS = 1
  BAND_STORAGE_TYPE = BAND_SEQUENTIAL
  MAXIMUM = 255
  MEAN = 54.7436
  MINIMUM = 1
  STANDARD_DEVIATION = 23.8811
END_OBJECT = IMAGE
/* MAP OBJECT DEFINITIONS */
OBJECT = IMAGE_MAP_PROJECTION
  ^DATA_SET_MAP_PROJECTION_CATALOG= "DSMAP.CAT"
  A_AXIS_RADIUS = 3396.0
  B_AXIS_RADIUS = 3396.0
  C_AXIS_RADIUS = 3396.0
  CENTER_LATITUDE = 0.0
  CENTER_LONGITUDE = 302.0
  COORDINATE_SYSTEM_NAME = PLANETOGRAPHIC
  COORDINATE_SYSTEM_TYPE = "BODY-FIXED ROTATING"
  EASTERNMOST_LONGITUDE = 304.418
  FIRST_STANDARD_PARALLEL = "N/A"
  LINE_FIRST_PIXEL = 1
  LINE_LAST_PIXEL = 31021
  LINE_PROJECTION_OFFSET = 168007.25
  MAP_PROJECTION_ROTATION = 0.0
  MAP_PROJECTION_TYPE = SINUSOIDAL
  MAP_RESOLUTION = 2370.85521546667
  MAP_SCALE = 0.025
  MAXIMUM_LATITUDE = 70.9875
  MINIMUM_LATITUDE = 57.7464
  POSITIVE_LONGITUDE_DIRECTION = EAST
  REFERENCE_LATITUDE = "N/A"
  REFERENCE_LONGITUDE = "N/A"
  SAMPLE_FIRST_PIXEL = 1
  SAMPLE_LAST_PIXEL = 6354
  SAMPLE_PROJECTION_OFFSET = 3308.75
  SECOND_STANDARD_PARALLEL = "N/A"
  WESTERNMOST_LONGITUDE = 297.76
END_OBJECT = IMAGE_MAP_PROJECTION
END
