PDS_VERSION_ID = PDS3
/* FILE DATA ELEMENTS */
RECORD_TYPE = UNDEFINED
/* POINTERS TO DATA OBJECTS */
^IMAGE = ("H5457_0000_S14.TIF")
/* IDENTIFICATION DATA ELEMENTS */
DATA_SET_ID = "MEX-M-HRSC-4-REFDR-MAPPROJECT-EXT2-V4.0"
DATA_SET_NAME = "MARS EXPRESS HRSC MAP PROJECTED REFDR EXTENSION2 V4.0"
DETECTOR_ID = MEX_HRSC_S1
EVENT_TYPE = "MARS-REGIONAL-MAPPING-Te-Im-Pf"
INSTRUMENT_HOST_ID = MEX
INSTRUMENT_HOST_NAME = "MARS EXPRESS"
INSTRUMENT_ID = HRSC
INSTRUMENT_NAME = "HIGH RESOLUTION STEREO CAMERA"
MISSION_NAME = "MARS EXPRESS"
MISSION_PHASE_NAME = ME_Phase_11
PROCESSING_LEVEL_ID = 4
PRODUCT_CREATION_TIME = 2023-02-02T05:41:08.000Z
PRODUCT_ID = "H5457_0000_S14.TIF"
RELEASE_ID = 0002
REVISION_ID = 0000
/* QUALITY DATA ELEMENTS */
DATA_QUALITY_ID = 1
DATA_QUALITY_DESC = "Data calculated based on original SPICE kernels"
/* TIME DATA ELEMENTS */
SPACECRAFT_CLOCK_START_COUNT = "1/0155158430.09089"
SPACECRAFT_CLOCK_STOP_COUNT = "1/0155158659.57334"
START_TIME = 2008-04-01T19:33:53.868Z
STOP_TIME = 2008-04-01T19:36:37.882Z
/* ORBITAL DATA ELEMENTS */
ASCENDING_NODE_LONGITUDE = 114.73
MAXIMUM_RESOLUTION = 0.0299
FOOTPRINT_POINT_LATITUDE = (68.5286,68.4843,68.4547,68.4022,68.352 ,68.3499,68.2201,67.9171,67.5116,67.207 ,66.7998,66.2896,65.9828,65.7781, 65.5729,65.3673,65.1619,64.853,64.647, 64.4406,64.2342,63.924,63.7171,63.5098, 63.3026,63.0951,62.8871,62.6792,62.4711 ,62.2632,62.0544,61.7414,61.5326, 61.3233,61.114,60.9046,60.5902,60.3802, 60.1704,59.8518,59.6414,59.431,59.2205, 59.0102,58.7994,58.5885,58.2712,57.9544 ,57.8487,57.8103,57.857,57.8881,57.915, 57.9157,57.9164,58.129,58.3414,58.5537, 58.7659,58.9779,59.2958,59.5078,59.7194 ,59.9308,60.1458,60.3573,60.5685, 60.7795,61.0955,61.3062,61.5168,61.7272 ,61.9376,62.1477,62.3578,62.5674, 62.8819,63.0913,63.4052,63.6143,63.8231 ,64.0318,64.3446,64.6564,64.8644,65.073 ,65.3847,65.6954,65.9025,66.1096, 66.3166,66.5231,66.8329,67.039,67.2445, 67.4501,67.7583,68.2707,68.373,68.5286)
FOOTPRINT_POINT_LONGITUDE = (82.747,81.7794,81.1996,80.2682,79.4662 ,79.4342,79.3626,79.5014,79.6797, 79.8089,79.9753,80.1743,80.2892,80.364, 80.4373,80.5091,80.5797,80.683,80.7504, 80.8164,80.8812,80.9762,81.0381,81.0988 ,81.1585,81.217,81.2744,81.3308,81.3862 ,81.4408,81.494,81.5724,81.6235,81.6735 ,81.7227,81.771,81.8419,81.888,81.9335, 82.0007,82.0441,82.0868,82.1287,82.17, 82.2105,82.2502,82.3081,82.3649,82.3835 ,82.3903,83.2895,83.9866,84.6834, 84.7059,84.7139,84.6898,84.6654,84.6406 ,84.6153,84.5898,84.5507,84.524,84.4971 ,84.4698,84.4414,84.4131,84.3843, 84.3552,84.3108,84.2805,84.2497,84.2185 ,84.1866,84.1543,84.1214,84.0882, 84.0371,84.0024,83.9491,83.9129,83.8761 ,83.8387,83.7813,83.723,83.6829,83.6415 ,83.5788,83.5149,83.4712,83.4266, 83.3811,83.3349,83.2639,83.2156,83.1667 ,83.1167,83.0397,82.9067,82.8793, 82.747)
ORBIT_NUMBER = 5457
ORBITAL_ECCENTRICITY = 0.569
ORBITAL_INCLINATION = 86.76
ORBITAL_SEMIMAJOR_AXIS = 8657.82
PERIAPSIS_ALTITUDE = 350.33
PERIAPSIS_ARGUMENT_ANGLE = 118.29
PERIAPSIS_TIME = 2008-04-01T19:36:12.000Z
SPACECRAFT_ORIENTATION = (0.0,-1.0,0.0)
^MEX_ORIENTATION_DESC = "MEX_ORIENTATION_DESC.TXT"
SPACECRAFT_POINTING_MODE = ACROSSTRACK
^MEX_POINTING_DESC = "MEX_POINTING_DESC.TXT"
RIGHT_ASCENSION = -1e+32
DECLINATION = -1e+32
OFFSET_ANGLE = -0.1
SPACECRAFT_SOLAR_DISTANCE = 2.47962e+08
TARGET_NAME = MARS
/* CAMERA DATA ELEMENTS */
DETECTOR_TEMPERATURE = 17.1471
FOCAL_PLANE_TEMPERATURE = 7.9716
INST_CMPRS_NAME = "DISCRETE COSINE TRANSFORMATION (DCT)"
INST_CMPRS_RATIO = 12.3779
INST_CMPRS_QUALITY = 0
INST_CMPRS_QUANTZ_TBL_ID = 0
INSTRUMENT_TEMPERATURE = 11.234
LENS_TEMPERATURE = 8.5833
MACROPIXEL_SIZE = 2
MISSING_FRAMES = 1
PIXEL_SUBSAMPLING_FLAG = N
SIGNAL_CHAIN_ID = 1
/* RADIOMETRIC DATA ELEMENTS */
BANDWIDTH = 180.0
CENTER_FILTER_WAVELENGTH = 677.0
RADIANCE_OFFSET = 3.13546
RADIANCE_SCALING_FACTOR = 0.0266848
REFLECTANCE_SCALING_FACTOR = 0.000856008
MEX:REFLECTANCE_OFFSET = 0.100581
/* IMAGE OBJECT DEFINITIONS */
OBJECT = IMAGE
  INTERCHANGE_FORMAT = BINARY
  LINES = 25088
  LINE_SAMPLES = 5332
  SAMPLE_TYPE = UNSIGNED_INTEGER
  SAMPLE_BITS = 8
  BANDS = 1
  BAND_STORAGE_TYPE = BAND_SEQUENTIAL
  MAXIMUM = 255
  MEAN = 60.4511
  MINIMUM = 1
  STANDARD_DEVIATION = 34.8095
END_OBJECT = IMAGE
/* MAP OBJECT DEFINITIONS */
OBJECT = IMAGE_MAP_PROJECTION
  ^DATA_SET_MAP_PROJECTION_CATALOG= "DSMAP.CAT"
  A_AXIS_RADIUS = 3396.0
  B_AXIS_RADIUS = 3396.0
  C_AXIS_RADIUS = 3396.0
  CENTER_LATITUDE = 0.0
  CENTER_LONGITUDE = 83.0
  COORDINATE_SYSTEM_NAME = PLANETOGRAPHIC
  COORDINATE_SYSTEM_TYPE = "BODY-FIXED ROTATING"
  EASTERNMOST_LONGITUDE = 84.7139
  FIRST_STANDARD_PARALLEL = "N/A"
  LINE_FIRST_PIXEL = 1
  LINE_LAST_PIXEL = 25088
  LINE_PROJECTION_OFFSET = 162193.75
  MAP_PROJECTION_ROTATION = 0.0
  MAP_PROJECTION_TYPE = SINUSOIDAL
  MAP_RESOLUTION = 2370.85521546667
  MAP_SCALE = 0.025
  MAXIMUM_LATITUDE = 68.5286
  MINIMUM_LATITUDE = 57.8103
  POSITIVE_LONGITUDE_DIRECTION = EAST
  REFERENCE_LATITUDE = "N/A"
  REFERENCE_LONGITUDE = "N/A"
  SAMPLE_FIRST_PIXEL = 1
  SAMPLE_LAST_PIXEL = 5332
  SAMPLE_PROJECTION_OFFSET = 3179.25
  SECOND_STANDARD_PARALLEL = "N/A"
  WESTERNMOST_LONGITUDE = 79.3626
END_OBJECT = IMAGE_MAP_PROJECTION
END
