PDS_VERSION_ID = PDS3
/* FILE DATA ELEMENTS */
RECORD_TYPE = UNDEFINED
/* POINTERS TO DATA OBJECTS */
^IMAGE = ("H5455_0000_S14.TIF")
/* IDENTIFICATION DATA ELEMENTS */
DATA_SET_ID = "MEX-M-HRSC-4-REFDR-MAPPROJECT-EXT2-V4.0"
DATA_SET_NAME = "MARS EXPRESS HRSC MAP PROJECTED REFDR EXTENSION2 V4.0"
DETECTOR_ID = MEX_HRSC_S1
EVENT_TYPE = "MARS-REGIONAL-MAPPING-Te-Im-Pf"
INSTRUMENT_HOST_ID = MEX
INSTRUMENT_HOST_NAME = "MARS EXPRESS"
INSTRUMENT_ID = HRSC
INSTRUMENT_NAME = "HIGH RESOLUTION STEREO CAMERA"
MISSION_NAME = "MARS EXPRESS"
MISSION_PHASE_NAME = ME_Phase_11
PROCESSING_LEVEL_ID = 4
PRODUCT_CREATION_TIME = 2023-02-02T05:41:08.000Z
PRODUCT_ID = "H5455_0000_S14.TIF"
RELEASE_ID = 0002
REVISION_ID = 0000
/* QUALITY DATA ELEMENTS */
DATA_QUALITY_ID = 1
DATA_QUALITY_DESC = "Data calculated based on original SPICE kernels"
/* TIME DATA ELEMENTS */
SPACECRAFT_CLOCK_START_COUNT = "1/0155109165.07310"
SPACECRAFT_CLOCK_STOP_COUNT = "1/0155109427.48193"
START_TIME = 2008-04-01T05:52:48.856Z
STOP_TIME = 2008-04-01T05:56:05.002Z
/* ORBITAL DATA ELEMENTS */
ASCENDING_NODE_LONGITUDE = 114.78
MAXIMUM_RESOLUTION = 0.03
FOOTPRINT_POINT_LATITUDE = (68.6059,68.5561,68.5072,68.4529,68.451 ,68.3177,67.8905,67.4084,66.9246, 66.3185,66.0752,65.8316,65.5876,65.2213 ,64.9767,64.7316,64.4861,64.2405, 63.9947,63.7484,63.5019,63.2552,63.0082 ,62.6374,62.3899,62.142,61.7697,61.5214 ,61.2725,61.0236,60.7747,60.5253, 60.1509,59.7761,59.5259,59.2751,59.0247 ,58.7705,58.5198,58.2687,58.0175, 57.6399,57.3881,57.1362,56.758,56.5057, 56.2533,56.0011,55.8746,55.8376,55.8748 ,55.911,55.9115,55.9121,56.2929,56.5461 ,56.7995,57.0527,57.3058,57.5586, 57.8114,58.0641,58.4429,58.6953,58.9473 ,59.3288,59.5805,59.832,60.0832,60.3344 ,60.5854,60.8361,61.0868,61.3374, 61.5877,61.8377,62.0879,62.3374,62.7115 ,62.9607,63.2096,63.5825,63.8308, 64.0788,64.3267,64.6982,64.9455,65.1927 ,65.44,65.8089,66.0551,66.3008,66.5463, 66.7915,67.0361,67.5251,68.013,68.2936, 68.4389,68.6059)
FOOTPRINT_POINT_LONGITUDE = (283.375,282.094,281.051,280.048, 280.015,279.972,280.159,280.359,280.55, 280.777,280.864,280.949,281.032,281.153 ,281.231,281.308,281.383,281.456, 281.528,281.598,281.667,281.734,281.799 ,281.895,281.957,282.018,282.106, 282.164,282.22,282.275,282.329,282.382, 282.459,282.533,282.582,282.629,282.675 ,282.721,282.766,282.809,282.852, 282.914,282.954,282.994,283.051,283.089 ,283.125,283.161,283.179,283.184, 284.124,285.373,285.395,285.403,285.369 ,285.346,285.323,285.299,285.275,285.25 ,285.225,285.2,285.161,285.134,285.107, 285.065,285.036,285.008,284.978,284.948 ,284.918,284.887,284.855,284.822, 284.789,284.756,284.721,284.686,284.632 ,284.596,284.558,284.501,284.461, 284.421,284.38,284.317,284.274,284.23, 284.184,284.116,284.068,284.02,283.97, 283.92,283.869,283.762,283.651,283.584, 283.549,283.375)
ORBIT_NUMBER = 5455
ORBITAL_ECCENTRICITY = 0.569
ORBITAL_INCLINATION = 86.74
ORBITAL_SEMIMAJOR_AXIS = 8655.5
PERIAPSIS_ALTITUDE = 351.05
PERIAPSIS_ARGUMENT_ANGLE = 118.66
PERIAPSIS_TIME = 2008-04-01T05:55:14.000Z
SPACECRAFT_ORIENTATION = (0.0,-1.0,0.0)
^MEX_ORIENTATION_DESC = "MEX_ORIENTATION_DESC.TXT"
SPACECRAFT_POINTING_MODE = ACROSSTRACK
^MEX_POINTING_DESC = "MEX_POINTING_DESC.TXT"
RIGHT_ASCENSION = -1e+32
DECLINATION = -1e+32
OFFSET_ANGLE = 0.1
SPACECRAFT_SOLAR_DISTANCE = 2.47928e+08
TARGET_NAME = MARS
/* CAMERA DATA ELEMENTS */
DETECTOR_TEMPERATURE = 17.1471
FOCAL_PLANE_TEMPERATURE = 8.1755
INST_CMPRS_NAME = "DISCRETE COSINE TRANSFORMATION (DCT)"
INST_CMPRS_RATIO = 12.5365
INST_CMPRS_QUALITY = 0
INST_CMPRS_QUANTZ_TBL_ID = 0
INSTRUMENT_TEMPERATURE = 11.234
LENS_TEMPERATURE = 8.3794
MACROPIXEL_SIZE = 2
MISSING_FRAMES = 1
PIXEL_SUBSAMPLING_FLAG = N
SIGNAL_CHAIN_ID = 1
/* RADIOMETRIC DATA ELEMENTS */
BANDWIDTH = 180.0
CENTER_FILTER_WAVELENGTH = 677.0
RADIANCE_OFFSET = 4.58338
RADIANCE_SCALING_FACTOR = 0.0116174
REFLECTANCE_SCALING_FACTOR = 0.000372563
MEX:REFLECTANCE_OFFSET = 0.146987
/* IMAGE OBJECT DEFINITIONS */
OBJECT = IMAGE
  INTERCHANGE_FORMAT = BINARY
  LINES = 29981
  LINE_SAMPLES = 5820
  SAMPLE_TYPE = UNSIGNED_INTEGER
  SAMPLE_BITS = 8
  BANDS = 1
  BAND_STORAGE_TYPE = BAND_SEQUENTIAL
  MAXIMUM = 255
  MEAN = 118.318
  MINIMUM = 1
  STANDARD_DEVIATION = 44.268
END_OBJECT = IMAGE
/* MAP OBJECT DEFINITIONS */
OBJECT = IMAGE_MAP_PROJECTION
  ^DATA_SET_MAP_PROJECTION_CATALOG= "DSMAP.CAT"
  A_AXIS_RADIUS = 3396.0
  B_AXIS_RADIUS = 3396.0
  C_AXIS_RADIUS = 3396.0
  CENTER_LATITUDE = 0.0
  CENTER_LONGITUDE = 283.0
  COORDINATE_SYSTEM_NAME = PLANETOGRAPHIC
  COORDINATE_SYSTEM_TYPE = "BODY-FIXED ROTATING"
  EASTERNMOST_LONGITUDE = 285.403
  FIRST_STANDARD_PARALLEL = "N/A"
  LINE_FIRST_PIXEL = 1
  LINE_LAST_PIXEL = 29981
  LINE_PROJECTION_OFFSET = 162404.25
  MAP_PROJECTION_ROTATION = 0.0
  MAP_PROJECTION_TYPE = SINUSOIDAL
  MAP_RESOLUTION = 2370.85521546667
  MAP_SCALE = 0.025
  MAXIMUM_LATITUDE = 68.60590000000001
  MINIMUM_LATITUDE = 55.8376
  POSITIVE_LONGITUDE_DIRECTION = EAST
  REFERENCE_LATITUDE = "N/A"
  REFERENCE_LONGITUDE = "N/A"
  SAMPLE_FIRST_PIXEL = 1
  SAMPLE_LAST_PIXEL = 5820
  SAMPLE_PROJECTION_OFFSET = 2632.75
  SECOND_STANDARD_PARALLEL = "N/A"
  WESTERNMOST_LONGITUDE = 279.972
END_OBJECT = IMAGE_MAP_PROJECTION
END
