PDS_VERSION_ID = PDS3
/* FILE DATA ELEMENTS */
RECORD_TYPE = UNDEFINED
/* POINTERS TO DATA OBJECTS */
^IMAGE = ("H5455_0000_ND4.TIF")
/* IDENTIFICATION DATA ELEMENTS */
DATA_SET_ID = "MEX-M-HRSC-4-REFDR-MAPPROJECT-EXT2-V4.0"
DATA_SET_NAME = "MARS EXPRESS HRSC MAP PROJECTED REFDR EXTENSION2 V4.0"
DETECTOR_ID = MEX_HRSC_NADIR
EVENT_TYPE = "MARS-REGIONAL-MAPPING-Te-Im-Pf"
INSTRUMENT_HOST_ID = MEX
INSTRUMENT_HOST_NAME = "MARS EXPRESS"
INSTRUMENT_ID = HRSC
INSTRUMENT_NAME = "HIGH RESOLUTION STEREO CAMERA"
MISSION_NAME = "MARS EXPRESS"
MISSION_PHASE_NAME = ME_Phase_11
PROCESSING_LEVEL_ID = 4
PRODUCT_CREATION_TIME = 2023-02-02T05:41:08.000Z
PRODUCT_ID = "H5455_0000_ND4.TIF"
RELEASE_ID = 0002
REVISION_ID = 0000
/* QUALITY DATA ELEMENTS */
DATA_QUALITY_ID = 1
DATA_QUALITY_DESC = "Data calculated based on original SPICE kernels"
/* TIME DATA ELEMENTS */
SPACECRAFT_CLOCK_START_COUNT = "1/0155109165.07310"
SPACECRAFT_CLOCK_STOP_COUNT = "1/0155109427.48193"
START_TIME = 2008-04-01T05:53:22.604Z
STOP_TIME = 2008-04-01T05:56:36.594Z
/* ORBITAL DATA ELEMENTS */
ASCENDING_NODE_LONGITUDE = 114.78
MAXIMUM_RESOLUTION = 0.0141
FOOTPRINT_POINT_LATITUDE = (68.4937,68.4285,68.3421,68.3403, 68.3364,67.8426,67.348,66.8528,66.3569, 65.8604,65.3633,64.8658,64.6168,64.3677 ,64.1186,63.8693,63.6199,63.3704, 63.1209,62.8713,62.6215,62.3718,62.1219 ,61.872,61.4971,61.247,60.997,60.7468, 60.4967,60.2465,59.9963,59.7461,59.4958 ,59.2456,58.9953,58.7451,58.4948, 58.2446,57.9943,57.7441,57.4939,56.9935 ,56.4933,55.9933,55.8683,55.8551, 55.8749,55.8946,55.9187,55.9341,55.9347 ,55.9352,56.1862,56.4372,56.6883, 56.9395,57.1907,57.4419,57.6932,57.9445 ,58.1959,58.4473,58.6988,58.9502, 59.2017,59.4532,59.7047,59.9563,60.2078 ,60.4594,60.8367,61.214,61.4655,61.717, 61.9685,62.2199,62.4714,62.7228,62.9742 ,63.2255,63.4768,63.728,63.9792,64.2303 ,64.4814,64.7324,64.9834,65.2342,65.485 ,65.8611,66.1117,66.3622,66.6126, 66.8629,67.1131,67.3632,67.8631,68.3625 ,68.4873,68.4937)
FOOTPRINT_POINT_LONGITUDE = (283.349,281.793,280.126,280.094, 279.991,280.203,280.405,280.597,280.779 ,280.953,281.118,281.276,281.352, 281.426,281.499,281.57,281.639,281.706, 281.772,281.837,281.9,281.962,282.022, 282.081,282.167,282.222,282.277,282.33, 282.382,282.433,282.483,282.532,282.579 ,282.625,282.671,282.716,282.759, 282.802,282.843,282.884,282.924,283.001 ,283.075,283.145,283.162,283.164, 283.624,284.129,284.835,285.366,285.388 ,285.399,285.376,285.353,285.329, 285.305,285.281,285.256,285.23,285.204, 285.178,285.151,285.124,285.096,285.067 ,285.038,285.009,284.979,284.948, 284.917,284.869,284.819,284.785,284.751 ,284.716,284.68,284.643,284.606,284.567 ,284.528,284.488,284.448,284.406, 284.364,284.32,284.276,284.23,284.184, 284.136,284.064,284.014,283.963,283.91, 283.857,283.802,283.746,283.63,283.508, 283.476,283.349)
ORBIT_NUMBER = 5455
ORBITAL_ECCENTRICITY = 0.569
ORBITAL_INCLINATION = 86.74
ORBITAL_SEMIMAJOR_AXIS = 8655.5
PERIAPSIS_ALTITUDE = 351.05
PERIAPSIS_ARGUMENT_ANGLE = 118.66
PERIAPSIS_TIME = 2008-04-01T05:55:14.000Z
SPACECRAFT_ORIENTATION = (0.0,-1.0,0.0)
^MEX_ORIENTATION_DESC = "MEX_ORIENTATION_DESC.TXT"
SPACECRAFT_POINTING_MODE = ACROSSTRACK
^MEX_POINTING_DESC = "MEX_POINTING_DESC.TXT"
RIGHT_ASCENSION = -1e+32
DECLINATION = -1e+32
OFFSET_ANGLE = 0.1
SPACECRAFT_SOLAR_DISTANCE = 2.47928e+08
TARGET_NAME = MARS
/* CAMERA DATA ELEMENTS */
DETECTOR_TEMPERATURE = 18.3705
FOCAL_PLANE_TEMPERATURE = 8.1755
INST_CMPRS_NAME = "DISCRETE COSINE TRANSFORMATION (DCT)"
INST_CMPRS_RATIO = 7.15735
INST_CMPRS_QUALITY = 0
INST_CMPRS_QUANTZ_TBL_ID = 0
INSTRUMENT_TEMPERATURE = 11.234
LENS_TEMPERATURE = 8.3794
MACROPIXEL_SIZE = 1
MISSING_FRAMES = 0
PIXEL_SUBSAMPLING_FLAG = N
SIGNAL_CHAIN_ID = 0
/* RADIOMETRIC DATA ELEMENTS */
BANDWIDTH = 177.0
CENTER_FILTER_WAVELENGTH = 677.5
RADIANCE_OFFSET = 3.71111
RADIANCE_SCALING_FACTOR = 0.0129058
REFLECTANCE_SCALING_FACTOR = 0.000421424
MEX:REFLECTANCE_OFFSET = 0.121182
/* IMAGE OBJECT DEFINITIONS */
OBJECT = IMAGE
  INTERCHANGE_FORMAT = BINARY
  LINES = 59961
  LINE_SAMPLES = 11639
  SAMPLE_TYPE = UNSIGNED_INTEGER
  SAMPLE_BITS = 8
  BANDS = 1
  BAND_STORAGE_TYPE = BAND_SEQUENTIAL
  MAXIMUM = 254
  MEAN = 115.725
  MINIMUM = 1
  STANDARD_DEVIATION = 42.6323
END_OBJECT = IMAGE
/* MAP OBJECT DEFINITIONS */
OBJECT = IMAGE_MAP_PROJECTION
  ^DATA_SET_MAP_PROJECTION_CATALOG= "DSMAP.CAT"
  A_AXIS_RADIUS = 3396.0
  B_AXIS_RADIUS = 3396.0
  C_AXIS_RADIUS = 3396.0
  CENTER_LATITUDE = 0.0
  CENTER_LONGITUDE = 283.0
  COORDINATE_SYSTEM_NAME = PLANETOGRAPHIC
  COORDINATE_SYSTEM_TYPE = "BODY-FIXED ROTATING"
  EASTERNMOST_LONGITUDE = 285.399
  FIRST_STANDARD_PARALLEL = "N/A"
  LINE_FIRST_PIXEL = 1
  LINE_LAST_PIXEL = 59961
  LINE_PROJECTION_OFFSET = 324809.0
  MAP_PROJECTION_ROTATION = 0.0
  MAP_PROJECTION_TYPE = SINUSOIDAL
  MAP_RESOLUTION = 4741.71043093333
  MAP_SCALE = 0.0125
  MAXIMUM_LATITUDE = 68.4937
  MINIMUM_LATITUDE = 55.8551
  POSITIVE_LONGITUDE_DIRECTION = EAST
  REFERENCE_LATITUDE = "N/A"
  REFERENCE_LONGITUDE = "N/A"
  SAMPLE_FIRST_PIXEL = 1
  SAMPLE_LAST_PIXEL = 11639
  SAMPLE_PROJECTION_OFFSET = 5266.0
  SECOND_STANDARD_PARALLEL = "N/A"
  WESTERNMOST_LONGITUDE = 279.991
END_OBJECT = IMAGE_MAP_PROJECTION
END
