PDS_VERSION_ID = PDS3
/* FILE DATA ELEMENTS */
RECORD_TYPE = UNDEFINED
/* POINTERS TO DATA OBJECTS */
^IMAGE = ("H5455_0000_GR4.TIF")
/* IDENTIFICATION DATA ELEMENTS */
DATA_SET_ID = "MEX-M-HRSC-4-REFDR-MAPPROJECT-EXT2-V4.0"
DATA_SET_NAME = "MARS EXPRESS HRSC MAP PROJECTED REFDR EXTENSION2 V4.0"
DETECTOR_ID = MEX_HRSC_GREEN
EVENT_TYPE = "MARS-REGIONAL-MAPPING-Te-Im-Pf"
INSTRUMENT_HOST_ID = MEX
INSTRUMENT_HOST_NAME = "MARS EXPRESS"
INSTRUMENT_ID = HRSC
INSTRUMENT_NAME = "HIGH RESOLUTION STEREO CAMERA"
MISSION_NAME = "MARS EXPRESS"
MISSION_PHASE_NAME = ME_Phase_11
PROCESSING_LEVEL_ID = 4
PRODUCT_CREATION_TIME = 2023-02-02T05:41:08.000Z
PRODUCT_ID = "H5455_0000_GR4.TIF"
RELEASE_ID = 0002
REVISION_ID = 0000
/* QUALITY DATA ELEMENTS */
DATA_QUALITY_ID = 1
DATA_QUALITY_DESC = "Data calculated based on original SPICE kernels"
/* TIME DATA ELEMENTS */
SPACECRAFT_CLOCK_START_COUNT = "1/0155109165.07310"
SPACECRAFT_CLOCK_STOP_COUNT = "1/0155109427.48193"
START_TIME = 2008-04-01T05:53:16.964Z
STOP_TIME = 2008-04-01T05:56:31.236Z
/* ORBITAL DATA ELEMENTS */
ASCENDING_NODE_LONGITUDE = 114.78
MAXIMUM_RESOLUTION = 0.0565
FOOTPRINT_POINT_LATITUDE = (68.5139,68.4853,68.455,68.3638,68.362, 68.3362,67.9687,67.478,66.9864,66.4941, 66.0009,65.5071,65.1364,64.7652,64.5176 ,64.2699,64.022,63.774,63.5258,63.2776, 63.0293,62.7808,62.5322,62.2836,62.0348 ,61.786,61.5371,61.288,61.039,60.7898, 60.416,60.042,59.6679,59.4185,59.1689, 58.9194,58.6699,58.4203,58.1707,57.9211 ,57.5466,57.2969,57.0472,56.7976, 56.5479,56.2983,56.0487,55.9239,55.8503 ,55.8838,55.9025,55.9268,55.9274, 55.9284,56.1791,56.4297,56.6804,56.9311 ,57.1818,57.4325,57.8086,58.0594, 58.4356,58.6864,58.9371,59.1879,59.4387 ,59.6894,59.9401,60.3161,60.6921, 60.9426,61.1932,61.4437,61.6942,61.9446 ,62.3202,62.5705,62.8207,63.0709,63.321 ,63.571,63.8209,64.0707,64.3205,64.5702 ,64.8198,65.0693,65.3188,65.568,65.8171 ,66.0661,66.315,66.5639,66.8125,67.3094 ,67.8059,68.3017,68.4256,68.5139)
FOOTPRINT_POINT_LONGITUDE = (283.349,282.612,281.908,280.12,280.09, 280.005,280.164,280.367,280.56,280.744, 280.918,281.085,281.205,281.321,281.395 ,281.469,281.54,281.61,281.678,281.745, 281.81,281.874,281.936,281.997,282.057, 282.115,282.172,282.227,282.282,282.335 ,282.413,282.488,282.56,282.608,282.654 ,282.699,282.743,282.786,282.828,282.87 ,282.93,282.969,283.007,283.044,283.081 ,283.117,283.152,283.169,283.179, 284.002,284.539,285.37,285.39,285.397, 285.374,285.352,285.328,285.304,285.28, 285.255,285.217,285.191,285.151,285.124 ,285.096,285.068,285.039,285.01,284.98, 284.935,284.887,284.855,284.822,284.789 ,284.754,284.72,284.666,284.629,284.592 ,284.554,284.515,284.475,284.434, 284.393,284.35,284.307,284.263,284.217, 284.17,284.124,284.076,284.026,283.976, 283.924,283.872,283.763,283.648,283.528 ,283.497,283.349)
ORBIT_NUMBER = 5455
ORBITAL_ECCENTRICITY = 0.569
ORBITAL_INCLINATION = 86.74
ORBITAL_SEMIMAJOR_AXIS = 8655.5
PERIAPSIS_ALTITUDE = 351.05
PERIAPSIS_ARGUMENT_ANGLE = 118.66
PERIAPSIS_TIME = 2008-04-01T05:55:14.000Z
SPACECRAFT_ORIENTATION = (0.0,-1.0,0.0)
^MEX_ORIENTATION_DESC = "MEX_ORIENTATION_DESC.TXT"
SPACECRAFT_POINTING_MODE = ACROSSTRACK
^MEX_POINTING_DESC = "MEX_POINTING_DESC.TXT"
RIGHT_ASCENSION = -1e+32
DECLINATION = -1e+32
OFFSET_ANGLE = 0.1
SPACECRAFT_SOLAR_DISTANCE = 2.47928e+08
TARGET_NAME = MARS
/* CAMERA DATA ELEMENTS */
DETECTOR_TEMPERATURE = 18.3705
FOCAL_PLANE_TEMPERATURE = 8.1755
INST_CMPRS_NAME = "DISCRETE COSINE TRANSFORMATION (DCT)"
INST_CMPRS_RATIO = 24.9733
INST_CMPRS_QUALITY = 0
INST_CMPRS_QUANTZ_TBL_ID = 0
INSTRUMENT_TEMPERATURE = 11.234
LENS_TEMPERATURE = 8.3794
MACROPIXEL_SIZE = 4
MISSING_FRAMES = 0
PIXEL_SUBSAMPLING_FLAG = N
SIGNAL_CHAIN_ID = 2
/* RADIOMETRIC DATA ELEMENTS */
BANDWIDTH = 88.0
CENTER_FILTER_WAVELENGTH = 538.0
RADIANCE_OFFSET = 1.47752
RADIANCE_SCALING_FACTOR = 0.00285629
REFLECTANCE_SCALING_FACTOR = 0.000151162
MEX:REFLECTANCE_OFFSET = 0.0781937
/* IMAGE OBJECT DEFINITIONS */
OBJECT = IMAGE
  INTERCHANGE_FORMAT = BINARY
  LINES = 14991
  LINE_SAMPLES = 2910
  SAMPLE_TYPE = UNSIGNED_INTEGER
  SAMPLE_BITS = 8
  BANDS = 1
  BAND_STORAGE_TYPE = BAND_SEQUENTIAL
  MAXIMUM = 255
  MEAN = 123.878
  MINIMUM = 1
  STANDARD_DEVIATION = 43.4155
END_OBJECT = IMAGE
/* MAP OBJECT DEFINITIONS */
OBJECT = IMAGE_MAP_PROJECTION
  ^DATA_SET_MAP_PROJECTION_CATALOG= "DSMAP.CAT"
  A_AXIS_RADIUS = 3396.0
  B_AXIS_RADIUS = 3396.0
  C_AXIS_RADIUS = 3396.0
  CENTER_LATITUDE = 0.0
  CENTER_LONGITUDE = 283.0
  COORDINATE_SYSTEM_NAME = PLANETOGRAPHIC
  COORDINATE_SYSTEM_TYPE = "BODY-FIXED ROTATING"
  EASTERNMOST_LONGITUDE = 285.397
  FIRST_STANDARD_PARALLEL = "N/A"
  LINE_FIRST_PIXEL = 1
  LINE_LAST_PIXEL = 14991
  LINE_PROJECTION_OFFSET = 81201.875
  MAP_PROJECTION_ROTATION = 0.0
  MAP_PROJECTION_TYPE = SINUSOIDAL
  MAP_RESOLUTION = 1185.42760773333
  MAP_SCALE = 0.05
  MAXIMUM_LATITUDE = 68.51390000000001
  MINIMUM_LATITUDE = 55.8503
  POSITIVE_LONGITUDE_DIRECTION = EAST
  REFERENCE_LATITUDE = "N/A"
  REFERENCE_LONGITUDE = "N/A"
  SAMPLE_FIRST_PIXEL = 1
  SAMPLE_LAST_PIXEL = 2910
  SAMPLE_PROJECTION_OFFSET = 1316.125
  SECOND_STANDARD_PARALLEL = "N/A"
  WESTERNMOST_LONGITUDE = 280.005
END_OBJECT = IMAGE_MAP_PROJECTION
END
