PDS_VERSION_ID = PDS3
/* FILE DATA ELEMENTS */
RECORD_TYPE = UNDEFINED
/* POINTERS TO DATA OBJECTS */
^IMAGE = ("H5455_0000_BL4.TIF")
/* IDENTIFICATION DATA ELEMENTS */
DATA_SET_ID = "MEX-M-HRSC-4-REFDR-MAPPROJECT-EXT2-V4.0"
DATA_SET_NAME = "MARS EXPRESS HRSC MAP PROJECTED REFDR EXTENSION2 V4.0"
DETECTOR_ID = MEX_HRSC_BLUE
EVENT_TYPE = "MARS-REGIONAL-MAPPING-Te-Im-Pf"
INSTRUMENT_HOST_ID = MEX
INSTRUMENT_HOST_NAME = "MARS EXPRESS"
INSTRUMENT_ID = HRSC
INSTRUMENT_NAME = "HIGH RESOLUTION STEREO CAMERA"
MISSION_NAME = "MARS EXPRESS"
MISSION_PHASE_NAME = ME_Phase_11
PROCESSING_LEVEL_ID = 4
PRODUCT_CREATION_TIME = 2023-02-02T05:41:08.000Z
PRODUCT_ID = "H5455_0000_BL4.TIF"
RELEASE_ID = 0002
REVISION_ID = 0000
/* QUALITY DATA ELEMENTS */
DATA_QUALITY_ID = 1
DATA_QUALITY_DESC = "Data calculated based on original SPICE kernels"
/* TIME DATA ELEMENTS */
SPACECRAFT_CLOCK_START_COUNT = "1/0155109165.07310"
SPACECRAFT_CLOCK_STOP_COUNT = "1/0155109427.48193"
START_TIME = 2008-04-01T05:53:28.287Z
STOP_TIME = 2008-04-01T05:56:42.029Z
/* ORBITAL DATA ELEMENTS */
ASCENDING_NODE_LONGITUDE = 114.78
MAXIMUM_RESOLUTION = 0.0566
FOOTPRINT_POINT_LATITUDE = (68.4676,68.4271,68.3733,68.3171, 68.3154,68.3331,68.0861,67.8391,67.5919 ,67.3445,67.0969,66.8493,66.6014, 66.3535,66.1054,65.8573,65.609,65.2364, 64.9878,64.7393,64.4907,64.2419,63.8686 ,63.6197,63.3708,62.9972,62.6235, 62.3743,62.1251,61.8759,61.502,61.1281, 60.8788,60.6295,60.3802,60.1309,59.8816 ,59.6323,59.383,59.1338,58.8846,58.6354 ,58.0126,57.5145,57.0167,56.5192, 56.0219,55.8976,55.8585,55.8895,55.9128 ,55.9376,55.9382,55.9392,56.4384, 56.9379,57.1878,57.4378,57.6878,57.9379 ,58.1881,58.4384,58.6887,58.939,59.1894 ,59.4399,59.6904,59.941,60.1916,60.4422 ,60.8183,61.0689,61.3196,61.5704, 61.8211,62.0718,62.3226,62.6988,63.0749 ,63.3256,63.7017,63.9525,64.2032, 64.4538,64.7044,65.0802,65.4559,65.7064 ,65.9568,66.2071,66.4575,66.8328,67.083 ,67.3331,67.583,67.8329,68.0827,68.3323 ,68.4571,68.4676)
FOOTPRINT_POINT_LONGITUDE = (283.352,282.349,281.202,280.153, 280.123,280.02,280.128,280.231,280.333, 280.432,280.528,280.623,280.715,280.804 ,280.892,280.977,281.06,281.181,281.26, 281.336,281.41,281.483,281.589,281.658, 281.725,281.823,281.918,281.979,282.039 ,282.097,282.183,282.265,282.318, 282.371,282.422,282.472,282.52,282.568, 282.615,282.66,282.705,282.749,282.854, 282.934,283.01,283.083,283.153,283.17, 283.175,283.918,284.561,285.374,285.395 ,285.402,285.356,285.308,285.284, 285.259,285.233,285.208,285.181,285.154 ,285.127,285.099,285.071,285.042, 285.012,284.982,284.952,284.921,284.873 ,284.84,284.806,284.772,284.737,284.701 ,284.665,284.61,284.552,284.512,284.452 ,284.41,284.368,284.324,284.28,284.212, 284.141,284.093,284.043,283.992,283.941 ,283.861,283.806,283.75,283.693,283.634 ,283.574,283.512,283.48,283.352)
ORBIT_NUMBER = 5455
ORBITAL_ECCENTRICITY = 0.569
ORBITAL_INCLINATION = 86.74
ORBITAL_SEMIMAJOR_AXIS = 8655.5
PERIAPSIS_ALTITUDE = 351.05
PERIAPSIS_ARGUMENT_ANGLE = 118.66
PERIAPSIS_TIME = 2008-04-01T05:55:14.000Z
SPACECRAFT_ORIENTATION = (0.0,-1.0,0.0)
^MEX_ORIENTATION_DESC = "MEX_ORIENTATION_DESC.TXT"
SPACECRAFT_POINTING_MODE = ACROSSTRACK
^MEX_POINTING_DESC = "MEX_POINTING_DESC.TXT"
RIGHT_ASCENSION = -1e+32
DECLINATION = -1e+32
OFFSET_ANGLE = 0.1
SPACECRAFT_SOLAR_DISTANCE = 2.47928e+08
TARGET_NAME = MARS
/* CAMERA DATA ELEMENTS */
DETECTOR_TEMPERATURE = 18.3705
FOCAL_PLANE_TEMPERATURE = 8.1755
INST_CMPRS_NAME = "DISCRETE COSINE TRANSFORMATION (DCT)"
INST_CMPRS_RATIO = 12.2262
INST_CMPRS_QUALITY = 0
INST_CMPRS_QUANTZ_TBL_ID = 0
INSTRUMENT_TEMPERATURE = 11.234
LENS_TEMPERATURE = 8.3794
MACROPIXEL_SIZE = 4
MISSING_FRAMES = 0
PIXEL_SUBSAMPLING_FLAG = N
SIGNAL_CHAIN_ID = 2
/* RADIOMETRIC DATA ELEMENTS */
BANDWIDTH = 76.0
CENTER_FILTER_WAVELENGTH = 444.0
RADIANCE_OFFSET = 0.640281
RADIANCE_SCALING_FACTOR = 0.00110775
REFLECTANCE_SCALING_FACTOR = 6.99598e-05
MEX:REFLECTANCE_OFFSET = 0.0404367
/* IMAGE OBJECT DEFINITIONS */
OBJECT = IMAGE
  INTERCHANGE_FORMAT = BINARY
  LINES = 14991
  LINE_SAMPLES = 2910
  SAMPLE_TYPE = UNSIGNED_INTEGER
  SAMPLE_BITS = 8
  BANDS = 1
  BAND_STORAGE_TYPE = BAND_SEQUENTIAL
  MAXIMUM = 255
  MEAN = 126.62
  MINIMUM = 1
  STANDARD_DEVIATION = 42.2503
END_OBJECT = IMAGE
/* MAP OBJECT DEFINITIONS */
OBJECT = IMAGE_MAP_PROJECTION
  ^DATA_SET_MAP_PROJECTION_CATALOG= "DSMAP.CAT"
  A_AXIS_RADIUS = 3396.0
  B_AXIS_RADIUS = 3396.0
  C_AXIS_RADIUS = 3396.0
  CENTER_LATITUDE = 0.0
  CENTER_LONGITUDE = 283.0
  COORDINATE_SYSTEM_NAME = PLANETOGRAPHIC
  COORDINATE_SYSTEM_TYPE = "BODY-FIXED ROTATING"
  EASTERNMOST_LONGITUDE = 285.402
  FIRST_STANDARD_PARALLEL = "N/A"
  LINE_FIRST_PIXEL = 1
  LINE_LAST_PIXEL = 14991
  LINE_PROJECTION_OFFSET = 81201.875
  MAP_PROJECTION_ROTATION = 0.0
  MAP_PROJECTION_TYPE = SINUSOIDAL
  MAP_RESOLUTION = 1185.42760773333
  MAP_SCALE = 0.05
  MAXIMUM_LATITUDE = 68.4676
  MINIMUM_LATITUDE = 55.8585
  POSITIVE_LONGITUDE_DIRECTION = EAST
  REFERENCE_LATITUDE = "N/A"
  REFERENCE_LONGITUDE = "N/A"
  SAMPLE_FIRST_PIXEL = 1
  SAMPLE_LAST_PIXEL = 2910
  SAMPLE_PROJECTION_OFFSET = 1316.125
  SECOND_STANDARD_PARALLEL = "N/A"
  WESTERNMOST_LONGITUDE = 280.02
END_OBJECT = IMAGE_MAP_PROJECTION
END
