PDS_VERSION_ID = PDS3
/* FILE DATA ELEMENTS */
RECORD_TYPE = UNDEFINED
/* POINTERS TO DATA OBJECTS */
^IMAGE = ("H5453_0000_ND4.TIF")
/* IDENTIFICATION DATA ELEMENTS */
DATA_SET_ID = "MEX-M-HRSC-4-REFDR-MAPPROJECT-EXT2-V4.0"
DATA_SET_NAME = "MARS EXPRESS HRSC MAP PROJECTED REFDR EXTENSION2 V4.0"
DETECTOR_ID = MEX_HRSC_NADIR
EVENT_TYPE = "MARS-REGIONAL-STEREO-Te-Im-Pf"
INSTRUMENT_HOST_ID = MEX
INSTRUMENT_HOST_NAME = "MARS EXPRESS"
INSTRUMENT_ID = HRSC
INSTRUMENT_NAME = "HIGH RESOLUTION STEREO CAMERA"
MISSION_NAME = "MARS EXPRESS"
MISSION_PHASE_NAME = ME_Phase_11
PROCESSING_LEVEL_ID = 4
PRODUCT_CREATION_TIME = 2023-02-02T05:41:08.000Z
PRODUCT_ID = "H5453_0000_ND4.TIF"
RELEASE_ID = 0002
REVISION_ID = 0000
/* QUALITY DATA ELEMENTS */
DATA_QUALITY_ID = 1
DATA_QUALITY_DESC = "Data calculated based on original SPICE kernels"
/* TIME DATA ELEMENTS */
SPACECRAFT_CLOCK_START_COUNT = "1/0155059889.07311"
SPACECRAFT_CLOCK_STOP_COUNT = "1/0155060141.40164"
START_TIME = 2008-03-31T16:12:06.853Z
STOP_TIME = 2008-03-31T16:15:10.843Z
/* ORBITAL DATA ELEMENTS */
ASCENDING_NODE_LONGITUDE = 114.82
MAXIMUM_RESOLUTION = 0.0141
FOOTPRINT_POINT_LATITUDE = (68.8683,68.8372,68.7796,68.7017, 68.6997,68.6933,68.2266,67.7591,67.2909 ,66.8221,66.3526,65.8826,65.4119, 64.9408,64.4692,64.2332,63.9972,63.761, 63.5247,63.2884,63.0519,62.8154,62.5788 ,62.3421,62.1054,61.8686,61.6318, 61.3948,61.1579,60.8024,60.5653,60.3282 ,60.091,59.8539,59.6167,59.3795,59.1422 ,58.905,58.6677,58.4305,58.1932,57.956, 57.7187,57.4815,57.2443,57.0071,56.8885 ,56.8804,56.9203,56.9525,56.9703,56.971 ,56.9716,57.2099,57.4482,57.6865, 57.9249,58.1633,58.4017,58.6401,58.8786 ,59.1171,59.3556,59.5941,59.8326, 60.0711,60.3096,60.5481,60.9058,61.1443 ,61.3827,61.6212,61.8596,62.098,62.3363 ,62.5746,62.8129,63.0512,63.2894, 63.5275,63.7656,64.0037,64.2417,64.4796 ,64.7175,64.9553,65.193,65.4306,65.6682 ,65.9057,66.1431,66.3804,66.6177, 66.8548,67.3287,67.8022,68.2753,68.7478 ,68.8659,68.8683)
FOOTPRINT_POINT_LONGITUDE = (122.826,122.1,120.914,119.534,119.501, 119.365,119.586,119.797,119.997,120.19, 120.373,120.548,120.715,120.875,121.028 ,121.102,121.174,121.245,121.314, 121.382,121.448,121.513,121.576,121.638 ,121.699,121.758,121.817,121.874,121.93 ,122.011,122.064,122.116,122.167, 122.217,122.265,122.313,122.36,122.406, 122.451,122.494,122.538,122.58,122.621, 122.662,122.701,122.74,122.759,122.761, 123.64,124.472,125.012,125.035,125.046, 125.02,124.993,124.967,124.939,124.912, 124.883,124.854,124.825,124.795,124.765 ,124.734,124.703,124.671,124.638, 124.605,124.554,124.519,124.484,124.448 ,124.411,124.374,124.336,124.297, 124.257,124.217,124.175,124.134,124.091 ,124.047,124.002,123.957,123.91,123.863 ,123.814,123.765,123.715,123.663, 123.611,123.557,123.502,123.446,123.33, 123.209,123.082,122.949,122.915, 122.826)
ORBIT_NUMBER = 5453
ORBITAL_ECCENTRICITY = 0.569
ORBITAL_INCLINATION = 86.74
ORBITAL_SEMIMAJOR_AXIS = 8658.43
PERIAPSIS_ALTITUDE = 350.92
PERIAPSIS_ARGUMENT_ANGLE = 119.0
PERIAPSIS_TIME = 2008-03-31T16:14:10.000Z
SPACECRAFT_ORIENTATION = (0.0,-1.0,0.0)
^MEX_ORIENTATION_DESC = "MEX_ORIENTATION_DESC.TXT"
SPACECRAFT_POINTING_MODE = ACROSSTRACK
^MEX_POINTING_DESC = "MEX_POINTING_DESC.TXT"
RIGHT_ASCENSION = -1e+32
DECLINATION = -1e+32
OFFSET_ANGLE = -0.1
SPACECRAFT_SOLAR_DISTANCE = 2.47892e+08
TARGET_NAME = MARS
/* CAMERA DATA ELEMENTS */
DETECTOR_TEMPERATURE = 19.5939
FOCAL_PLANE_TEMPERATURE = 7.7677
INST_CMPRS_NAME = "DISCRETE COSINE TRANSFORMATION (DCT)"
INST_CMPRS_RATIO = 7.60005
INST_CMPRS_QUALITY = 0
INST_CMPRS_QUANTZ_TBL_ID = 0
INSTRUMENT_TEMPERATURE = 11.0301
LENS_TEMPERATURE = 8.5833
MACROPIXEL_SIZE = 1
MISSING_FRAMES = 0
PIXEL_SUBSAMPLING_FLAG = N
SIGNAL_CHAIN_ID = 0
/* RADIOMETRIC DATA ELEMENTS */
BANDWIDTH = 177.0
CENTER_FILTER_WAVELENGTH = 677.5
RADIANCE_OFFSET = 3.43102
RADIANCE_SCALING_FACTOR = 0.0098853
REFLECTANCE_SCALING_FACTOR = 0.000322701
MEX:REFLECTANCE_OFFSET = 0.112004
/* IMAGE OBJECT DEFINITIONS */
OBJECT = IMAGE
  INTERCHANGE_FORMAT = BINARY
  LINES = 56870
  LINE_SAMPLES = 11550
  SAMPLE_TYPE = UNSIGNED_INTEGER
  SAMPLE_BITS = 8
  BANDS = 1
  BAND_STORAGE_TYPE = BAND_SEQUENTIAL
  MAXIMUM = 255
  MEAN = 116.379
  MINIMUM = 1
  STANDARD_DEVIATION = 41.1619
END_OBJECT = IMAGE
/* MAP OBJECT DEFINITIONS */
OBJECT = IMAGE_MAP_PROJECTION
  ^DATA_SET_MAP_PROJECTION_CATALOG= "DSMAP.CAT"
  A_AXIS_RADIUS = 3396.0
  B_AXIS_RADIUS = 3396.0
  C_AXIS_RADIUS = 3396.0
  CENTER_LATITUDE = 0.0
  CENTER_LONGITUDE = 123.0
  COORDINATE_SYSTEM_NAME = PLANETOGRAPHIC
  COORDINATE_SYSTEM_TYPE = "BODY-FIXED ROTATING"
  EASTERNMOST_LONGITUDE = 125.046
  FIRST_STANDARD_PARALLEL = "N/A"
  LINE_FIRST_PIXEL = 1
  LINE_LAST_PIXEL = 56870
  LINE_PROJECTION_OFFSET = 326580.0
  MAP_PROJECTION_ROTATION = 0.0
  MAP_PROJECTION_TYPE = SINUSOIDAL
  MAP_RESOLUTION = 4741.71043093333
  MAP_SCALE = 0.0125
  MAXIMUM_LATITUDE = 68.8683
  MINIMUM_LATITUDE = 56.8804
  POSITIVE_LONGITUDE_DIRECTION = EAST
  REFERENCE_LATITUDE = "N/A"
  REFERENCE_LONGITUDE = "N/A"
  SAMPLE_FIRST_PIXEL = 1
  SAMPLE_LAST_PIXEL = 11550
  SAMPLE_PROJECTION_OFFSET = 6262.0
  SECOND_STANDARD_PARALLEL = "N/A"
  WESTERNMOST_LONGITUDE = 119.365
END_OBJECT = IMAGE_MAP_PROJECTION
END
