PDS_VERSION_ID = PDS3
/* FILE DATA ELEMENTS */
RECORD_TYPE = UNDEFINED
/* POINTERS TO DATA OBJECTS */
^IMAGE = ("H5450_0000_P14.TIF")
/* IDENTIFICATION DATA ELEMENTS */
DATA_SET_ID = "MEX-M-HRSC-4-REFDR-MAPPROJECT-EXT2-V4.0"
DATA_SET_NAME = "MARS EXPRESS HRSC MAP PROJECTED REFDR EXTENSION2 V4.0"
DETECTOR_ID = MEX_HRSC_P1
EVENT_TYPE = "MARS-REGIONAL-MAPPING-Te-Im-Pf"
INSTRUMENT_HOST_ID = MEX
INSTRUMENT_HOST_NAME = "MARS EXPRESS"
INSTRUMENT_ID = HRSC
INSTRUMENT_NAME = "HIGH RESOLUTION STEREO CAMERA"
MISSION_NAME = "MARS EXPRESS"
MISSION_PHASE_NAME = ME_Phase_11
PROCESSING_LEVEL_ID = 4
PRODUCT_CREATION_TIME = 2023-02-02T05:41:08.000Z
PRODUCT_ID = "H5450_0000_P14.TIF"
RELEASE_ID = 0002
REVISION_ID = 0000
/* QUALITY DATA ELEMENTS */
DATA_QUALITY_ID = 1
DATA_QUALITY_DESC = "Data calculated based on original SPICE kernels"
/* TIME DATA ELEMENTS */
SPACECRAFT_CLOCK_START_COUNT = "1/0154985996.08218"
SPACECRAFT_CLOCK_STOP_COUNT = "1/0154986269.57034"
START_TIME = 2008-03-30T19:40:11.608Z
STOP_TIME = 2008-03-30T19:43:38.144Z
/* ORBITAL DATA ELEMENTS */
ASCENDING_NODE_LONGITUDE = 114.87
MAXIMUM_RESOLUTION = 0.0289
FOOTPRINT_POINT_LATITUDE = (68.639,68.5653,68.5005,68.4375,68.4352 ,68.3436,68.0398,67.7436,67.3599, 66.8475,66.5909,66.3338,66.0765,65.8189 ,65.5612,65.3028,65.0442,64.7855, 64.5264,64.1372,63.7474,63.4873,63.227, 62.9661,62.705,62.444,62.1825,61.7897, 61.5278,61.2654,61.003,60.7402,60.4774, 60.0826,59.8194,59.4247,59.1605,58.7654 ,58.5016,58.2366,57.9683,57.7079, 57.4424,57.0408,56.644,56.3789,56.1135, 55.848,55.4499,55.317,55.185,55.2206, 55.2669,55.2968,55.2976,55.2984,55.6985 ,56.0983,56.3651,56.7652,57.1645, 57.4342,57.7003,57.9664,58.3654,58.6313 ,59.0299,59.4279,59.6931,60.0907, 60.3557,60.6205,60.885,61.1494,61.4137, 61.8098,62.2055,62.4691,62.7324,62.9956 ,63.2586,63.5216,63.7842,64.0464, 64.4396,64.7014,64.963,65.2244,65.6158, 65.8767,66.1372,66.3975,66.6577,66.9177 ,67.1771,67.4363,67.9538,68.2547, 68.4089,68.639)
FOOTPRINT_POINT_LONGITUDE = (62.441,61.08,60.04,59.1267,59.094, 58.9636,59.1149,59.2585,59.4364,59.664, 59.7738,59.8808,59.9853,60.0873,60.1873 ,60.2844,60.3793,60.4723,60.5629, 60.6949,60.8224,60.9051,60.986,61.0646, 61.1416,61.2171,61.2907,61.3979,61.4676 ,61.5355,61.602,61.6669,61.7306,61.8233 ,61.8836,61.9721,62.0286,62.1127,62.167 ,62.219,62.2662,62.3214,62.3699,62.4417 ,62.5124,62.5577,62.602,62.6452,62.7087 ,62.7292,62.7495,63.345,64.2311,64.9006 ,64.9215,64.929,64.8862,64.8424,64.8124 ,64.7663,64.7192,64.6865,64.6537, 64.6202,64.5688,64.5337,64.4798,64.4245 ,64.3867,64.3286,64.2889,64.2484, 64.2072,64.1651,64.1222,64.0562,63.9881 ,63.9416,63.8941,63.8457,63.7961, 63.7455,63.6939,63.6413,63.56,63.5044, 63.4476,63.3895,63.3001,63.2386,63.1758 ,63.1115,63.0457,62.9783,62.9095, 62.8391,62.6932,62.6048,62.5584,62.441)
ORBIT_NUMBER = 5450
ORBITAL_ECCENTRICITY = 0.569
ORBITAL_INCLINATION = 86.76
ORBITAL_SEMIMAJOR_AXIS = 8659.32
PERIAPSIS_ALTITUDE = 350.05
PERIAPSIS_ARGUMENT_ANGLE = 119.53
PERIAPSIS_TIME = 2008-03-30T19:42:41.000Z
SPACECRAFT_ORIENTATION = (0.0,-1.0,0.0)
^MEX_ORIENTATION_DESC = "MEX_ORIENTATION_DESC.TXT"
SPACECRAFT_POINTING_MODE = ACROSSTRACK
^MEX_POINTING_DESC = "MEX_POINTING_DESC.TXT"
RIGHT_ASCENSION = -1e+32
DECLINATION = -1e+32
OFFSET_ANGLE = -0.35
SPACECRAFT_SOLAR_DISTANCE = 2.47839e+08
TARGET_NAME = MARS
/* CAMERA DATA ELEMENTS */
DETECTOR_TEMPERATURE = 16.7393
FOCAL_PLANE_TEMPERATURE = 8.3794
INST_CMPRS_NAME = "DISCRETE COSINE TRANSFORMATION (DCT)"
INST_CMPRS_RATIO = 18.2796
INST_CMPRS_QUALITY = 0
INST_CMPRS_QUANTZ_TBL_ID = 0
INSTRUMENT_TEMPERATURE = 11.234
LENS_TEMPERATURE = 8.5833
MACROPIXEL_SIZE = 2
MISSING_FRAMES = 1
PIXEL_SUBSAMPLING_FLAG = N
SIGNAL_CHAIN_ID = 3
/* RADIOMETRIC DATA ELEMENTS */
BANDWIDTH = 174.0
CENTER_FILTER_WAVELENGTH = 675.0
RADIANCE_OFFSET = 3.00708
RADIANCE_SCALING_FACTOR = 0.0154063
REFLECTANCE_SCALING_FACTOR = 0.000509004
MEX:REFLECTANCE_OFFSET = 0.09935
/* IMAGE OBJECT DEFINITIONS */
OBJECT = IMAGE
  INTERCHANGE_FORMAT = BINARY
  LINES = 31636
  LINE_SAMPLES = 6127
  SAMPLE_TYPE = UNSIGNED_INTEGER
  SAMPLE_BITS = 8
  BANDS = 1
  BAND_STORAGE_TYPE = BAND_SEQUENTIAL
  MAXIMUM = 255
  MEAN = 112.105
  MINIMUM = 1
  STANDARD_DEVIATION = 42.3342
END_OBJECT = IMAGE
/* MAP OBJECT DEFINITIONS */
OBJECT = IMAGE_MAP_PROJECTION
  ^DATA_SET_MAP_PROJECTION_CATALOG= "DSMAP.CAT"
  A_AXIS_RADIUS = 3396.0
  B_AXIS_RADIUS = 3396.0
  C_AXIS_RADIUS = 3396.0
  CENTER_LATITUDE = 0.0
  CENTER_LONGITUDE = 63.0
  COORDINATE_SYSTEM_NAME = PLANETOGRAPHIC
  COORDINATE_SYSTEM_TYPE = "BODY-FIXED ROTATING"
  EASTERNMOST_LONGITUDE = 64.929
  FIRST_STANDARD_PARALLEL = "N/A"
  LINE_FIRST_PIXEL = 1
  LINE_LAST_PIXEL = 31636
  LINE_PROJECTION_OFFSET = 162521.75
  MAP_PROJECTION_ROTATION = 0.0
  MAP_PROJECTION_TYPE = SINUSOIDAL
  MAP_RESOLUTION = 2370.85521546667
  MAP_SCALE = 0.025
  MAXIMUM_LATITUDE = 68.639
  MINIMUM_LATITUDE = 55.185
  POSITIVE_LONGITUDE_DIRECTION = EAST
  REFERENCE_LATITUDE = "N/A"
  REFERENCE_LONGITUDE = "N/A"
  SAMPLE_FIRST_PIXEL = 1
  SAMPLE_LAST_PIXEL = 6127
  SAMPLE_PROJECTION_OFFSET = 3516.25
  SECOND_STANDARD_PARALLEL = "N/A"
  WESTERNMOST_LONGITUDE = 58.9636
END_OBJECT = IMAGE_MAP_PROJECTION
END
