PDS_VERSION_ID = PDS3
/* FILE DATA ELEMENTS */
RECORD_TYPE = UNDEFINED
/* POINTERS TO DATA OBJECTS */
^IMAGE = ("H5448_0000_ND4.TIF")
/* IDENTIFICATION DATA ELEMENTS */
DATA_SET_ID = "MEX-M-HRSC-4-REFDR-MAPPROJECT-EXT2-V4.0"
DATA_SET_NAME = "MARS EXPRESS HRSC MAP PROJECTED REFDR EXTENSION2 V4.0"
DETECTOR_ID = MEX_HRSC_NADIR
EVENT_TYPE = "MARS-REGIONAL-MAPPING-Vo-Te-Pf"
INSTRUMENT_HOST_ID = MEX
INSTRUMENT_HOST_NAME = "MARS EXPRESS"
INSTRUMENT_ID = HRSC
INSTRUMENT_NAME = "HIGH RESOLUTION STEREO CAMERA"
MISSION_NAME = "MARS EXPRESS"
MISSION_PHASE_NAME = ME_Phase_11
PROCESSING_LEVEL_ID = 4
PRODUCT_CREATION_TIME = 2023-02-02T05:41:08.000Z
PRODUCT_ID = "H5448_0000_ND4.TIF"
RELEASE_ID = 0002
REVISION_ID = 0000
/* QUALITY DATA ELEMENTS */
DATA_QUALITY_ID = 1
DATA_QUALITY_DESC = "Data calculated based on original SPICE kernels"
/* TIME DATA ELEMENTS */
SPACECRAFT_CLOCK_START_COUNT = "1/0154936736.08246"
SPACECRAFT_CLOCK_STOP_COUNT = "1/0154936976.22840"
START_TIME = 2008-03-30T05:59:33.997Z
STOP_TIME = 2008-03-30T06:02:25.977Z
/* ORBITAL DATA ELEMENTS */
ASCENDING_NODE_LONGITUDE = 114.92
MAXIMUM_RESOLUTION = 0.014
FOOTPRINT_POINT_LATITUDE = (68.3023,68.2559,68.2015,68.1299, 68.1279,68.1194,67.6845,67.2489,66.8093 ,66.3724,65.9349,65.4969,65.0584, 64.6193,64.3997,64.1799,63.96,63.74, 63.5199,63.2997,63.0794,62.8591,62.6386 ,62.4181,62.1975,61.9768,61.6457, 61.4249,61.204,60.8726,60.6516,60.4305, 60.2094,59.8777,59.6565,59.4353,59.214, 58.8821,58.5501,58.3287,58.1074,57.886, 57.6646,57.4432,57.2219,57.1112,57.092, 57.1338,57.1643,57.1889,57.1897,57.1903 ,57.4127,57.6353,57.8578,58.0803, 58.3029,58.5254,58.748,58.9705,59.3044, 59.6382,59.8608,60.0833,60.3059,60.6396 ,60.8621,61.0846,61.307,61.5294,61.7518 ,61.9741,62.1964,62.4187,62.6409, 62.8631,63.0852,63.3073,63.5293,63.7513 ,63.9732,64.195,64.4168,64.6385,64.8602 ,65.0817,65.3032,65.5246,65.746,65.9672 ,66.1884,66.4094,66.6304,66.8513, 67.0721,67.2961,67.7371,68.1777,68.2878 ,68.3023)
FOOTPRINT_POINT_LONGITUDE = (262.736,261.741,260.711,259.515, 259.483,259.317,259.524,259.723,259.914 ,260.096,260.271,260.438,260.598, 260.752,260.827,260.9,260.972,261.042, 261.111,261.179,261.245,261.31,261.374, 261.436,261.497,261.557,261.645,261.703 ,261.759,261.841,261.895,261.948,262.0, 262.075,262.125,262.173,262.22,262.29, 262.358,262.402,262.445,262.487,262.529 ,262.57,262.61,262.629,262.633,263.489, 264.206,264.873,264.895,264.906,264.88, 264.852,264.825,264.797,264.768,264.739 ,264.71,264.68,264.634,264.587,264.555, 264.522,264.489,264.439,264.404,264.369 ,264.333,264.297,264.26,264.222,264.184 ,264.145,264.105,264.065,264.023, 263.982,263.939,263.895,263.851,263.806 ,263.76,263.713,263.666,263.617,263.567 ,263.517,263.465,263.413,263.359, 263.305,263.249,263.192,263.134,263.074 ,262.952,262.825,262.792,262.736)
ORBIT_NUMBER = 5448
ORBITAL_ECCENTRICITY = 0.569
ORBITAL_INCLINATION = 86.74
ORBITAL_SEMIMAJOR_AXIS = 8658.22
PERIAPSIS_ALTITUDE = 350.12
PERIAPSIS_ARGUMENT_ANGLE = 119.87
PERIAPSIS_TIME = 2008-03-30T06:01:42.000Z
SPACECRAFT_ORIENTATION = (0.0,-1.0,0.0)
^MEX_ORIENTATION_DESC = "MEX_ORIENTATION_DESC.TXT"
SPACECRAFT_POINTING_MODE = ACROSSTRACK
^MEX_POINTING_DESC = "MEX_POINTING_DESC.TXT"
RIGHT_ASCENSION = -1e+32
DECLINATION = -1e+32
OFFSET_ANGLE = -0.3
SPACECRAFT_SOLAR_DISTANCE = 2.47802e+08
TARGET_NAME = MARS
/* CAMERA DATA ELEMENTS */
DETECTOR_TEMPERATURE = 18.1666
FOCAL_PLANE_TEMPERATURE = 8.1755
INST_CMPRS_NAME = "DISCRETE COSINE TRANSFORMATION (DCT)"
INST_CMPRS_RATIO = 8.56122
INST_CMPRS_QUALITY = 0
INST_CMPRS_QUANTZ_TBL_ID = 0
INSTRUMENT_TEMPERATURE = 10.8262
LENS_TEMPERATURE = 8.5833
MACROPIXEL_SIZE = 1
MISSING_FRAMES = 2
PIXEL_SUBSAMPLING_FLAG = N
SIGNAL_CHAIN_ID = 0
/* RADIOMETRIC DATA ELEMENTS */
BANDWIDTH = 177.0
CENTER_FILTER_WAVELENGTH = 677.5
RADIANCE_OFFSET = 4.13123
RADIANCE_SCALING_FACTOR = 0.0107091
REFLECTANCE_SCALING_FACTOR = 0.000349339
MEX:REFLECTANCE_OFFSET = 0.134764
/* IMAGE OBJECT DEFINITIONS */
OBJECT = IMAGE
  INTERCHANGE_FORMAT = BINARY
  LINES = 53178
  LINE_SAMPLES = 11407
  SAMPLE_TYPE = UNSIGNED_INTEGER
  SAMPLE_BITS = 8
  BANDS = 1
  BAND_STORAGE_TYPE = BAND_SEQUENTIAL
  MAXIMUM = 255
  MEAN = 123.461
  MINIMUM = 1
  STANDARD_DEVIATION = 49.9422
END_OBJECT = IMAGE
/* MAP OBJECT DEFINITIONS */
OBJECT = IMAGE_MAP_PROJECTION
  ^DATA_SET_MAP_PROJECTION_CATALOG= "DSMAP.CAT"
  A_AXIS_RADIUS = 3396.0
  B_AXIS_RADIUS = 3396.0
  C_AXIS_RADIUS = 3396.0
  CENTER_LATITUDE = 0.0
  CENTER_LONGITUDE = 263.0
  COORDINATE_SYSTEM_NAME = PLANETOGRAPHIC
  COORDINATE_SYSTEM_TYPE = "BODY-FIXED ROTATING"
  EASTERNMOST_LONGITUDE = 264.906
  FIRST_STANDARD_PARALLEL = "N/A"
  LINE_FIRST_PIXEL = 1
  LINE_LAST_PIXEL = 53178
  LINE_PROJECTION_OFFSET = 323891.0
  MAP_PROJECTION_ROTATION = 0.0
  MAP_PROJECTION_TYPE = SINUSOIDAL
  MAP_RESOLUTION = 4741.71043093333
  MAP_SCALE = 0.0125
  MAXIMUM_LATITUDE = 68.3023
  MINIMUM_LATITUDE = 57.092
  POSITIVE_LONGITUDE_DIRECTION = EAST
  REFERENCE_LATITUDE = "N/A"
  REFERENCE_LONGITUDE = "N/A"
  SAMPLE_FIRST_PIXEL = 1
  SAMPLE_LAST_PIXEL = 11407
  SAMPLE_PROJECTION_OFFSET = 6508.0
  SECOND_STANDARD_PARALLEL = "N/A"
  WESTERNMOST_LONGITUDE = 259.317
END_OBJECT = IMAGE_MAP_PROJECTION
END
