PDS_VERSION_ID = PDS3
/* FILE DATA ELEMENTS */
RECORD_TYPE = UNDEFINED
/* POINTERS TO DATA OBJECTS */
^IMAGE = ("H5446_0000_P14.TIF")
/* IDENTIFICATION DATA ELEMENTS */
DATA_SET_ID = "MEX-M-HRSC-4-REFDR-MAPPROJECT-EXT2-V4.0"
DATA_SET_NAME = "MARS EXPRESS HRSC MAP PROJECTED REFDR EXTENSION2 V4.0"
DETECTOR_ID = MEX_HRSC_P1
EVENT_TYPE = "MARS-REGIONAL-MAPPING-Te-Im-Pf"
INSTRUMENT_HOST_ID = MEX
INSTRUMENT_HOST_NAME = "MARS EXPRESS"
INSTRUMENT_ID = HRSC
INSTRUMENT_NAME = "HIGH RESOLUTION STEREO CAMERA"
MISSION_NAME = "MARS EXPRESS"
MISSION_PHASE_NAME = ME_Phase_11
PROCESSING_LEVEL_ID = 4
PRODUCT_CREATION_TIME = 2023-02-02T05:41:08.000Z
PRODUCT_ID = "H5446_0000_P14.TIF"
RELEASE_ID = 0002
REVISION_ID = 0000
/* QUALITY DATA ELEMENTS */
DATA_QUALITY_ID = 1
DATA_QUALITY_DESC = "Data calculated based on original SPICE kernels"
/* TIME DATA ELEMENTS */
SPACECRAFT_CLOCK_START_COUNT = "1/0154887340.08243"
SPACECRAFT_CLOCK_STOP_COUNT = "1/0154887590.64642"
START_TIME = 2008-03-29T16:15:58.007Z
STOP_TIME = 2008-03-29T16:18:59.632Z
/* ORBITAL DATA ELEMENTS */
ASCENDING_NODE_LONGITUDE = 114.96
MAXIMUM_RESOLUTION = 0.0298
FOOTPRINT_POINT_LATITUDE = (76.0936,76.0247,75.9687,75.9145,75.86, 75.7719,75.7681,75.6688,75.4377,75.0965 ,74.8684,74.6396,74.4103,74.1815, 73.9569,73.732,73.5064,73.1676,72.9406, 72.7133,72.4855,72.2572,72.0286,71.7996 ,71.5701,71.3405,71.1102,70.8792, 70.5323,70.3007,70.0682,69.8354,69.6023 ,69.369,69.1352,68.9013,68.5494,68.3145 ,67.9616,67.726,67.4898,67.1703,66.7736 ,66.3758,65.9772,65.5778,65.0778,64.777 ,64.6766,64.577,64.6143,64.6555,64.6859 ,64.7236,64.7247,64.7255,64.9281, 65.1304,65.3325,65.5346,65.9382,66.2406 ,66.5427,67.045,67.4462,67.6695,67.9086 ,68.1473,68.3854,68.6236,68.8615, 69.0991,69.3365,69.5741,69.8121,70.0433 ,70.2822,70.6375,70.9905,71.2255, 71.5772,71.8115,72.0455,72.2791,72.5124 ,72.7454,72.9782,73.2105,73.4427, 73.6743,74.0207,74.2516,74.4821,74.7174 ,74.9533,75.1886,75.5411,75.7753, 75.8945,76.0936)
FOOTPRINT_POINT_LONGITUDE = (100.083,98.6408,97.5949,96.666,95.7979 ,94.5046,94.4511,94.3484,94.6225, 95.0087,95.2565,95.4967,95.7297,95.9551 ,96.1687,96.3765,96.5782,96.8708, 97.0588,97.2417,97.4197,97.5929,97.7617 ,97.926,98.0859,98.2421,98.394,98.5418, 98.7567,98.8956,99.0307,99.1625,99.2911 ,99.4167,99.5392,99.6589,99.8329, 99.9455,100.11,100.216,100.319,100.456, 100.619,100.776,100.928,101.073,101.248 ,101.349,101.382,101.414,102.042, 102.813,103.442,104.329,104.358,104.368 ,104.329,104.289,104.249,104.208, 104.124,104.058,103.991,103.876,103.78, 103.724,103.664,103.602,103.539,103.475 ,103.408,103.341,103.272,103.2,103.125, 103.06,102.979,102.859,102.738,102.654, 102.524,102.435,102.343,102.249,102.153 ,102.053,101.951,101.846,101.738, 101.627,101.456,101.337,101.214,101.085 ,100.952,100.814,100.599,100.45,100.372 ,100.083)
ORBIT_NUMBER = 5446
ORBITAL_ECCENTRICITY = 0.569
ORBITAL_INCLINATION = 86.75
ORBITAL_SEMIMAJOR_AXIS = 8661.39
PERIAPSIS_ALTITUDE = 349.63
PERIAPSIS_ARGUMENT_ANGLE = 120.21
PERIAPSIS_TIME = 2008-03-29T16:20:38.000Z
SPACECRAFT_ORIENTATION = (0.0,-1.0,0.0)
^MEX_ORIENTATION_DESC = "MEX_ORIENTATION_DESC.TXT"
SPACECRAFT_POINTING_MODE = ACROSSTRACK
^MEX_POINTING_DESC = "MEX_POINTING_DESC.TXT"
RIGHT_ASCENSION = -1e+32
DECLINATION = -1e+32
OFFSET_ANGLE = -0.1
SPACECRAFT_SOLAR_DISTANCE = 2.47765e+08
TARGET_NAME = MARS
/* CAMERA DATA ELEMENTS */
DETECTOR_TEMPERATURE = 16.9432
FOCAL_PLANE_TEMPERATURE = 7.3599
INST_CMPRS_NAME = "DISCRETE COSINE TRANSFORMATION (DCT)"
INST_CMPRS_RATIO = 8.68289
INST_CMPRS_QUALITY = 0
INST_CMPRS_QUANTZ_TBL_ID = 0
INSTRUMENT_TEMPERATURE = 11.0301
LENS_TEMPERATURE = 7.9716
MACROPIXEL_SIZE = 2
MISSING_FRAMES = 0
PIXEL_SUBSAMPLING_FLAG = N
SIGNAL_CHAIN_ID = 3
/* RADIOMETRIC DATA ELEMENTS */
BANDWIDTH = 174.0
CENTER_FILTER_WAVELENGTH = 675.0
RADIANCE_OFFSET = 4.10304
RADIANCE_SCALING_FACTOR = 0.032717
REFLECTANCE_SCALING_FACTOR = 0.00108029
MEX:REFLECTANCE_OFFSET = 0.135479
/* IMAGE OBJECT DEFINITIONS */
OBJECT = IMAGE
  INTERCHANGE_FORMAT = BINARY
  LINES = 27055
  LINE_SAMPLES = 7251
  SAMPLE_TYPE = UNSIGNED_INTEGER
  SAMPLE_BITS = 8
  BANDS = 1
  BAND_STORAGE_TYPE = BAND_SEQUENTIAL
  MAXIMUM = 255
  MEAN = 109.921
  MINIMUM = 1
  STANDARD_DEVIATION = 78.7211
END_OBJECT = IMAGE
/* MAP OBJECT DEFINITIONS */
OBJECT = IMAGE_MAP_PROJECTION
  ^DATA_SET_MAP_PROJECTION_CATALOG= "DSMAP.CAT"
  A_AXIS_RADIUS = 3396.0
  B_AXIS_RADIUS = 3396.0
  C_AXIS_RADIUS = 3396.0
  CENTER_LATITUDE = 0.0
  CENTER_LONGITUDE = 101.0
  COORDINATE_SYSTEM_NAME = PLANETOGRAPHIC
  COORDINATE_SYSTEM_TYPE = "BODY-FIXED ROTATING"
  EASTERNMOST_LONGITUDE = 104.368
  FIRST_STANDARD_PARALLEL = "N/A"
  LINE_FIRST_PIXEL = 1
  LINE_LAST_PIXEL = 27055
  LINE_PROJECTION_OFFSET = 180215.25
  MAP_PROJECTION_ROTATION = 0.0
  MAP_PROJECTION_TYPE = SINUSOIDAL
  MAP_RESOLUTION = 2370.85521546667
  MAP_SCALE = 0.025
  MAXIMUM_LATITUDE = 76.0936
  MINIMUM_LATITUDE = 64.577
  POSITIVE_LONGITUDE_DIRECTION = EAST
  REFERENCE_LATITUDE = "N/A"
  REFERENCE_LONGITUDE = "N/A"
  SAMPLE_FIRST_PIXEL = 1
  SAMPLE_LAST_PIXEL = 7251
  SAMPLE_PROJECTION_OFFSET = 3864.25
  SECOND_STANDARD_PARALLEL = "N/A"
  WESTERNMOST_LONGITUDE = 94.3484
END_OBJECT = IMAGE_MAP_PROJECTION
END
