PDS_VERSION_ID = PDS3
/* FILE DATA ELEMENTS */
RECORD_TYPE = UNDEFINED
/* POINTERS TO DATA OBJECTS */
^IMAGE = ("H5441_0000_RE4.TIF")
/* IDENTIFICATION DATA ELEMENTS */
DATA_SET_ID = "MEX-M-HRSC-4-REFDR-MAPPROJECT-EXT2-V4.0"
DATA_SET_NAME = "MARS EXPRESS HRSC MAP PROJECTED REFDR EXTENSION2 V4.0"
DETECTOR_ID = MEX_HRSC_RED
EVENT_TYPE = "MARS-REGIONAL-MAPPING-Te-Pf-Ts"
INSTRUMENT_HOST_ID = MEX
INSTRUMENT_HOST_NAME = "MARS EXPRESS"
INSTRUMENT_ID = HRSC
INSTRUMENT_NAME = "HIGH RESOLUTION STEREO CAMERA"
MISSION_NAME = "MARS EXPRESS"
MISSION_PHASE_NAME = ME_Phase_11
PROCESSING_LEVEL_ID = 4
PRODUCT_CREATION_TIME = 2023-02-02T05:41:08.000Z
PRODUCT_ID = "H5441_0000_RE4.TIF"
RELEASE_ID = 0002
REVISION_ID = 0000
/* QUALITY DATA ELEMENTS */
DATA_QUALITY_ID = 1
DATA_QUALITY_DESC = "Data calculated based on original SPICE kernels"
/* TIME DATA ELEMENTS */
SPACECRAFT_CLOCK_START_COUNT = "1/0154764181.07304"
SPACECRAFT_CLOCK_STOP_COUNT = "1/0154764488.65009"
START_TIME = 2008-03-28T06:04:15.632Z
STOP_TIME = 2008-03-28T06:08:05.301Z
/* ORBITAL DATA ELEMENTS */
ASCENDING_NODE_LONGITUDE = 115.06
MAXIMUM_RESOLUTION = 0.0589
FOOTPRINT_POINT_LATITUDE = (75.4043,75.346,75.2554,75.1377,75.1347 ,75.2388,74.9139,74.5886,74.263,73.9363 ,73.609,73.2808,72.7882,72.4592,71.9646 ,71.6343,71.1382,70.8066,70.3097,69.978 ,69.6838,69.4057,69.1257,68.8486, 68.5699,68.2904,68.011,67.7318,67.4527, 67.1735,66.754,66.3346,65.9152,65.6356, 65.2159,64.7962,64.5165,64.2366,63.9569 ,63.6771,63.2575,62.8379,62.5583, 62.1389,61.7196,61.3006,60.8819,60.6028 ,60.4632,60.4341,60.4826,60.5165, 60.5332,60.5339,60.5351,60.816,61.0967, 61.5181,61.7991,62.0804,62.3612,62.7839 ,63.2065,63.6291,63.9109,64.1926, 64.4748,64.7568,65.1797,65.4621,65.7441 ,66.1676,66.45,66.7321,67.0145,67.2969, 67.579,67.8614,68.1437,68.5665,68.8494, 69.132,69.4143,69.8374,70.1303,70.4667, 70.9714,71.3076,71.8123,72.1477,72.4835 ,72.8195,73.3223,73.6573,73.9923, 74.3264,74.8281,75.3288,75.4954, 75.4043)
FOOTPRINT_POINT_LONGITUDE = (241.154,239.845,238.068,236.077, 236.029,235.741,236.083,236.408,236.718 ,237.016,237.301,237.575,237.964,238.21 ,238.562,238.785,239.103,239.306, 239.595,239.778,239.936,240.079,240.221 ,240.355,240.486,240.615,240.739,240.86 ,240.977,241.09,241.255,241.413,241.564 ,241.662,241.803,241.939,242.026, 242.111,242.194,242.275,242.392,242.505 ,242.577,242.683,242.785,242.883, 242.977,243.037,243.067,243.073,244.166 ,245.053,245.544,245.567,245.575, 245.538,245.5,245.441,245.4,245.359, 245.317,245.252,245.184,245.114,245.066 ,245.017,244.966,244.915,244.834, 244.779,244.723,244.635,244.575,244.513 ,244.449,244.384,244.316,244.247, 244.177,244.066,243.99,243.912,243.831, 243.706,243.616,243.509,243.34,243.222, 243.038,242.908,242.773,242.633,242.411 ,242.256,242.094,241.924,241.655, 241.368,241.267,241.154)
ORBIT_NUMBER = 5441
ORBITAL_ECCENTRICITY = 0.569
ORBITAL_INCLINATION = 86.75
ORBITAL_SEMIMAJOR_AXIS = 8659.34
PERIAPSIS_ALTITUDE = 349.17
PERIAPSIS_ARGUMENT_ANGLE = 121.08
PERIAPSIS_TIME = 2008-03-28T06:08:05.000Z
SPACECRAFT_ORIENTATION = (0.0,-1.0,0.0)
^MEX_ORIENTATION_DESC = "MEX_ORIENTATION_DESC.TXT"
SPACECRAFT_POINTING_MODE = ACROSSTRACK
^MEX_POINTING_DESC = "MEX_POINTING_DESC.TXT"
RIGHT_ASCENSION = -1e+32
DECLINATION = -1e+32
OFFSET_ANGLE = 0.0
SPACECRAFT_SOLAR_DISTANCE = 2.47671e+08
TARGET_NAME = MARS
/* CAMERA DATA ELEMENTS */
DETECTOR_TEMPERATURE = 18.5744
FOCAL_PLANE_TEMPERATURE = 7.9716
INST_CMPRS_NAME = "DISCRETE COSINE TRANSFORMATION (DCT)"
INST_CMPRS_RATIO = 24.7684
INST_CMPRS_QUALITY = 0
INST_CMPRS_QUANTZ_TBL_ID = 0
INSTRUMENT_TEMPERATURE = 11.234
LENS_TEMPERATURE = 8.7872
MACROPIXEL_SIZE = 4
MISSING_FRAMES = 0
PIXEL_SUBSAMPLING_FLAG = N
SIGNAL_CHAIN_ID = 2
/* RADIOMETRIC DATA ELEMENTS */
BANDWIDTH = 48.0
CENTER_FILTER_WAVELENGTH = 748.0
RADIANCE_OFFSET = 1.4915
RADIANCE_SCALING_FACTOR = 0.00642122
REFLECTANCE_SCALING_FACTOR = 0.000898865
MEX:REFLECTANCE_OFFSET = 0.208786
/* IMAGE OBJECT DEFINITIONS */
OBJECT = IMAGE
  INTERCHANGE_FORMAT = BINARY
  LINES = 17876
  LINE_SAMPLES = 3716
  SAMPLE_TYPE = UNSIGNED_INTEGER
  SAMPLE_BITS = 8
  BANDS = 1
  BAND_STORAGE_TYPE = BAND_SEQUENTIAL
  MAXIMUM = 255
  MEAN = 85.8489
  MINIMUM = 1
  STANDARD_DEVIATION = 64.1891
END_OBJECT = IMAGE
/* MAP OBJECT DEFINITIONS */
OBJECT = IMAGE_MAP_PROJECTION
  ^DATA_SET_MAP_PROJECTION_CATALOG= "DSMAP.CAT"
  A_AXIS_RADIUS = 3396.0
  B_AXIS_RADIUS = 3396.0
  C_AXIS_RADIUS = 3396.0
  CENTER_LATITUDE = 0.0
  CENTER_LONGITUDE = 243.0
  COORDINATE_SYSTEM_NAME = PLANETOGRAPHIC
  COORDINATE_SYSTEM_TYPE = "BODY-FIXED ROTATING"
  EASTERNMOST_LONGITUDE = 245.575
  FIRST_STANDARD_PARALLEL = "N/A"
  LINE_FIRST_PIXEL = 1
  LINE_LAST_PIXEL = 17876
  LINE_PROJECTION_OFFSET = 89506.125
  MAP_PROJECTION_ROTATION = 0.0
  MAP_PROJECTION_TYPE = SINUSOIDAL
  MAP_RESOLUTION = 1185.42760773333
  MAP_SCALE = 0.05
  MAXIMUM_LATITUDE = 75.4954
  MINIMUM_LATITUDE = 60.4341
  POSITIVE_LONGITUDE_DIRECTION = EAST
  REFERENCE_LATITUDE = "N/A"
  REFERENCE_LONGITUDE = "N/A"
  SAMPLE_FIRST_PIXEL = 1
  SAMPLE_LAST_PIXEL = 3716
  SAMPLE_PROJECTION_OFFSET = 2216.625
  SECOND_STANDARD_PARALLEL = "N/A"
  WESTERNMOST_LONGITUDE = 235.741
END_OBJECT = IMAGE_MAP_PROJECTION
END
