PDS_VERSION_ID = PDS3
/* FILE DATA ELEMENTS */
RECORD_TYPE = UNDEFINED
/* POINTERS TO DATA OBJECTS */
^IMAGE = ("H5439_0000_GR4.TIF")
/* IDENTIFICATION DATA ELEMENTS */
DATA_SET_ID = "MEX-M-HRSC-4-REFDR-MAPPROJECT-EXT2-V4.0"
DATA_SET_NAME = "MARS EXPRESS HRSC MAP PROJECTED REFDR EXTENSION2 V4.0"
DETECTOR_ID = MEX_HRSC_GREEN
EVENT_TYPE = "MARS-REGIONAL-MAPPING-Te-Im-Pf"
INSTRUMENT_HOST_ID = MEX
INSTRUMENT_HOST_NAME = "MARS EXPRESS"
INSTRUMENT_ID = HRSC
INSTRUMENT_NAME = "HIGH RESOLUTION STEREO CAMERA"
MISSION_NAME = "MARS EXPRESS"
MISSION_PHASE_NAME = ME_Phase_11
PROCESSING_LEVEL_ID = 4
PRODUCT_CREATION_TIME = 2023-02-02T05:41:08.000Z
PRODUCT_ID = "H5439_0000_GR4.TIF"
RELEASE_ID = 0002
REVISION_ID = 0000
/* QUALITY DATA ELEMENTS */
DATA_QUALITY_ID = 1
DATA_QUALITY_DESC = "Data calculated based on original SPICE kernels"
/* TIME DATA ELEMENTS */
SPACECRAFT_CLOCK_START_COUNT = "1/0154715032.08269"
SPACECRAFT_CLOCK_STOP_COUNT = "1/0154715264.55699"
START_TIME = 2008-03-27T16:24:25.352Z
STOP_TIME = 2008-03-27T16:27:09.625Z
/* ORBITAL DATA ELEMENTS */
ASCENDING_NODE_LONGITUDE = 115.1
MAXIMUM_RESOLUTION = 0.0562
FOOTPRINT_POINT_LATITUDE = (68.6048,68.5665,68.5155,68.4672, 68.4656,68.4435,68.2001,67.9565,67.7127 ,67.347,66.9373,66.527,66.1162,65.7046, 65.2927,65.0864,64.8801,64.6736,64.4671 ,64.2604,64.0536,63.8467,63.6397, 63.4326,63.2253,63.018,62.8106,62.603, 62.3954,62.1878,61.9799,61.7721,61.5641 ,61.3561,61.148,60.9398,60.7315,60.4191 ,60.1064,59.8979,59.585,59.3763,59.1676 ,58.9588,58.6457,58.3323,58.0189, 57.9144,57.9093,57.9388,57.9555,57.981, 57.9816,57.9826,58.1925,58.5073,58.7171 ,58.9269,59.2415,59.4512,59.6609, 59.9753,60.1849,60.3946,60.7088,60.9183 ,61.1276,61.3368,61.5461,61.7553, 61.9644,62.1735,62.3825,62.5915,62.8003 ,63.0092,63.2179,63.4266,63.6352, 63.8437,64.0521,64.2605,64.4687,64.6769 ,64.885,65.093,65.3009,65.5087,65.7164, 65.924,66.2352,66.6498,67.0639,67.4776, 67.7231,67.9695,68.2158,68.4619,68.5849 ,68.6048)
FOOTPRINT_POINT_LONGITUDE = (85.0939,83.974,82.7433,81.7464,81.7154 ,81.6729,81.773,81.8706,81.9658,82.1041 ,82.2527,82.3954,82.5325,82.664,82.7905 ,82.8518,82.9119,82.9709,83.0287, 83.0854,83.1411,83.1956,83.2491,83.3016 ,83.3531,83.4036,83.4531,83.5017, 83.5494,83.5962,83.6421,83.6872,83.7314 ,83.7748,83.8173,83.8591,83.9001, 83.9603,84.0187,84.0567,84.1125,84.1488 ,84.1844,84.2194,84.2707,84.3205, 84.3691,84.3849,84.3857,85.1743,85.6913 ,86.6726,86.6945,86.7018,86.6838,86.656 ,86.6373,86.6183,86.5891,86.5692, 86.5493,86.5187,86.4975,86.4754,86.4429 ,86.4201,86.3975,86.3757,86.3522, 86.3288,86.3046,86.2801,86.2552,86.2299 ,86.2041,86.1778,86.1513,86.1241, 86.0961,86.068,86.0395,86.0103,85.9809, 85.9507,85.9199,85.8886,85.8566,85.8241 ,85.7911,85.7572,85.7054,85.6341, 85.5601,85.4829,85.4351,85.387,85.3372, 85.2861,85.2606,85.0939)
ORBIT_NUMBER = 5439
ORBITAL_ECCENTRICITY = 0.569
ORBITAL_INCLINATION = 86.76
ORBITAL_SEMIMAJOR_AXIS = 8662.93
PERIAPSIS_ALTITUDE = 348.77
PERIAPSIS_ARGUMENT_ANGLE = 121.44
PERIAPSIS_TIME = 2008-03-27T16:27:07.000Z
SPACECRAFT_ORIENTATION = (0.0,-1.0,0.0)
^MEX_ORIENTATION_DESC = "MEX_ORIENTATION_DESC.TXT"
SPACECRAFT_POINTING_MODE = ACROSSTRACK
^MEX_POINTING_DESC = "MEX_POINTING_DESC.TXT"
RIGHT_ASCENSION = -1e+32
DECLINATION = -1e+32
OFFSET_ANGLE = 0.35
SPACECRAFT_SOLAR_DISTANCE = 2.47633e+08
TARGET_NAME = MARS
/* CAMERA DATA ELEMENTS */
DETECTOR_TEMPERATURE = 18.1666
FOCAL_PLANE_TEMPERATURE = 7.7677
INST_CMPRS_NAME = "DISCRETE COSINE TRANSFORMATION (DCT)"
INST_CMPRS_RATIO = 22.806
INST_CMPRS_QUALITY = 0
INST_CMPRS_QUANTZ_TBL_ID = 0
INSTRUMENT_TEMPERATURE = 11.0301
LENS_TEMPERATURE = 8.1755
MACROPIXEL_SIZE = 4
MISSING_FRAMES = 0
PIXEL_SUBSAMPLING_FLAG = N
SIGNAL_CHAIN_ID = 2
/* RADIOMETRIC DATA ELEMENTS */
BANDWIDTH = 88.0
CENTER_FILTER_WAVELENGTH = 538.0
RADIANCE_OFFSET = 1.06358
RADIANCE_SCALING_FACTOR = 0.00526493
REFLECTANCE_SCALING_FACTOR = 0.00027797
MEX:REFLECTANCE_OFFSET = 0.0561536
/* IMAGE OBJECT DEFINITIONS */
OBJECT = IMAGE
  INTERCHANGE_FORMAT = BINARY
  LINES = 12682
  LINE_SAMPLES = 2525
  SAMPLE_TYPE = UNSIGNED_INTEGER
  SAMPLE_BITS = 8
  BANDS = 1
  BAND_STORAGE_TYPE = BAND_SEQUENTIAL
  MAXIMUM = 255
  MEAN = 82.6237
  MINIMUM = 1
  STANDARD_DEVIATION = 34.1003
END_OBJECT = IMAGE
/* MAP OBJECT DEFINITIONS */
OBJECT = IMAGE_MAP_PROJECTION
  ^DATA_SET_MAP_PROJECTION_CATALOG= "DSMAP.CAT"
  A_AXIS_RADIUS = 3396.0
  B_AXIS_RADIUS = 3396.0
  C_AXIS_RADIUS = 3396.0
  CENTER_LATITUDE = 0.0
  CENTER_LONGITUDE = 85.0
  COORDINATE_SYSTEM_NAME = PLANETOGRAPHIC
  COORDINATE_SYSTEM_TYPE = "BODY-FIXED ROTATING"
  EASTERNMOST_LONGITUDE = 86.70180000000001
  FIRST_STANDARD_PARALLEL = "N/A"
  LINE_FIRST_PIXEL = 1
  LINE_LAST_PIXEL = 12682
  LINE_PROJECTION_OFFSET = 81324.375
  MAP_PROJECTION_ROTATION = 0.0
  MAP_PROJECTION_TYPE = SINUSOIDAL
  MAP_RESOLUTION = 1185.42760773333
  MAP_SCALE = 0.05
  MAXIMUM_LATITUDE = 68.6048
  MINIMUM_LATITUDE = 57.9093
  POSITIVE_LONGITUDE_DIRECTION = EAST
  REFERENCE_LATITUDE = "N/A"
  REFERENCE_LONGITUDE = "N/A"
  SAMPLE_FIRST_PIXEL = 1
  SAMPLE_LAST_PIXEL = 2525
  SAMPLE_PROJECTION_OFFSET = 1454.625
  SECOND_STANDARD_PARALLEL = "N/A"
  WESTERNMOST_LONGITUDE = 81.6729
END_OBJECT = IMAGE_MAP_PROJECTION
END
