PDS_VERSION_ID = PDS3
/* FILE DATA ELEMENTS */
RECORD_TYPE = UNDEFINED
/* POINTERS TO DATA OBJECTS */
^IMAGE = ("H5435_0000_P14.TIF")
/* IDENTIFICATION DATA ELEMENTS */
DATA_SET_ID = "MEX-M-HRSC-4-REFDR-MAPPROJECT-EXT2-V4.0"
DATA_SET_NAME = "MARS EXPRESS HRSC MAP PROJECTED REFDR EXTENSION2 V4.0"
DETECTOR_ID = MEX_HRSC_P1
EVENT_TYPE = "MARS-REGIONAL-STEREO-Te-Im-Pf"
INSTRUMENT_HOST_ID = MEX
INSTRUMENT_HOST_NAME = "MARS EXPRESS"
INSTRUMENT_ID = HRSC
INSTRUMENT_NAME = "HIGH RESOLUTION STEREO CAMERA"
MISSION_NAME = "MARS EXPRESS"
MISSION_PHASE_NAME = ME_Phase_11
PROCESSING_LEVEL_ID = 4
PRODUCT_CREATION_TIME = 2023-02-02T05:41:08.000Z
PRODUCT_ID = "H5435_0000_P14.TIF"
RELEASE_ID = 0002
REVISION_ID = 0000
/* QUALITY DATA ELEMENTS */
DATA_QUALITY_ID = 1
DATA_QUALITY_DESC = "Data calculated based on original SPICE kernels"
/* TIME DATA ELEMENTS */
SPACECRAFT_CLOCK_START_COUNT = "1/0154616589.07273"
SPACECRAFT_CLOCK_STOP_COUNT = "1/0154616847.56184"
START_TIME = 2008-03-26T13:03:24.133Z
STOP_TIME = 2008-03-26T13:06:35.501Z
/* ORBITAL DATA ELEMENTS */
ASCENDING_NODE_LONGITUDE = 115.18
MAXIMUM_RESOLUTION = 0.0289
FOOTPRINT_POINT_LATITUDE = (62.9822,62.9383,62.8835,62.8822, 62.8039,62.1971,61.7105,61.3447,60.8566 ,60.6123,60.368,60.1231,59.7557,59.5105 ,59.2651,59.0196,58.7739,58.528,58.282, 58.0357,57.7895,57.5431,57.2966,57.0499 ,56.803,56.556,56.3089,56.0618,55.6907, 55.4433,55.1956,54.9478,54.5758,54.3278 ,53.9556,53.7073,53.4592,53.2108, 52.9628,52.7144,52.4654,52.2167,51.9679 ,51.7192,51.4704,51.097,50.8481,50.5993 ,50.4748,50.4601,50.4878,50.5085, 50.5088,50.5093,50.759,51.0087,51.383, 51.6325,51.8821,52.1316,52.3811,52.6306 ,52.88,53.1294,53.3791,53.6282,53.8773, 54.1263,54.4996,54.7485,54.997,55.2459, 55.6188,55.9912,56.2395,56.4876,56.8598 ,57.1077,57.3556,57.7273,57.9748, 58.2222,58.4695,58.8403,59.0872,59.3341 ,59.5807,59.8273,60.0737,60.3199,60.566 ,60.8118,61.1805,61.4259,61.6714, 61.9166,62.406,62.7728,62.8951,62.9822)
FOOTPRINT_POINT_LONGITUDE = (125.967,124.631,123.361,123.336, 123.295,123.445,123.56,123.642,123.748, 123.8,123.85,123.899,123.971,124.018, 124.064,124.109,124.152,124.195,124.237 ,124.278,124.319,124.358,124.397, 124.435,124.472,124.508,124.544,124.579 ,124.63,124.663,124.695,124.727,124.773 ,124.803,124.847,124.875,124.903,124.93 ,124.957,124.983,125.009,125.034, 125.058,125.082,125.106,125.14,125.162, 125.184,125.194,125.196,126.128,127.145 ,127.164,127.171,127.158,127.144, 127.122,127.107,127.093,127.077,127.062 ,127.046,127.03,127.014,126.997,126.98, 126.963,126.946,126.92,126.902,126.884, 126.865,126.836,126.807,126.787,126.767 ,126.736,126.715,126.693,126.66,126.637 ,126.614,126.591,126.555,126.53,126.505 ,126.48,126.454,126.428,126.401,126.374 ,126.346,126.303,126.274,126.244, 126.213,126.151,126.103,126.086, 125.967)
ORBIT_NUMBER = 5435
ORBITAL_ECCENTRICITY = 0.569
ORBITAL_INCLINATION = 86.74
ORBITAL_SEMIMAJOR_AXIS = 8663.31
PERIAPSIS_ALTITUDE = 349.37
PERIAPSIS_ARGUMENT_ANGLE = 122.16
PERIAPSIS_TIME = 2008-03-26T13:05:05.000Z
SPACECRAFT_ORIENTATION = (0.0,-1.0,0.0)
^MEX_ORIENTATION_DESC = "MEX_ORIENTATION_DESC.TXT"
SPACECRAFT_POINTING_MODE = ACROSSTRACK
^MEX_POINTING_DESC = "MEX_POINTING_DESC.TXT"
RIGHT_ASCENSION = -1e+32
DECLINATION = -1e+32
OFFSET_ANGLE = 0.2
SPACECRAFT_SOLAR_DISTANCE = 2.47554e+08
TARGET_NAME = MARS
/* CAMERA DATA ELEMENTS */
DETECTOR_TEMPERATURE = 16.9432
FOCAL_PLANE_TEMPERATURE = 8.1755
INST_CMPRS_NAME = "DISCRETE COSINE TRANSFORMATION (DCT)"
INST_CMPRS_RATIO = 21.1079
INST_CMPRS_QUALITY = 0
INST_CMPRS_QUANTZ_TBL_ID = 0
INSTRUMENT_TEMPERATURE = 10.8262
LENS_TEMPERATURE = 8.5833
MACROPIXEL_SIZE = 2
MISSING_FRAMES = 0
PIXEL_SUBSAMPLING_FLAG = N
SIGNAL_CHAIN_ID = 3
/* RADIOMETRIC DATA ELEMENTS */
BANDWIDTH = 174.0
CENTER_FILTER_WAVELENGTH = 675.0
RADIANCE_OFFSET = 3.64691
RADIANCE_SCALING_FACTOR = 0.00771832
REFLECTANCE_SCALING_FACTOR = 0.000254419
MEX:REFLECTANCE_OFFSET = 0.120213
/* IMAGE OBJECT DEFINITIONS */
OBJECT = IMAGE
  INTERCHANGE_FORMAT = BINARY
  LINES = 29523
  LINE_SAMPLES = 4695
  SAMPLE_TYPE = UNSIGNED_INTEGER
  SAMPLE_BITS = 8
  BANDS = 1
  BAND_STORAGE_TYPE = BAND_SEQUENTIAL
  MAXIMUM = 255
  MEAN = 124.755
  MINIMUM = 1
  STANDARD_DEVIATION = 37.5709
END_OBJECT = IMAGE
/* MAP OBJECT DEFINITIONS */
OBJECT = IMAGE_MAP_PROJECTION
  ^DATA_SET_MAP_PROJECTION_CATALOG= "DSMAP.CAT"
  A_AXIS_RADIUS = 3396.0
  B_AXIS_RADIUS = 3396.0
  C_AXIS_RADIUS = 3396.0
  CENTER_LATITUDE = 0.0
  CENTER_LONGITUDE = 126.0
  COORDINATE_SYSTEM_NAME = PLANETOGRAPHIC
  COORDINATE_SYSTEM_TYPE = "BODY-FIXED ROTATING"
  EASTERNMOST_LONGITUDE = 127.171
  FIRST_STANDARD_PARALLEL = "N/A"
  LINE_FIRST_PIXEL = 1
  LINE_LAST_PIXEL = 29523
  LINE_PROJECTION_OFFSET = 149187.75
  MAP_PROJECTION_ROTATION = 0.0
  MAP_PROJECTION_TYPE = SINUSOIDAL
  MAP_RESOLUTION = 2370.85521546667
  MAP_SCALE = 0.025
  MAXIMUM_LATITUDE = 62.9822
  MINIMUM_LATITUDE = 50.4601
  POSITIVE_LONGITUDE_DIRECTION = EAST
  REFERENCE_LATITUDE = "N/A"
  REFERENCE_LONGITUDE = "N/A"
  SAMPLE_FIRST_PIXEL = 1
  SAMPLE_LAST_PIXEL = 4695
  SAMPLE_PROJECTION_OFFSET = 2923.75
  SECOND_STANDARD_PARALLEL = "N/A"
  WESTERNMOST_LONGITUDE = 123.295
END_OBJECT = IMAGE_MAP_PROJECTION
END
