PDS_VERSION_ID = PDS3
/* FILE DATA ELEMENTS */
RECORD_TYPE = UNDEFINED
/* POINTERS TO DATA OBJECTS */
^IMAGE = ("H5435_0000_ND4.TIF")
/* IDENTIFICATION DATA ELEMENTS */
DATA_SET_ID = "MEX-M-HRSC-4-REFDR-MAPPROJECT-EXT2-V4.0"
DATA_SET_NAME = "MARS EXPRESS HRSC MAP PROJECTED REFDR EXTENSION2 V4.0"
DETECTOR_ID = MEX_HRSC_NADIR
EVENT_TYPE = "MARS-REGIONAL-STEREO-Te-Im-Pf"
INSTRUMENT_HOST_ID = MEX
INSTRUMENT_HOST_NAME = "MARS EXPRESS"
INSTRUMENT_ID = HRSC
INSTRUMENT_NAME = "HIGH RESOLUTION STEREO CAMERA"
MISSION_NAME = "MARS EXPRESS"
MISSION_PHASE_NAME = ME_Phase_11
PROCESSING_LEVEL_ID = 4
PRODUCT_CREATION_TIME = 2023-02-02T05:41:08.000Z
PRODUCT_ID = "H5435_0000_ND4.TIF"
RELEASE_ID = 0002
REVISION_ID = 0000
/* QUALITY DATA ELEMENTS */
DATA_QUALITY_ID = 1
DATA_QUALITY_DESC = "Data calculated based on original SPICE kernels"
/* TIME DATA ELEMENTS */
SPACECRAFT_CLOCK_START_COUNT = "1/0154616589.07273"
SPACECRAFT_CLOCK_STOP_COUNT = "1/0154616847.56184"
START_TIME = 2008-03-26T13:03:45.484Z
STOP_TIME = 2008-03-26T13:06:56.485Z
/* ORBITAL DATA ELEMENTS */
ASCENDING_NODE_LONGITUDE = 115.18
MAXIMUM_RESOLUTION = 0.0141
FOOTPRINT_POINT_LATITUDE = (62.9206,62.9014,62.8706,62.8158, 62.8145,62.8132,62.3221,61.8307,61.3388 ,61.0927,60.8466,60.6003,60.354,60.1077 ,59.8612,59.6147,59.3681,59.1215, 58.8748,58.628,58.2579,58.011,57.7642, 57.5173,57.2704,57.0234,56.7765,56.5295 ,56.2825,56.0355,55.7886,55.5416, 55.2946,55.0477,54.8007,54.5538,54.3069 ,54.06,53.5664,53.0729,52.5796,52.0865, 51.5936,51.1011,50.6088,50.4858,50.4734 ,50.4969,50.515,50.5301,50.5305,50.5309 ,51.0245,51.5185,52.0129,52.2601, 52.5075,52.7549,53.0023,53.2498,53.4974 ,53.7451,53.9928,54.2405,54.4883, 54.7361,54.984,55.2319,55.4798,55.7277, 55.9757,56.2237,56.4717,56.7197,56.9678 ,57.2158,57.4638,57.7118,57.9599, 58.3319,58.5799,58.8278,59.0758,59.3237 ,59.5716,59.8195,60.0673,60.3151, 60.5628,60.8105,61.0581,61.3057,61.5533 ,61.8007,62.0481,62.2955,62.5427, 62.7899,62.9135,62.9206)
FOOTPRINT_POINT_LONGITUDE = (125.956,125.386,124.588,123.389, 123.364,123.3,123.421,123.537,123.647, 123.701,123.753,123.804,123.854,123.903 ,123.951,123.998,124.044,124.089, 124.133,124.176,124.239,124.28,124.32, 124.359,124.397,124.434,124.471,124.507 ,124.542,124.576,124.61,124.643,124.675 ,124.706,124.737,124.767,124.796, 124.825,124.881,124.935,124.986,125.035 ,125.081,125.126,125.169,125.179,125.18 ,125.864,126.493,127.145,127.165, 127.174,127.146,127.117,127.087,127.071 ,127.055,127.039,127.023,127.006, 126.989,126.972,126.954,126.937,126.918 ,126.9,126.882,126.862,126.843,126.823, 126.804,126.783,126.763,126.741,126.72, 126.698,126.676,126.653,126.63,126.594, 126.57,126.545,126.52,126.495,126.468, 126.442,126.415,126.387,126.359,126.33, 126.301,126.271,126.24,126.209,126.178, 126.146,126.113,126.079,126.062, 125.956)
ORBIT_NUMBER = 5435
ORBITAL_ECCENTRICITY = 0.569
ORBITAL_INCLINATION = 86.74
ORBITAL_SEMIMAJOR_AXIS = 8663.31
PERIAPSIS_ALTITUDE = 349.37
PERIAPSIS_ARGUMENT_ANGLE = 122.16
PERIAPSIS_TIME = 2008-03-26T13:05:05.000Z
SPACECRAFT_ORIENTATION = (0.0,-1.0,0.0)
^MEX_ORIENTATION_DESC = "MEX_ORIENTATION_DESC.TXT"
SPACECRAFT_POINTING_MODE = ACROSSTRACK
^MEX_POINTING_DESC = "MEX_POINTING_DESC.TXT"
RIGHT_ASCENSION = -1e+32
DECLINATION = -1e+32
OFFSET_ANGLE = 0.2
SPACECRAFT_SOLAR_DISTANCE = 2.47554e+08
TARGET_NAME = MARS
/* CAMERA DATA ELEMENTS */
DETECTOR_TEMPERATURE = 18.1666
FOCAL_PLANE_TEMPERATURE = 8.1755
INST_CMPRS_NAME = "DISCRETE COSINE TRANSFORMATION (DCT)"
INST_CMPRS_RATIO = 8.1547
INST_CMPRS_QUALITY = 0
INST_CMPRS_QUANTZ_TBL_ID = 0
INSTRUMENT_TEMPERATURE = 10.8262
LENS_TEMPERATURE = 8.5833
MACROPIXEL_SIZE = 1
MISSING_FRAMES = 0
PIXEL_SUBSAMPLING_FLAG = N
SIGNAL_CHAIN_ID = 0
/* RADIOMETRIC DATA ELEMENTS */
BANDWIDTH = 177.0
CENTER_FILTER_WAVELENGTH = 677.5
RADIANCE_OFFSET = 3.361
RADIANCE_SCALING_FACTOR = 0.00851235
REFLECTANCE_SCALING_FACTOR = 0.000277124
MEX:REFLECTANCE_OFFSET = 0.109419
/* IMAGE OBJECT DEFINITIONS */
OBJECT = IMAGE
  INTERCHANGE_FORMAT = BINARY
  LINES = 59046
  LINE_SAMPLES = 9390
  SAMPLE_TYPE = UNSIGNED_INTEGER
  SAMPLE_BITS = 8
  BANDS = 1
  BAND_STORAGE_TYPE = BAND_SEQUENTIAL
  MAXIMUM = 255
  MEAN = 126.509
  MINIMUM = 1
  STANDARD_DEVIATION = 35.0143
END_OBJECT = IMAGE
/* MAP OBJECT DEFINITIONS */
OBJECT = IMAGE_MAP_PROJECTION
  ^DATA_SET_MAP_PROJECTION_CATALOG= "DSMAP.CAT"
  A_AXIS_RADIUS = 3396.0
  B_AXIS_RADIUS = 3396.0
  C_AXIS_RADIUS = 3396.0
  CENTER_LATITUDE = 0.0
  CENTER_LONGITUDE = 126.0
  COORDINATE_SYSTEM_NAME = PLANETOGRAPHIC
  COORDINATE_SYSTEM_TYPE = "BODY-FIXED ROTATING"
  EASTERNMOST_LONGITUDE = 127.174
  FIRST_STANDARD_PARALLEL = "N/A"
  LINE_FIRST_PIXEL = 1
  LINE_LAST_PIXEL = 59046
  LINE_PROJECTION_OFFSET = 298376.0
  MAP_PROJECTION_ROTATION = 0.0
  MAP_PROJECTION_TYPE = SINUSOIDAL
  MAP_RESOLUTION = 4741.71043093333
  MAP_SCALE = 0.0125
  MAXIMUM_LATITUDE = 62.9206
  MINIMUM_LATITUDE = 50.4734
  POSITIVE_LONGITUDE_DIRECTION = EAST
  REFERENCE_LATITUDE = "N/A"
  REFERENCE_LONGITUDE = "N/A"
  SAMPLE_FIRST_PIXEL = 1
  SAMPLE_LAST_PIXEL = 9390
  SAMPLE_PROJECTION_OFFSET = 5848.0
  SECOND_STANDARD_PARALLEL = "N/A"
  WESTERNMOST_LONGITUDE = 123.3
END_OBJECT = IMAGE_MAP_PROJECTION
END
