PDS_VERSION_ID = PDS3
/* FILE DATA ELEMENTS */
RECORD_TYPE = UNDEFINED
/* POINTERS TO DATA OBJECTS */
^IMAGE = ("H5434_0000_S14.TIF")
/* IDENTIFICATION DATA ELEMENTS */
DATA_SET_ID = "MEX-M-HRSC-4-REFDR-MAPPROJECT-EXT2-V4.0"
DATA_SET_NAME = "MARS EXPRESS HRSC MAP PROJECTED REFDR EXTENSION2 V4.0"
DETECTOR_ID = MEX_HRSC_S1
EVENT_TYPE = "MARS-REGIONAL-MAPPING-Te-Im-Pf"
INSTRUMENT_HOST_ID = MEX
INSTRUMENT_HOST_NAME = "MARS EXPRESS"
INSTRUMENT_ID = HRSC
INSTRUMENT_NAME = "HIGH RESOLUTION STEREO CAMERA"
MISSION_NAME = "MARS EXPRESS"
MISSION_PHASE_NAME = ME_Phase_11
PROCESSING_LEVEL_ID = 4
PRODUCT_CREATION_TIME = 2023-02-02T05:41:08.000Z
PRODUCT_ID = "H5434_0000_S14.TIF"
RELEASE_ID = 0002
REVISION_ID = 0000
/* QUALITY DATA ELEMENTS */
DATA_QUALITY_ID = 1
DATA_QUALITY_DESC = "Data calculated based on original SPICE kernels"
/* TIME DATA ELEMENTS */
SPACECRAFT_CLOCK_START_COUNT = "1/0154591861.07309"
SPACECRAFT_CLOCK_STOP_COUNT = "1/0154592131.57333"
START_TIME = 2008-03-26T06:11:04.870Z
STOP_TIME = 2008-03-26T06:14:30.365Z
/* ORBITAL DATA ELEMENTS */
ASCENDING_NODE_LONGITUDE = 115.2
MAXIMUM_RESOLUTION = 0.0297
FOOTPRINT_POINT_LATITUDE = (68.6385,68.5677,68.4879,68.381,68.378, 68.2341,67.8148,67.5347,67.2539,66.8322 ,66.4084,66.125,65.841,65.5568,65.2719, 64.9862,64.7004,64.4144,64.1356,63.6558 ,63.1726,62.8096,62.5632,62.0796, 61.8361,61.592,61.3479,61.1036,60.8582, 60.6132,60.368,59.9989,59.6295,59.3831, 59.0125,58.7653,58.5179,58.2702,58.0222 ,57.7741,57.5256,57.1526,56.9037, 56.5297,56.2803,55.9057,55.5306,55.4056 ,55.386,55.4419,55.4985,55.5394,55.5407 ,55.5416,55.9191,56.1706,56.4214, 56.6724,57.0486,57.299,57.6744,57.9244, 58.1742,58.4236,58.7977,59.0468,59.2956 ,59.5442,59.7925,60.0406,60.2886,60.536 ,60.7833,61.0305,61.4008,61.6474, 61.8939,62.1398,62.3855,62.631,62.8763, 63.1215,63.366,63.6103,63.8544,64.3417, 64.7624,65.0522,65.3413,65.6298,65.9181 ,66.35,66.7798,67.0662,67.3526,67.6377, 68.0645,68.3487,68.4905,68.6385)
FOOTPRINT_POINT_LONGITUDE = (222.839,221.756,220.665,219.36,219.325 ,219.178,219.402,219.547,219.688, 219.893,220.09,220.216,220.339,220.46, 220.577,220.692,220.803,220.913,221.012 ,221.187,221.352,221.472,221.546,221.7, 221.773,221.844,221.915,221.984,222.051 ,222.117,222.182,222.276,222.368, 222.428,222.516,222.573,222.628,222.683 ,222.737,222.79,222.841,222.917,222.966 ,223.038,223.085,223.154,223.22,223.242 ,223.246,223.954,224.757,225.404, 225.424,225.432,225.388,225.358,225.327 ,225.296,225.249,225.217,225.167, 225.134,225.099,225.065,225.011,224.975 ,224.938,224.9,224.862,224.823,224.784, 224.743,224.702,224.66,224.596,224.553, 224.508,224.463,224.417,224.37,224.322, 224.273,224.224,224.173,224.121,224.015 ,223.92,223.852,223.783,223.712,223.64, 223.528,223.411,223.332,223.249,223.165 ,223.035,222.946,222.9,222.839)
ORBIT_NUMBER = 5434
ORBITAL_ECCENTRICITY = 0.569
ORBITAL_INCLINATION = 86.76
ORBITAL_SEMIMAJOR_AXIS = 8659.57
PERIAPSIS_ALTITUDE = 348.49
PERIAPSIS_ARGUMENT_ANGLE = 122.31
PERIAPSIS_TIME = 2008-03-26T06:14:30.000Z
SPACECRAFT_ORIENTATION = (0.0,-1.0,0.0)
^MEX_ORIENTATION_DESC = "MEX_ORIENTATION_DESC.TXT"
SPACECRAFT_POINTING_MODE = ACROSSTRACK
^MEX_POINTING_DESC = "MEX_POINTING_DESC.TXT"
RIGHT_ASCENSION = -1e+32
DECLINATION = -1e+32
OFFSET_ANGLE = -0.6
SPACECRAFT_SOLAR_DISTANCE = 2.47534e+08
TARGET_NAME = MARS
/* CAMERA DATA ELEMENTS */
DETECTOR_TEMPERATURE = 17.1471
FOCAL_PLANE_TEMPERATURE = 8.3794
INST_CMPRS_NAME = "DISCRETE COSINE TRANSFORMATION (DCT)"
INST_CMPRS_RATIO = 12.3557
INST_CMPRS_QUALITY = 0
INST_CMPRS_QUANTZ_TBL_ID = 0
INSTRUMENT_TEMPERATURE = 10.0106
LENS_TEMPERATURE = 8.5833
MACROPIXEL_SIZE = 2
MISSING_FRAMES = 0
PIXEL_SUBSAMPLING_FLAG = N
SIGNAL_CHAIN_ID = 1
/* RADIOMETRIC DATA ELEMENTS */
BANDWIDTH = 180.0
CENTER_FILTER_WAVELENGTH = 677.0
RADIANCE_OFFSET = 2.79474
RADIANCE_SCALING_FACTOR = 0.01907
REFLECTANCE_SCALING_FACTOR = 0.000609628
MEX:REFLECTANCE_OFFSET = 0.089342
/* IMAGE OBJECT DEFINITIONS */
OBJECT = IMAGE
  INTERCHANGE_FORMAT = BINARY
  LINES = 30960
  LINE_SAMPLES = 6587
  SAMPLE_TYPE = UNSIGNED_INTEGER
  SAMPLE_BITS = 8
  BANDS = 1
  BAND_STORAGE_TYPE = BAND_SEQUENTIAL
  MAXIMUM = 255
  MEAN = 145.077
  MINIMUM = 1
  STANDARD_DEVIATION = 30.4538
END_OBJECT = IMAGE
/* MAP OBJECT DEFINITIONS */
OBJECT = IMAGE_MAP_PROJECTION
  ^DATA_SET_MAP_PROJECTION_CATALOG= "DSMAP.CAT"
  A_AXIS_RADIUS = 3396.0
  B_AXIS_RADIUS = 3396.0
  C_AXIS_RADIUS = 3396.0
  CENTER_LATITUDE = 0.0
  CENTER_LONGITUDE = 223.0
  COORDINATE_SYSTEM_NAME = PLANETOGRAPHIC
  COORDINATE_SYSTEM_TYPE = "BODY-FIXED ROTATING"
  EASTERNMOST_LONGITUDE = 225.432
  FIRST_STANDARD_PARALLEL = "N/A"
  LINE_FIRST_PIXEL = 1
  LINE_LAST_PIXEL = 30960
  LINE_PROJECTION_OFFSET = 162387.75
  MAP_PROJECTION_ROTATION = 0.0
  MAP_PROJECTION_TYPE = SINUSOIDAL
  MAP_RESOLUTION = 2370.85521546667
  MAP_SCALE = 0.025
  MAXIMUM_LATITUDE = 68.63849999999999
  MINIMUM_LATITUDE = 55.386
  POSITIVE_LONGITUDE_DIRECTION = EAST
  REFERENCE_LATITUDE = "N/A"
  REFERENCE_LONGITUDE = "N/A"
  SAMPLE_FIRST_PIXEL = 1
  SAMPLE_LAST_PIXEL = 6587
  SAMPLE_PROJECTION_OFFSET = 3324.25
  SECOND_STANDARD_PARALLEL = "N/A"
  WESTERNMOST_LONGITUDE = 219.178
END_OBJECT = IMAGE_MAP_PROJECTION
END
