PDS_VERSION_ID = PDS3
/* FILE DATA ELEMENTS */
RECORD_TYPE = UNDEFINED
/* POINTERS TO DATA OBJECTS */
^IMAGE = ("H5430_0000_S14.TIF")
/* IDENTIFICATION DATA ELEMENTS */
DATA_SET_ID = "MEX-M-HRSC-4-REFDR-MAPPROJECT-EXT2-V4.0"
DATA_SET_NAME = "MARS EXPRESS HRSC MAP PROJECTED REFDR EXTENSION2 V4.0"
DETECTOR_ID = MEX_HRSC_S1
EVENT_TYPE = "MARS-REGIONAL-MAPPING-Vo-Te-Pf"
INSTRUMENT_HOST_ID = MEX
INSTRUMENT_HOST_NAME = "MARS EXPRESS"
INSTRUMENT_ID = HRSC
INSTRUMENT_NAME = "HIGH RESOLUTION STEREO CAMERA"
MISSION_NAME = "MARS EXPRESS"
MISSION_PHASE_NAME = ME_Phase_11
PROCESSING_LEVEL_ID = 4
PRODUCT_CREATION_TIME = 2023-02-02T05:41:08.000Z
PRODUCT_ID = "H5430_0000_S14.TIF"
RELEASE_ID = 0002
REVISION_ID = 0000
/* QUALITY DATA ELEMENTS */
DATA_QUALITY_ID = 1
DATA_QUALITY_DESC = "Data calculated based on original SPICE kernels"
/* TIME DATA ELEMENTS */
SPACECRAFT_CLOCK_START_COUNT = "1/0154493340.08232"
SPACECRAFT_CLOCK_STOP_COUNT = "1/0154493697.16362"
START_TIME = 2008-03-25T02:49:03.869Z
STOP_TIME = 2008-03-25T02:53:54.154Z
/* ORBITAL DATA ELEMENTS */
ASCENDING_NODE_LONGITUDE = 115.29
MAXIMUM_RESOLUTION = 0.0295
FOOTPRINT_POINT_LATITUDE = (68.4441,68.4019,68.3539,68.2904, 68.2885,68.1597,67.7564,67.3521,66.9464 ,66.5395,66.1316,65.7224,65.3123,64.901 ,64.4887,63.9008,63.2052,62.5071, 61.8068,61.4555,60.9275,60.575,60.2227, 59.8692,59.5155,58.9833,58.6283,58.2727 ,57.9161,57.559,57.0235,56.4872,55.9479 ,55.5894,55.2298,54.8661,54.3253, 53.9643,53.6028,53.2412,52.8792,52.5164 ,52.1545,51.7918,51.4284,51.0656, 50.6977,50.3336,49.9692,49.7872,49.7708 ,49.7898,49.8054,49.8191,49.8194, 49.8199,50.3656,50.9156,51.2803,51.8268 ,52.3732,52.7367,53.1006,53.4636, 53.8265,54.1891,54.5517,54.9132,55.2787 ,55.6396,56.1804,56.541,56.9009,57.2602 ,57.7984,58.1564,58.514,59.0501,59.4067 ,59.9408,60.4743,61.0069,61.3615, 61.7155,62.0691,62.4222,62.7742,63.477, 64.1775,64.8011,65.2168,65.6316,66.0455 ,66.4584,66.8705,67.2813,67.6914, 68.1005,68.3048,68.4441)
FOOTPRINT_POINT_LONGITUDE = (265.175,264.001,262.905,261.683, 261.649,261.613,261.789,261.958,262.12, 262.277,262.427,262.572,262.711,262.846 ,262.975,263.15,263.346,263.53,263.703, 263.786,263.905,263.982,264.057,264.129 ,264.199,264.301,264.366,264.429, 264.491,264.55,264.637,264.719,264.798, 264.849,264.898,264.946,265.015,265.059 ,265.102,265.144,265.184,265.224, 265.262,265.299,265.334,265.369,265.403 ,265.435,265.467,265.482,265.484, 266.072,266.644,267.368,267.386,267.393 ,267.365,267.335,267.314,267.282, 267.248,267.226,267.202,267.178,267.153 ,267.128,267.102,267.076,267.048, 267.021,266.978,266.949,266.919,266.888 ,266.84,266.808,266.775,266.722,266.687 ,266.632,266.574,266.513,266.472, 266.429,266.385,266.339,266.293,266.196 ,266.094,265.998,265.93,265.861,265.789 ,265.714,265.636,265.556,265.473, 265.386,265.342,265.175)
ORBIT_NUMBER = 5430
ORBITAL_ECCENTRICITY = 0.569
ORBITAL_INCLINATION = 86.74
ORBITAL_SEMIMAJOR_AXIS = 8663.76
PERIAPSIS_ALTITUDE = 348.5
PERIAPSIS_ARGUMENT_ANGLE = 123.02
PERIAPSIS_TIME = 2008-03-25T02:52:36.000Z
SPACECRAFT_ORIENTATION = (0.0,-1.0,0.0)
^MEX_ORIENTATION_DESC = "MEX_ORIENTATION_DESC.TXT"
SPACECRAFT_POINTING_MODE = ACROSSTRACK
^MEX_POINTING_DESC = "MEX_POINTING_DESC.TXT"
RIGHT_ASCENSION = -1e+32
DECLINATION = -1e+32
OFFSET_ANGLE = 0.15
SPACECRAFT_SOLAR_DISTANCE = 2.47454e+08
TARGET_NAME = MARS
/* CAMERA DATA ELEMENTS */
DETECTOR_TEMPERATURE = 17.5549
FOCAL_PLANE_TEMPERATURE = 7.9716
INST_CMPRS_NAME = "DISCRETE COSINE TRANSFORMATION (DCT)"
INST_CMPRS_RATIO = 11.8711
INST_CMPRS_QUALITY = 0
INST_CMPRS_QUANTZ_TBL_ID = 0
INSTRUMENT_TEMPERATURE = 11.0301
LENS_TEMPERATURE = 8.7872
MACROPIXEL_SIZE = 2
PIXEL_SUBSAMPLING_FLAG = N
SIGNAL_CHAIN_ID = 1
/* RADIOMETRIC DATA ELEMENTS */
BANDWIDTH = 180.0
CENTER_FILTER_WAVELENGTH = 677.0
RADIANCE_OFFSET = 4.75107
RADIANCE_SCALING_FACTOR = 0.0160013
REFLECTANCE_SCALING_FACTOR = 0.000511192
MEX:REFLECTANCE_OFFSET = 0.151782
/* IMAGE OBJECT DEFINITIONS */
OBJECT = IMAGE
  INTERCHANGE_FORMAT = BINARY
  LINES = 44032
  LINE_SAMPLES = 5965
  SAMPLE_TYPE = UNSIGNED_INTEGER
  SAMPLE_BITS = 8
  BANDS = 1
  BAND_STORAGE_TYPE = BAND_SEQUENTIAL
  MAXIMUM = 255
  MEAN = 101.915
  MINIMUM = 1
  STANDARD_DEVIATION = 47.7548
END_OBJECT = IMAGE
/* MAP OBJECT DEFINITIONS */
OBJECT = IMAGE_MAP_PROJECTION
  ^DATA_SET_MAP_PROJECTION_CATALOG= "DSMAP.CAT"
  A_AXIS_RADIUS = 3396.0
  B_AXIS_RADIUS = 3396.0
  C_AXIS_RADIUS = 3396.0
  CENTER_LATITUDE = 0.0
  CENTER_LONGITUDE = 266.0
  COORDINATE_SYSTEM_NAME = PLANETOGRAPHIC
  COORDINATE_SYSTEM_TYPE = "BODY-FIXED ROTATING"
  EASTERNMOST_LONGITUDE = 267.393
  FIRST_STANDARD_PARALLEL = "N/A"
  LINE_FIRST_PIXEL = 1
  LINE_LAST_PIXEL = 44032
  LINE_PROJECTION_OFFSET = 162002.75
  MAP_PROJECTION_ROTATION = 0.0
  MAP_PROJECTION_TYPE = SINUSOIDAL
  MAP_RESOLUTION = 2370.85521546667
  MAP_SCALE = 0.025
  MAXIMUM_LATITUDE = 68.44410000000001
  MINIMUM_LATITUDE = 49.7708
  POSITIVE_LONGITUDE_DIRECTION = EAST
  REFERENCE_LATITUDE = "N/A"
  REFERENCE_LONGITUDE = "N/A"
  SAMPLE_FIRST_PIXEL = 1
  SAMPLE_LAST_PIXEL = 5965
  SAMPLE_PROJECTION_OFFSET = 3828.25
  SECOND_STANDARD_PARALLEL = "N/A"
  WESTERNMOST_LONGITUDE = 261.613
END_OBJECT = IMAGE_MAP_PROJECTION
END
