PDS_VERSION_ID = PDS3
/* FILE DATA ELEMENTS */
RECORD_TYPE = UNDEFINED
/* POINTERS TO DATA OBJECTS */
^IMAGE = ("H5430_0000_ND4.TIF")
/* IDENTIFICATION DATA ELEMENTS */
DATA_SET_ID = "MEX-M-HRSC-4-REFDR-MAPPROJECT-EXT2-V4.0"
DATA_SET_NAME = "MARS EXPRESS HRSC MAP PROJECTED REFDR EXTENSION2 V4.0"
DETECTOR_ID = MEX_HRSC_NADIR
EVENT_TYPE = "MARS-REGIONAL-MAPPING-Vo-Te-Pf"
INSTRUMENT_HOST_ID = MEX
INSTRUMENT_HOST_NAME = "MARS EXPRESS"
INSTRUMENT_ID = HRSC
INSTRUMENT_NAME = "HIGH RESOLUTION STEREO CAMERA"
MISSION_NAME = "MARS EXPRESS"
MISSION_PHASE_NAME = ME_Phase_11
PROCESSING_LEVEL_ID = 4
PRODUCT_CREATION_TIME = 2023-02-02T05:41:08.000Z
PRODUCT_ID = "H5430_0000_ND4.TIF"
RELEASE_ID = 0002
REVISION_ID = 0000
/* QUALITY DATA ELEMENTS */
DATA_QUALITY_ID = 1
DATA_QUALITY_DESC = "Data calculated based on original SPICE kernels"
/* TIME DATA ELEMENTS */
SPACECRAFT_CLOCK_START_COUNT = "1/0154493340.08232"
SPACECRAFT_CLOCK_STOP_COUNT = "1/0154493697.16362"
START_TIME = 2008-03-25T02:49:39.866Z
STOP_TIME = 2008-03-25T02:54:25.878Z
/* ORBITAL DATA ELEMENTS */
ASCENDING_NODE_LONGITUDE = 115.29
MAXIMUM_RESOLUTION = 0.0139
FOOTPRINT_POINT_LATITUDE = (68.3244,68.2617,68.1706,68.1687, 68.1654,67.7418,67.3175,66.8925,66.4668 ,66.069,65.3533,64.6361,63.9174,63.1974 ,62.4762,61.7538,61.3923,61.0306, 60.6686,60.3065,59.9441,59.5816,59.2189 ,58.8561,58.4931,58.1301,57.7669, 57.4036,57.0403,56.6769,56.3134,55.9499 ,55.4046,55.0411,54.6776,54.314,53.9506 ,53.5871,53.2237,52.8604,52.4972,52.134 ,51.771,51.408,50.6826,49.9577,49.7766, 49.7591,49.7983,49.814,49.8144,49.8148, 50.1781,50.5416,50.9054,51.2692,51.6332 ,51.9974,52.3616,52.7261,53.0906, 53.4552,53.8199,54.1847,54.5496,54.9145 ,55.2795,55.6445,56.0095,56.3745, 56.7396,57.1046,57.4697,57.8347,58.1996 ,58.5645,58.9293,59.2941,59.6588, 60.0233,60.3878,60.7521,61.1163,61.4803 ,61.8442,62.2079,62.5714,62.9348, 63.2979,63.6608,64.0236,64.7482,65.4718 ,66.1943,66.8079,67.2378,67.6672, 68.0962,68.3104,68.3244)
FOOTPRINT_POINT_LONGITUDE = (265.124,263.577,261.783,261.75,261.658 ,261.839,262.013,262.18,262.34,262.483, 262.727,262.954,263.167,263.366,263.553 ,263.728,263.811,263.892,263.97,264.046 ,264.12,264.191,264.26,264.327,264.392, 264.455,264.515,264.574,264.631,264.687 ,264.741,264.792,264.868,264.916, 264.962,265.007,265.051,265.093,265.134 ,265.174,265.212,265.25,265.286,265.321 ,265.387,265.449,265.464,265.466, 266.699,267.367,267.386,267.396,267.376 ,267.356,267.336,267.314,267.292, 267.269,267.246,267.222,267.197,267.172 ,267.147,267.12,267.093,267.066,267.037 ,267.008,266.979,266.948,266.916, 266.884,266.851,266.817,266.783,266.747 ,266.711,266.673,266.634,266.594, 266.553,266.511,266.467,266.422,266.376 ,266.328,266.279,266.229,266.177, 266.123,266.068,265.952,265.829,265.697 ,265.578,265.491,265.4,265.305,265.256, 265.124)
ORBIT_NUMBER = 5430
ORBITAL_ECCENTRICITY = 0.569
ORBITAL_INCLINATION = 86.74
ORBITAL_SEMIMAJOR_AXIS = 8663.76
PERIAPSIS_ALTITUDE = 348.5
PERIAPSIS_ARGUMENT_ANGLE = 123.02
PERIAPSIS_TIME = 2008-03-25T02:52:36.000Z
SPACECRAFT_ORIENTATION = (0.0,-1.0,0.0)
^MEX_ORIENTATION_DESC = "MEX_ORIENTATION_DESC.TXT"
SPACECRAFT_POINTING_MODE = ACROSSTRACK
^MEX_POINTING_DESC = "MEX_POINTING_DESC.TXT"
RIGHT_ASCENSION = -1e+32
DECLINATION = -1e+32
OFFSET_ANGLE = 0.15
SPACECRAFT_SOLAR_DISTANCE = 2.47454e+08
TARGET_NAME = MARS
/* CAMERA DATA ELEMENTS */
DETECTOR_TEMPERATURE = 17.9627
FOCAL_PLANE_TEMPERATURE = 7.9716
INST_CMPRS_NAME = "DISCRETE COSINE TRANSFORMATION (DCT)"
INST_CMPRS_RATIO = 7.06983
INST_CMPRS_QUALITY = 0
INST_CMPRS_QUANTZ_TBL_ID = 0
INSTRUMENT_TEMPERATURE = 11.0301
LENS_TEMPERATURE = 8.7872
MACROPIXEL_SIZE = 1
MISSING_FRAMES = 0
PIXEL_SUBSAMPLING_FLAG = N
SIGNAL_CHAIN_ID = 0
/* RADIOMETRIC DATA ELEMENTS */
BANDWIDTH = 177.0
CENTER_FILTER_WAVELENGTH = 677.5
RADIANCE_OFFSET = 4.22405
RADIANCE_SCALING_FACTOR = 0.0161047
REFLECTANCE_SCALING_FACTOR = 0.000523872
MEX:REFLECTANCE_OFFSET = 0.137404
/* IMAGE OBJECT DEFINITIONS */
OBJECT = IMAGE
  INTERCHANGE_FORMAT = BINARY
  LINES = 88063
  LINE_SAMPLES = 11929
  SAMPLE_TYPE = UNSIGNED_INTEGER
  SAMPLE_BITS = 8
  BANDS = 1
  BAND_STORAGE_TYPE = BAND_SEQUENTIAL
  MAXIMUM = 255
  MEAN = 103.842
  MINIMUM = 1
  STANDARD_DEVIATION = 49.7293
END_OBJECT = IMAGE
/* MAP OBJECT DEFINITIONS */
OBJECT = IMAGE_MAP_PROJECTION
  ^DATA_SET_MAP_PROJECTION_CATALOG= "DSMAP.CAT"
  A_AXIS_RADIUS = 3396.0
  B_AXIS_RADIUS = 3396.0
  C_AXIS_RADIUS = 3396.0
  CENTER_LATITUDE = 0.0
  CENTER_LONGITUDE = 266.0
  COORDINATE_SYSTEM_NAME = PLANETOGRAPHIC
  COORDINATE_SYSTEM_TYPE = "BODY-FIXED ROTATING"
  EASTERNMOST_LONGITUDE = 267.396
  FIRST_STANDARD_PARALLEL = "N/A"
  LINE_FIRST_PIXEL = 1
  LINE_LAST_PIXEL = 88063
  LINE_PROJECTION_OFFSET = 324006.0
  MAP_PROJECTION_ROTATION = 0.0
  MAP_PROJECTION_TYPE = SINUSOIDAL
  MAP_RESOLUTION = 4741.71043093333
  MAP_SCALE = 0.0125
  MAXIMUM_LATITUDE = 68.3244
  MINIMUM_LATITUDE = 49.7591
  POSITIVE_LONGITUDE_DIRECTION = EAST
  REFERENCE_LATITUDE = "N/A"
  REFERENCE_LONGITUDE = "N/A"
  SAMPLE_FIRST_PIXEL = 1
  SAMPLE_LAST_PIXEL = 11929
  SAMPLE_PROJECTION_OFFSET = 7657.0
  SECOND_STANDARD_PARALLEL = "N/A"
  WESTERNMOST_LONGITUDE = 261.658
END_OBJECT = IMAGE_MAP_PROJECTION
END
