PDS_VERSION_ID = PDS3
/* FILE DATA ELEMENTS */
RECORD_TYPE = UNDEFINED
/* POINTERS TO DATA OBJECTS */
^IMAGE = ("H5429_0000_IR4.TIF")
/* IDENTIFICATION DATA ELEMENTS */
DATA_SET_ID = "MEX-M-HRSC-4-REFDR-MAPPROJECT-EXT2-V4.0"
DATA_SET_NAME = "MARS EXPRESS HRSC MAP PROJECTED REFDR EXTENSION2 V4.0"
DETECTOR_ID = MEX_HRSC_IR
EVENT_TYPE = "MARS-REGIONAL-MAPPING-Te-Im-Pf"
INSTRUMENT_HOST_ID = MEX
INSTRUMENT_HOST_NAME = "MARS EXPRESS"
INSTRUMENT_ID = HRSC
INSTRUMENT_NAME = "HIGH RESOLUTION STEREO CAMERA"
MISSION_NAME = "MARS EXPRESS"
MISSION_PHASE_NAME = ME_Phase_11
PROCESSING_LEVEL_ID = 4
PRODUCT_CREATION_TIME = 2023-02-02T05:41:08.000Z
PRODUCT_ID = "H5429_0000_IR4.TIF"
RELEASE_ID = 0002
REVISION_ID = 0000
/* QUALITY DATA ELEMENTS */
DATA_QUALITY_ID = 1
DATA_QUALITY_DESC = "Data calculated based on original SPICE kernels"
/* TIME DATA ELEMENTS */
SPACECRAFT_CLOCK_START_COUNT = "1/0154468718.09060"
SPACECRAFT_CLOCK_STOP_COUNT = "1/0154468975.25965"
START_TIME = 2008-03-24T19:58:48.351Z
STOP_TIME = 2008-03-24T20:01:59.434Z
/* ORBITAL DATA ELEMENTS */
ASCENDING_NODE_LONGITUDE = 115.3
MAXIMUM_RESOLUTION = 0.0588
FOOTPRINT_POINT_LATITUDE = (67.3806,67.3229,67.2578,67.1607, 67.1582,67.0384,66.7745,66.5101,66.2454 ,65.9801,65.7143,65.4483,65.1814, 64.9142,64.5128,64.2446,63.9761,63.7137 ,63.2619,62.809,62.2415,62.0141,61.7864 ,61.4443,61.1019,60.8734,60.6444, 60.4153,60.186,59.9567,59.7266,59.4963, 59.2662,59.0359,58.8053,58.459,58.2279, 57.9964,57.7652,57.4176,57.1858,56.9535 ,56.7213,56.4889,56.2565,56.0236, 55.6745,55.4411,55.208,55.0912,55.0146, 55.0704,55.1124,55.1468,55.1479,55.1491 ,55.3836,55.6183,55.8525,56.0869,56.438 ,56.7888,57.0222,57.3724,57.6056, 57.9552,58.3045,58.6536,58.8861,59.2346 ,59.5822,59.8139,60.0454,60.2767, 60.5082,60.7389,61.0851,61.3154,61.6609 ,61.891,62.1206,62.4649,62.6942,62.9231 ,63.1519,63.4945,63.8369,64.0876, 64.3593,64.6306,64.9014,65.3073,65.5771 ,65.9815,66.2504,66.519,66.7874,67.0556 ,67.1892,67.3806)
FOOTPRINT_POINT_LONGITUDE = (3.76524,2.78713,1.80272,0.501851, 0.470731,0.333098,0.45626,0.576365, 0.693721,0.808137,0.919757,1.02899, 1.1352,1.23904,1.39039,1.48836,1.58406, 1.67522,1.827,1.97301,2.14783,2.21554, 2.2819,2.37908,2.47374,2.53545,2.59577, 2.65504,2.71325,2.77065,2.82646,2.8812, 2.93532,2.98838,3.04049,3.11678,3.1665, 3.21518,3.26338,3.33359,3.3795,3.42429, 3.4685,3.51184,3.55457,3.59628,3.65781, 3.6975,3.73686,3.75616,3.76881,4.58412, 5.26998,5.90826,5.9281,5.93462,5.90921, 5.88335,5.85718,5.83051,5.78981,5.74816 ,5.7199,5.6766,5.6472,5.60219,5.55606, 5.50879,5.47667,5.42745,5.37716,5.34289 ,5.30805,5.27265,5.23657,5.20003, 5.14393,5.10579,5.04726,5.00739,4.96693 ,4.90481,4.8625,4.81948,4.77567,4.70854 ,4.63947,4.58769,4.53031,4.47167, 4.41178,4.31929,4.25603,4.1583,4.09138, 4.02284,3.95264,3.88067,3.84423, 3.76524)
ORBIT_NUMBER = 5429
ORBITAL_ECCENTRICITY = 0.569
ORBITAL_INCLINATION = 86.74
ORBITAL_SEMIMAJOR_AXIS = 8661.82
PERIAPSIS_ALTITUDE = 349.02
PERIAPSIS_ARGUMENT_ANGLE = 123.2
PERIAPSIS_TIME = 2008-03-24T20:02:02.000Z
SPACECRAFT_ORIENTATION = (0.0,-1.0,0.0)
^MEX_ORIENTATION_DESC = "MEX_ORIENTATION_DESC.TXT"
SPACECRAFT_POINTING_MODE = ACROSSTRACK
^MEX_POINTING_DESC = "MEX_POINTING_DESC.TXT"
RIGHT_ASCENSION = -1e+32
DECLINATION = -1e+32
OFFSET_ANGLE = -0.5
SPACECRAFT_SOLAR_DISTANCE = 2.47433e+08
TARGET_NAME = MARS
/* CAMERA DATA ELEMENTS */
DETECTOR_TEMPERATURE = 17.351
FOCAL_PLANE_TEMPERATURE = 8.1755
INST_CMPRS_NAME = "DISCRETE COSINE TRANSFORMATION (DCT)"
INST_CMPRS_RATIO = 20.9627
INST_CMPRS_QUALITY = 0
INST_CMPRS_QUANTZ_TBL_ID = 0
INSTRUMENT_TEMPERATURE = 11.4379
LENS_TEMPERATURE = 8.5833
MACROPIXEL_SIZE = 4
MISSING_FRAMES = 0
PIXEL_SUBSAMPLING_FLAG = N
SIGNAL_CHAIN_ID = 2
/* RADIOMETRIC DATA ELEMENTS */
BANDWIDTH = 81.0
CENTER_FILTER_WAVELENGTH = 955.5
RADIANCE_OFFSET = 1.12937
RADIANCE_SCALING_FACTOR = 0.00308857
REFLECTANCE_SCALING_FACTOR = 0.000407946
MEX:REFLECTANCE_OFFSET = 0.14917
/* IMAGE OBJECT DEFINITIONS */
OBJECT = IMAGE
  INTERCHANGE_FORMAT = BINARY
  LINES = 14493
  LINE_SAMPLES = 2998
  SAMPLE_TYPE = UNSIGNED_INTEGER
  SAMPLE_BITS = 8
  BANDS = 1
  BAND_STORAGE_TYPE = BAND_SEQUENTIAL
  MAXIMUM = 255
  MEAN = 160.776
  MINIMUM = 1
  STANDARD_DEVIATION = 30.0058
END_OBJECT = IMAGE
/* MAP OBJECT DEFINITIONS */
OBJECT = IMAGE_MAP_PROJECTION
  ^DATA_SET_MAP_PROJECTION_CATALOG= "DSMAP.CAT"
  A_AXIS_RADIUS = 3396.0
  B_AXIS_RADIUS = 3396.0
  C_AXIS_RADIUS = 3396.0
  CENTER_LATITUDE = 0.0
  CENTER_LONGITUDE = 4.0
  COORDINATE_SYSTEM_NAME = PLANETOGRAPHIC
  COORDINATE_SYSTEM_TYPE = "BODY-FIXED ROTATING"
  EASTERNMOST_LONGITUDE = 5.93462
  FIRST_STANDARD_PARALLEL = "N/A"
  LINE_FIRST_PIXEL = 1
  LINE_LAST_PIXEL = 14493
  LINE_PROJECTION_OFFSET = 79767.125
  MAP_PROJECTION_ROTATION = 0.0
  MAP_PROJECTION_TYPE = SINUSOIDAL
  MAP_RESOLUTION = 1185.42760773333
  MAP_SCALE = 0.05
  MAXIMUM_LATITUDE = 67.3806
  MINIMUM_LATITUDE = 55.0146
  POSITIVE_LONGITUDE_DIRECTION = EAST
  REFERENCE_LATITUDE = "N/A"
  REFERENCE_LONGITUDE = "N/A"
  SAMPLE_FIRST_PIXEL = 1
  SAMPLE_LAST_PIXEL = 2998
  SAMPLE_PROJECTION_OFFSET = 1689.625
  SECOND_STANDARD_PARALLEL = "N/A"
  WESTERNMOST_LONGITUDE = 0.333098
END_OBJECT = IMAGE_MAP_PROJECTION
END
