PDS_VERSION_ID = PDS3
/* FILE DATA ELEMENTS */
RECORD_TYPE = UNDEFINED
/* POINTERS TO DATA OBJECTS */
^IMAGE = ("H5414_0000_P14.TIF")
/* IDENTIFICATION DATA ELEMENTS */
DATA_SET_ID = "MEX-M-HRSC-4-REFDR-MAPPROJECT-EXT2-V4.0"
DATA_SET_NAME = "MARS EXPRESS HRSC MAP PROJECTED REFDR EXTENSION2 V4.0"
DETECTOR_ID = MEX_HRSC_P1
EVENT_TYPE = "MARS-REGIONAL-MAPPING-Te-Im-Pf"
INSTRUMENT_HOST_ID = MEX
INSTRUMENT_HOST_NAME = "MARS EXPRESS"
INSTRUMENT_ID = HRSC
INSTRUMENT_NAME = "HIGH RESOLUTION STEREO CAMERA"
MISSION_NAME = "MARS EXPRESS"
MISSION_PHASE_NAME = ME_Phase_11
PROCESSING_LEVEL_ID = 4
PRODUCT_CREATION_TIME = 2023-02-02T05:41:08.000Z
PRODUCT_ID = "H5414_0000_P14.TIF"
RELEASE_ID = 0002
REVISION_ID = 0000
/* QUALITY DATA ELEMENTS */
DATA_QUALITY_ID = 1
DATA_QUALITY_DESC = "Data calculated based on original SPICE kernels"
/* TIME DATA ELEMENTS */
SPACECRAFT_CLOCK_START_COUNT = "1/0154099251.08432"
SPACECRAFT_CLOCK_STOP_COUNT = "1/0154099559.39070"
START_TIME = 2008-03-20T13:21:07.392Z
STOP_TIME = 2008-03-20T13:25:09.151Z
/* ORBITAL DATA ELEMENTS */
ASCENDING_NODE_LONGITUDE = 115.6
MAXIMUM_RESOLUTION = 0.0286
FOOTPRINT_POINT_LATITUDE = (65.6359,65.6031,65.5683,65.5271, 65.5257,65.4458,65.1014,64.7556,64.4094 ,64.0625,63.7149,63.3668,63.0179, 62.6689,62.1665,61.5787,61.1372,60.6941 ,60.2503,59.9542,59.6573,59.3605, 58.9145,58.6171,58.319,58.0206,57.5731, 57.1238,56.6745,56.2246,55.7744,55.4741 ,55.0225,54.7215,54.42,54.1185,53.6656, 53.3635,53.0611,52.6075,52.1532,51.8504 ,51.3959,51.0924,50.6371,50.1816, 50.0298,50.0255,50.0481,50.0585,50.0587 ,50.0591,50.3638,50.6681,50.9727, 51.2769,51.5811,51.8849,52.189,52.4929, 52.7964,53.2513,53.555,53.8581,54.3126, 54.6152,54.9176,55.2202,55.5223,55.8241 ,56.1256,56.5777,56.8786,57.3295, 57.6299,57.9305,58.2304,58.5299,58.8292 ,59.2779,59.5767,59.8751,60.1732,60.471 ,60.7685,61.0657,61.3625,61.6591, 61.9554,62.2512,62.5806,63.1081,63.4596 ,63.8107,64.1616,64.5118,64.8603,65.383 ,65.5571,65.6359)
FOOTPRINT_POINT_LONGITUDE = (67.3018,66.1405,65.1748,64.2194, 64.1898,64.1644,64.2729,64.3779,64.4797 ,64.5783,64.6738,64.7664,64.8562, 64.9432,65.0634,65.1973,65.2934,65.3857 ,65.4746,65.5321,65.588,65.6426,65.7219 ,65.7732,65.8232,65.8718,65.9427, 66.0108,66.0764,66.1396,66.2005,66.2399 ,66.297,66.3339,66.3698,66.4049,66.4557 ,66.4886,66.5206,66.5671,66.6118, 66.6407,66.6826,66.7096,66.7487,66.7863 ,66.7986,66.7989,67.8293,68.6897, 68.7085,68.7153,68.7017,68.6882,68.674, 68.6597,68.6451,68.6305,68.615,68.5993, 68.5836,68.5597,68.5424,68.5253,68.4987 ,68.4807,68.4625,68.4433,68.4241, 68.4045,68.3848,68.354,68.3332,68.3011, 68.279,68.2558,68.2326,68.2093,68.1852, 68.1478,68.122,68.0959,68.0693,68.0419, 68.0139,67.9854,67.9561,67.9261,67.8953 ,67.864,67.8274,67.769,67.7277,67.6851, 67.6405,67.5948,67.5501,67.4786,67.4537 ,67.3018)
ORBIT_NUMBER = 5414
ORBITAL_ECCENTRICITY = 0.57
ORBITAL_INCLINATION = 86.76
ORBITAL_SEMIMAJOR_AXIS = 8669.5
PERIAPSIS_ALTITUDE = 346.69
PERIAPSIS_ARGUMENT_ANGLE = 125.84
PERIAPSIS_TIME = 2008-03-20T13:24:28.000Z
SPACECRAFT_ORIENTATION = (0.0,-1.0,0.0)
^MEX_ORIENTATION_DESC = "MEX_ORIENTATION_DESC.TXT"
SPACECRAFT_POINTING_MODE = ACROSSTRACK
^MEX_POINTING_DESC = "MEX_POINTING_DESC.TXT"
RIGHT_ASCENSION = -1e+32
DECLINATION = -1e+32
OFFSET_ANGLE = 0.35
SPACECRAFT_SOLAR_DISTANCE = 2.47113e+08
TARGET_NAME = MARS
/* CAMERA DATA ELEMENTS */
DETECTOR_TEMPERATURE = 17.5549
FOCAL_PLANE_TEMPERATURE = 8.3794
INST_CMPRS_NAME = "DISCRETE COSINE TRANSFORMATION (DCT)"
INST_CMPRS_RATIO = 17.8765
INST_CMPRS_QUALITY = 0
INST_CMPRS_QUANTZ_TBL_ID = 0
INSTRUMENT_TEMPERATURE = 9.3989
LENS_TEMPERATURE = 9.195
MACROPIXEL_SIZE = 2
MISSING_FRAMES = 0
PIXEL_SUBSAMPLING_FLAG = N
SIGNAL_CHAIN_ID = 3
/* RADIOMETRIC DATA ELEMENTS */
BANDWIDTH = 174.0
CENTER_FILTER_WAVELENGTH = 675.0
RADIANCE_OFFSET = 3.10408
RADIANCE_SCALING_FACTOR = 0.0182593
REFLECTANCE_SCALING_FACTOR = 0.000599736
MEX:REFLECTANCE_OFFSET = 0.101955
/* IMAGE OBJECT DEFINITIONS */
OBJECT = IMAGE
  INTERCHANGE_FORMAT = BINARY
  LINES = 36858
  LINE_SAMPLES = 5376
  SAMPLE_TYPE = UNSIGNED_INTEGER
  SAMPLE_BITS = 8
  BANDS = 1
  BAND_STORAGE_TYPE = BAND_SEQUENTIAL
  MAXIMUM = 255
  MEAN = 80.2744
  MINIMUM = 1
  STANDARD_DEVIATION = 48.5989
END_OBJECT = IMAGE
/* MAP OBJECT DEFINITIONS */
OBJECT = IMAGE_MAP_PROJECTION
  ^DATA_SET_MAP_PROJECTION_CATALOG= "DSMAP.CAT"
  A_AXIS_RADIUS = 3396.0
  B_AXIS_RADIUS = 3396.0
  C_AXIS_RADIUS = 3396.0
  CENTER_LATITUDE = 0.0
  CENTER_LONGITUDE = 67.0
  COORDINATE_SYSTEM_NAME = PLANETOGRAPHIC
  COORDINATE_SYSTEM_TYPE = "BODY-FIXED ROTATING"
  EASTERNMOST_LONGITUDE = 68.7153
  FIRST_STANDARD_PARALLEL = "N/A"
  LINE_FIRST_PIXEL = 1
  LINE_LAST_PIXEL = 36858
  LINE_PROJECTION_OFFSET = 155468.75
  MAP_PROJECTION_ROTATION = 0.0
  MAP_PROJECTION_TYPE = SINUSOIDAL
  MAP_RESOLUTION = 2370.85521546667
  MAP_SCALE = 0.025
  MAXIMUM_LATITUDE = 65.63590000000001
  MINIMUM_LATITUDE = 50.0255
  POSITIVE_LONGITUDE_DIRECTION = EAST
  REFERENCE_LATITUDE = "N/A"
  REFERENCE_LONGITUDE = "N/A"
  SAMPLE_FIRST_PIXEL = 1
  SAMPLE_LAST_PIXEL = 5376
  SAMPLE_PROJECTION_OFFSET = 2768.75
  SECOND_STANDARD_PARALLEL = "N/A"
  WESTERNMOST_LONGITUDE = 64.1644
END_OBJECT = IMAGE_MAP_PROJECTION
END
