PDS_VERSION_ID = PDS3
/* FILE DATA ELEMENTS */
RECORD_TYPE = UNDEFINED
/* POINTERS TO DATA OBJECTS */
^IMAGE = ("H5412_0000_ND4.TIF")
/* IDENTIFICATION DATA ELEMENTS */
DATA_SET_ID = "MEX-M-HRSC-4-REFDR-MAPPROJECT-EXT2-V4.0"
DATA_SET_NAME = "MARS EXPRESS HRSC MAP PROJECTED REFDR EXTENSION2 V4.0"
DETECTOR_ID = MEX_HRSC_NADIR
EVENT_TYPE = "MARS-REGIONAL-MAPPING-Vo-Te"
INSTRUMENT_HOST_ID = MEX
INSTRUMENT_HOST_NAME = "MARS EXPRESS"
INSTRUMENT_ID = HRSC
INSTRUMENT_NAME = "HIGH RESOLUTION STEREO CAMERA"
MISSION_NAME = "MARS EXPRESS"
MISSION_PHASE_NAME = ME_Phase_11
PROCESSING_LEVEL_ID = 4
PRODUCT_CREATION_TIME = 2023-02-02T05:41:08.000Z
PRODUCT_ID = "H5412_0000_ND4.TIF"
RELEASE_ID = 0002
REVISION_ID = 0000
/* QUALITY DATA ELEMENTS */
DATA_QUALITY_ID = 1
DATA_QUALITY_DESC = "Data calculated based on original SPICE kernels"
/* TIME DATA ELEMENTS */
SPACECRAFT_CLOCK_START_COUNT = "1/0154049857.07285"
SPACECRAFT_CLOCK_STOP_COUNT = "1/0154050095.32419"
START_TIME = 2008-03-19T23:38:24.239Z
STOP_TIME = 2008-03-19T23:41:04.235Z
/* ORBITAL DATA ELEMENTS */
ASCENDING_NODE_LONGITUDE = 115.65
MAXIMUM_RESOLUTION = 0.0148
FOOTPRINT_POINT_LATITUDE = (73.336,73.305,73.2769,73.2459,73.2121, 73.1757,73.1365,73.134,73.1347,72.7437, 72.3517,71.9586,71.5645,71.1694,70.7734 ,70.3764,69.9786,69.58,69.1805,68.9804, 68.7802,68.5798,68.3791,68.1783,67.9773 ,67.7761,67.5748,67.3732,67.1715, 66.9697,66.7676,66.5654,66.363,66.1605, 65.9578,65.755,65.552,65.3489,65.1456, 64.9422,64.7387,64.535,64.3312,64.1272, 63.9231,63.7189,63.5146,63.2079,63.1056 ,63.0882,63.1232,63.1414,63.156,63.1833 ,63.184,63.1845,63.4934,63.6992,63.9049 ,64.1105,64.316,64.5214,64.7267,64.9319 ,65.137,65.342,65.5468,65.7516,65.9562, 66.1607,66.3651,66.5694,66.7735,66.9775 ,67.1814,67.3852,67.5889,67.7924, 67.9957,68.199,68.402,68.605,68.8078, 69.0105,69.213,69.4154,69.6176,69.8197, 70.0216,70.2234,70.425,70.8277,71.2298, 71.6312,72.032,72.432,72.8313,73.2299, 73.3294,73.336)
FOOTPRINT_POINT_LONGITUDE = (266.738,265.717,264.911,264.113, 263.326,262.547,261.776,261.728,261.698 ,261.958,262.207,262.443,262.669, 262.885,263.091,263.288,263.476,263.657 ,263.829,263.913,263.995,264.075, 264.153,264.23,264.305,264.379,264.451, 264.522,264.591,264.659,264.725,264.791 ,264.854,264.917,264.978,265.039, 265.097,265.155,265.212,265.268,265.322 ,265.376,265.428,265.479,265.53,265.579 ,265.628,265.699,265.722,265.726, 266.597,267.111,267.572,268.599,268.628 ,268.643,268.615,268.595,268.575, 268.554,268.533,268.512,268.491,268.469 ,268.447,268.424,268.401,268.377, 268.353,268.329,268.304,268.278,268.252 ,268.225,268.199,268.171,268.143, 268.115,268.085,268.055,268.025,267.994 ,267.962,267.931,267.897,267.863, 267.829,267.794,267.758,267.721,267.683 ,267.606,267.525,267.44,267.351,267.258 ,267.16,267.057,267.031,266.738)
ORBIT_NUMBER = 5412
ORBITAL_ECCENTRICITY = 0.57
ORBITAL_INCLINATION = 86.74
ORBITAL_SEMIMAJOR_AXIS = 8669.59
PERIAPSIS_ALTITUDE = 346.79
PERIAPSIS_ARGUMENT_ANGLE = 126.19
PERIAPSIS_TIME = 2008-03-19T23:43:29.000Z
SPACECRAFT_ORIENTATION = (0.0,-1.0,0.0)
^MEX_ORIENTATION_DESC = "MEX_ORIENTATION_DESC.TXT"
SPACECRAFT_POINTING_MODE = ACROSSTRACK
^MEX_POINTING_DESC = "MEX_POINTING_DESC.TXT"
RIGHT_ASCENSION = -1e+32
DECLINATION = -1e+32
OFFSET_ANGLE = 0.686
SPACECRAFT_SOLAR_DISTANCE = 2.47068e+08
TARGET_NAME = MARS
/* CAMERA DATA ELEMENTS */
DETECTOR_TEMPERATURE = 18.1666
FOCAL_PLANE_TEMPERATURE = 8.1755
INST_CMPRS_NAME = "DISCRETE COSINE TRANSFORMATION (DCT)"
INST_CMPRS_RATIO = 7.85641
INST_CMPRS_QUALITY = 0
INST_CMPRS_QUANTZ_TBL_ID = 0
INSTRUMENT_TEMPERATURE = 11.234
LENS_TEMPERATURE = 8.3794
MACROPIXEL_SIZE = 1
MISSING_FRAMES = 0
PIXEL_SUBSAMPLING_FLAG = N
SIGNAL_CHAIN_ID = 0
/* RADIOMETRIC DATA ELEMENTS */
BANDWIDTH = 177.0
CENTER_FILTER_WAVELENGTH = 677.5
RADIANCE_OFFSET = 2.38071
RADIANCE_SCALING_FACTOR = 0.0348732
REFLECTANCE_SCALING_FACTOR = 0.00113086
MEX:REFLECTANCE_OFFSET = 0.0772011
/* IMAGE OBJECT DEFINITIONS */
OBJECT = IMAGE
  INTERCHANGE_FORMAT = BINARY
  LINES = 48641
  LINE_SAMPLES = 11572
  SAMPLE_TYPE = UNSIGNED_INTEGER
  SAMPLE_BITS = 8
  BANDS = 1
  BAND_STORAGE_TYPE = BAND_SEQUENTIAL
  MAXIMUM = 255
  MEAN = 100.539
  MINIMUM = 1
  STANDARD_DEVIATION = 49.2246
END_OBJECT = IMAGE
/* MAP OBJECT DEFINITIONS */
OBJECT = IMAGE_MAP_PROJECTION
  ^DATA_SET_MAP_PROJECTION_CATALOG= "DSMAP.CAT"
  A_AXIS_RADIUS = 3396.0
  B_AXIS_RADIUS = 3396.0
  C_AXIS_RADIUS = 3396.0
  CENTER_LATITUDE = 0.0
  CENTER_LONGITUDE = 266.0
  COORDINATE_SYSTEM_NAME = PLANETOGRAPHIC
  COORDINATE_SYSTEM_TYPE = "BODY-FIXED ROTATING"
  EASTERNMOST_LONGITUDE = 268.643
  FIRST_STANDARD_PARALLEL = "N/A"
  LINE_FIRST_PIXEL = 1
  LINE_LAST_PIXEL = 48641
  LINE_PROJECTION_OFFSET = 347786.0
  MAP_PROJECTION_ROTATION = 0.0
  MAP_PROJECTION_TYPE = SINUSOIDAL
  MAP_RESOLUTION = 4741.71043093333
  MAP_SCALE = 0.0125
  MAXIMUM_LATITUDE = 73.336
  MINIMUM_LATITUDE = 63.0882
  POSITIVE_LONGITUDE_DIRECTION = EAST
  REFERENCE_LATITUDE = "N/A"
  REFERENCE_LONGITUDE = "N/A"
  SAMPLE_FIRST_PIXEL = 1
  SAMPLE_LAST_PIXEL = 11572
  SAMPLE_PROJECTION_OFFSET = 5918.0
  SECOND_STANDARD_PARALLEL = "N/A"
  WESTERNMOST_LONGITUDE = 261.698
END_OBJECT = IMAGE_MAP_PROJECTION
END
