PDS_VERSION_ID = PDS3
/* FILE DATA ELEMENTS */
RECORD_TYPE = UNDEFINED
/* POINTERS TO DATA OBJECTS */
^IMAGE = ("H5409_0009_S24.TIF")
/* IDENTIFICATION DATA ELEMENTS */
DATA_SET_ID = "MEX-M-HRSC-4-REFDR-MAPPROJECT-EXT2-V4.0"
DATA_SET_NAME = "MARS EXPRESS HRSC MAP PROJECTED REFDR EXTENSION2 V4.0"
DETECTOR_ID = MEX_HRSC_S2
EVENT_TYPE = "MARS-REGIONAL-MAPPING-Te-Im-Pf"
INSTRUMENT_HOST_ID = MEX
INSTRUMENT_HOST_NAME = "MARS EXPRESS"
INSTRUMENT_ID = HRSC
INSTRUMENT_NAME = "HIGH RESOLUTION STEREO CAMERA"
MISSION_NAME = "MARS EXPRESS"
MISSION_PHASE_NAME = ME_Phase_11
PROCESSING_LEVEL_ID = 4
PRODUCT_CREATION_TIME = 2023-02-02T05:41:08.000Z
PRODUCT_ID = "H5409_0009_S24.TIF"
RELEASE_ID = 0002
REVISION_ID = 0000
/* QUALITY DATA ELEMENTS */
DATA_QUALITY_ID = 1
DATA_QUALITY_DESC = "Data calculated based on original SPICE kernels"
/* TIME DATA ELEMENTS */
SPACECRAFT_CLOCK_START_COUNT = "1/0153976113.07280"
SPACECRAFT_CLOCK_STOP_COUNT = "1/0153976387.38837"
START_TIME = 2008-03-19T03:09:44.882Z
STOP_TIME = 2008-03-19T03:13:09.371Z
/* ORBITAL DATA ELEMENTS */
ASCENDING_NODE_LONGITUDE = 115.7
MAXIMUM_RESOLUTION = 0.0299
FOOTPRINT_POINT_LATITUDE = (63.3746,63.3361,63.3049,63.2617, 63.2604,63.3781,62.9772,62.7104,62.4432 ,62.1756,61.7748,61.5075,61.1071, 60.7065,60.3061,60.0389,59.7719,59.5048 ,59.238,58.9713,58.5712,58.1714,57.9049 ,57.6385,57.3722,57.106,56.8393,56.5742 ,56.3084,55.9102,55.5121,55.2467, 54.9816,54.7166,54.4517,54.0546,53.7903 ,53.3938,53.13,52.8663,52.6027,52.3395, 51.9447,51.2878,50.7632,50.2397,50.109, 50.1014,50.124,50.1373,50.1556,50.1561, 50.1566,50.8133,51.3393,51.6027,51.8663 ,52.2622,52.5265,52.7909,53.0554, 53.3203,53.5855,53.8508,54.1162,54.3817 ,54.6474,55.0466,55.3127,55.579,55.8471 ,56.2462,56.5129,56.7799,57.0472, 57.3148,57.5823,57.85,58.2519,58.5197, 58.7877,59.0559,59.3243,59.5921,59.8611 ,60.1296,60.3982,60.6668,60.9348, 61.2046,61.4734,61.7426,62.0115,62.2805 ,62.55,62.8192,63.0883,63.3575,63.4924, 63.3746)
FOOTPRINT_POINT_LONGITUDE = (207.109,206.083,205.348,204.43,204.404 ,204.283,204.395,204.468,204.539, 204.608,204.709,204.774,204.869,204.961 ,205.049,205.106,205.162,205.217,205.27 ,205.322,205.398,205.472,205.519, 205.566,205.611,205.655,205.699,205.741 ,205.782,205.842,205.9,205.938,205.975, 206.011,206.046,206.098,206.131,206.18, 206.211,206.241,206.271,206.301,206.343 ,206.411,206.463,206.512,206.524, 206.524,207.241,207.713,208.449,208.468 ,208.475,208.435,208.401,208.384, 208.366,208.34,208.321,208.303,208.284, 208.265,208.245,208.225,208.205,208.184 ,208.163,208.131,208.109,208.086, 208.064,208.028,208.004,207.979,207.954 ,207.929,207.903,207.877,207.836, 207.808,207.78,207.751,207.721,207.69, 207.66,207.628,207.596,207.563,207.529, 207.495,207.46,207.425,207.388,207.351, 207.312,207.273,207.233,207.192,207.172 ,207.109)
ORBIT_NUMBER = 5409
ORBITAL_ECCENTRICITY = 0.57
ORBITAL_INCLINATION = 86.76
ORBITAL_SEMIMAJOR_AXIS = 8664.93
PERIAPSIS_ALTITUDE = 346.51
PERIAPSIS_ARGUMENT_ANGLE = 126.72
PERIAPSIS_TIME = 2008-03-19T03:11:50.000Z
SPACECRAFT_ORIENTATION = (0.0,-1.0,0.0)
^MEX_ORIENTATION_DESC = "MEX_ORIENTATION_DESC.TXT"
SPACECRAFT_POINTING_MODE = NADIR
^MEX_POINTING_DESC = "MEX_POINTING_DESC.TXT"
RIGHT_ASCENSION = -1e+32
DECLINATION = -1e+32
OFFSET_ANGLE = -1e+32
SPACECRAFT_SOLAR_DISTANCE = 2.47e+08
TARGET_NAME = MARS
/* CAMERA DATA ELEMENTS */
DETECTOR_TEMPERATURE = 18.9822
FOCAL_PLANE_TEMPERATURE = 8.9911
INST_CMPRS_NAME = "DISCRETE COSINE TRANSFORMATION (DCT)"
INST_CMPRS_RATIO = 12.9293
INST_CMPRS_QUALITY = 0
INST_CMPRS_QUANTZ_TBL_ID = 0
INSTRUMENT_TEMPERATURE = 11.8457
LENS_TEMPERATURE = 10.2145
MACROPIXEL_SIZE = 2
MISSING_FRAMES = 0
PIXEL_SUBSAMPLING_FLAG = N
SIGNAL_CHAIN_ID = 1
/* RADIOMETRIC DATA ELEMENTS */
BANDWIDTH = 178.0
CENTER_FILTER_WAVELENGTH = 679.0
RADIANCE_OFFSET = 3.78054
RADIANCE_SCALING_FACTOR = 0.0204864
REFLECTANCE_SCALING_FACTOR = 0.000661894
MEX:REFLECTANCE_OFFSET = 0.122146
/* IMAGE OBJECT DEFINITIONS */
OBJECT = IMAGE
  INTERCHANGE_FORMAT = BINARY
  LINES = 31794
  LINE_SAMPLES = 5124
  SAMPLE_TYPE = UNSIGNED_INTEGER
  SAMPLE_BITS = 8
  BANDS = 1
  BAND_STORAGE_TYPE = BAND_SEQUENTIAL
  MAXIMUM = 255
  MEAN = 124.467
  MINIMUM = 1
  STANDARD_DEVIATION = 59.112
END_OBJECT = IMAGE
/* MAP OBJECT DEFINITIONS */
OBJECT = IMAGE_MAP_PROJECTION
  ^DATA_SET_MAP_PROJECTION_CATALOG= "DSMAP.CAT"
  A_AXIS_RADIUS = 3396.0
  B_AXIS_RADIUS = 3396.0
  C_AXIS_RADIUS = 3396.0
  CENTER_LATITUDE = 0.0
  CENTER_LONGITUDE = 207.0
  COORDINATE_SYSTEM_NAME = PLANETOGRAPHIC
  COORDINATE_SYSTEM_TYPE = "BODY-FIXED ROTATING"
  EASTERNMOST_LONGITUDE = 208.475
  FIRST_STANDARD_PARALLEL = "N/A"
  LINE_FIRST_PIXEL = 1
  LINE_LAST_PIXEL = 31794
  LINE_PROJECTION_OFFSET = 150515.25
  MAP_PROJECTION_ROTATION = 0.0
  MAP_PROJECTION_TYPE = SINUSOIDAL
  MAP_RESOLUTION = 2370.85521546667
  MAP_SCALE = 0.025
  MAXIMUM_LATITUDE = 63.4924
  MINIMUM_LATITUDE = 50.1014
  POSITIVE_LONGITUDE_DIRECTION = EAST
  REFERENCE_LATITUDE = "N/A"
  REFERENCE_LONGITUDE = "N/A"
  SAMPLE_FIRST_PIXEL = 1
  SAMPLE_LAST_PIXEL = 5124
  SAMPLE_PROJECTION_OFFSET = 2912.75
  SECOND_STANDARD_PARALLEL = "N/A"
  WESTERNMOST_LONGITUDE = 204.283
END_OBJECT = IMAGE_MAP_PROJECTION
END
