PDS_VERSION_ID = PDS3
/* FILE DATA ELEMENTS */
RECORD_TYPE = UNDEFINED
/* POINTERS TO DATA OBJECTS */
^IMAGE = ("H5408_0000_S24.TIF")
/* IDENTIFICATION DATA ELEMENTS */
DATA_SET_ID = "MEX-M-HRSC-4-REFDR-MAPPROJECT-EXT2-V4.0"
DATA_SET_NAME = "MARS EXPRESS HRSC MAP PROJECTED REFDR EXTENSION2 V4.0"
DETECTOR_ID = MEX_HRSC_S2
EVENT_TYPE = "MARS-REGIONAL-MAPPING-Vo-Te-Pf"
INSTRUMENT_HOST_ID = MEX
INSTRUMENT_HOST_NAME = "MARS EXPRESS"
INSTRUMENT_ID = HRSC
INSTRUMENT_NAME = "HIGH RESOLUTION STEREO CAMERA"
MISSION_NAME = "MARS EXPRESS"
MISSION_PHASE_NAME = ME_Phase_11
PROCESSING_LEVEL_ID = 4
PRODUCT_CREATION_TIME = 2023-02-02T05:41:08.000Z
PRODUCT_ID = "H5408_0000_S24.TIF"
RELEASE_ID = 0002
REVISION_ID = 0000
/* QUALITY DATA ELEMENTS */
DATA_QUALITY_ID = 1
DATA_QUALITY_DESC = "Data calculated based on original SPICE kernels"
/* TIME DATA ELEMENTS */
SPACECRAFT_CLOCK_START_COUNT = "1/0153951529.07311"
SPACECRAFT_CLOCK_STOP_COUNT = "1/0153951794.55765"
START_TIME = 2008-03-18T20:19:58.860Z
STOP_TIME = 2008-03-18T20:23:16.630Z
/* ORBITAL DATA ELEMENTS */
ASCENDING_NODE_LONGITUDE = 115.73
MAXIMUM_RESOLUTION = 0.0299
FOOTPRINT_POINT_LATITUDE = (60.5609,60.5284,60.5022,60.4658, 60.4647,60.5819,60.3237,60.0654,59.8071 ,59.5488,59.1614,58.9031,58.6451,58.387 ,58.1291,57.8712,57.6134,57.2268, 56.8406,56.5831,56.3259,55.94,55.5546, 55.1693,54.7845,54.5278,54.2715,54.0151 ,53.6311,53.3754,52.9921,52.6092, 52.3536,52.0988,51.844,51.5895,51.3352, 51.0812,50.8275,50.5734,50.3195,50.0662 ,49.8128,49.56,49.1811,48.928,48.4233, 47.9201,47.7952,47.7944,47.8136,47.8279 ,47.8449,47.8453,47.8459,48.0989, 48.4746,48.9828,49.4887,49.7421,49.9958 ,50.2496,50.5039,50.7586,51.0127, 51.2672,51.6502,51.9055,52.1613,52.5451 ,52.9296,53.1859,53.4424,53.8287, 54.2142,54.4714,54.7287,54.9862,55.2439 ,55.5018,55.7598,56.018,56.4055,56.6639 ,56.9227,57.311,57.5698,57.8288,58.0879 ,58.3472,58.6067,58.866,59.1255,59.3851 ,59.6449,59.9048,60.1648,60.5549, 60.6848,60.5609)
FOOTPRINT_POINT_LONGITUDE = (307.545,306.626,305.969,305.147, 305.124,305.018,305.075,305.131,305.185 ,305.238,305.316,305.367,305.416, 305.464,305.511,305.557,305.602,305.668 ,305.732,305.773,305.813,305.872, 305.929,305.984,306.037,306.072,306.105 ,306.139,306.187,306.218,306.264, 306.308,306.337,306.364,306.392,306.419 ,306.445,306.47,306.495,306.52,306.544, 306.567,306.59,306.612,306.645,306.666, 306.707,306.746,306.755,306.755,307.376 ,307.887,308.62,308.638,308.645,308.632 ,308.61,308.584,308.555,308.54,308.525, 308.51,308.495,308.479,308.463,308.447, 308.422,308.405,308.388,308.361,308.334 ,308.316,308.297,308.269,308.239, 308.219,308.199,308.178,308.156,308.135 ,308.113,308.09,308.056,308.032,308.008 ,307.972,307.946,307.921,307.895, 307.868,307.841,307.813,307.785,307.756 ,307.727,307.697,307.666,307.619, 307.603,307.545)
ORBIT_NUMBER = 5408
ORBITAL_ECCENTRICITY = 0.57
ORBITAL_INCLINATION = 86.75
ORBITAL_SEMIMAJOR_AXIS = 8665.61
PERIAPSIS_ALTITUDE = 346.86
PERIAPSIS_ARGUMENT_ANGLE = 126.92
PERIAPSIS_TIME = 2008-03-18T20:21:24.000Z
SPACECRAFT_ORIENTATION = (0.0,-1.0,0.0)
^MEX_ORIENTATION_DESC = "MEX_ORIENTATION_DESC.TXT"
SPACECRAFT_POINTING_MODE = NADIR
^MEX_POINTING_DESC = "MEX_POINTING_DESC.TXT"
RIGHT_ASCENSION = -1e+32
DECLINATION = -1e+32
OFFSET_ANGLE = -1e+32
SPACECRAFT_SOLAR_DISTANCE = 2.46978e+08
TARGET_NAME = MARS
/* CAMERA DATA ELEMENTS */
DETECTOR_TEMPERATURE = 18.5744
FOCAL_PLANE_TEMPERATURE = 8.1755
INST_CMPRS_NAME = "DISCRETE COSINE TRANSFORMATION (DCT)"
INST_CMPRS_RATIO = 15.004
INST_CMPRS_QUALITY = 0
INST_CMPRS_QUANTZ_TBL_ID = 0
INSTRUMENT_TEMPERATURE = 11.234
LENS_TEMPERATURE = 8.7872
MACROPIXEL_SIZE = 2
MISSING_FRAMES = 0
PIXEL_SUBSAMPLING_FLAG = N
SIGNAL_CHAIN_ID = 1
/* RADIOMETRIC DATA ELEMENTS */
BANDWIDTH = 178.0
CENTER_FILTER_WAVELENGTH = 679.0
RADIANCE_OFFSET = 2.81823
RADIANCE_SCALING_FACTOR = 0.0204864
REFLECTANCE_SCALING_FACTOR = 0.000661772
MEX:REFLECTANCE_OFFSET = 0.0910372
/* IMAGE OBJECT DEFINITIONS */
OBJECT = IMAGE
  INTERCHANGE_FORMAT = BINARY
  LINES = 30598
  LINE_SAMPLES = 4905
  SAMPLE_TYPE = UNSIGNED_INTEGER
  SAMPLE_BITS = 8
  BANDS = 1
  BAND_STORAGE_TYPE = BAND_SEQUENTIAL
  MAXIMUM = 255
  MEAN = 82.5112
  MINIMUM = 1
  STANDARD_DEVIATION = 68.1643
END_OBJECT = IMAGE
/* MAP OBJECT DEFINITIONS */
OBJECT = IMAGE_MAP_PROJECTION
  ^DATA_SET_MAP_PROJECTION_CATALOG= "DSMAP.CAT"
  A_AXIS_RADIUS = 3396.0
  B_AXIS_RADIUS = 3396.0
  C_AXIS_RADIUS = 3396.0
  CENTER_LATITUDE = 0.0
  CENTER_LONGITUDE = 307.0
  COORDINATE_SYSTEM_NAME = PLANETOGRAPHIC
  COORDINATE_SYSTEM_TYPE = "BODY-FIXED ROTATING"
  EASTERNMOST_LONGITUDE = 308.645
  FIRST_STANDARD_PARALLEL = "N/A"
  LINE_FIRST_PIXEL = 1
  LINE_LAST_PIXEL = 30598
  LINE_PROJECTION_OFFSET = 143853.25
  MAP_PROJECTION_ROTATION = 0.0
  MAP_PROJECTION_TYPE = SINUSOIDAL
  MAP_RESOLUTION = 2370.85521546667
  MAP_SCALE = 0.025
  MAXIMUM_LATITUDE = 60.6848
  MINIMUM_LATITUDE = 47.7944
  POSITIVE_LONGITUDE_DIRECTION = EAST
  REFERENCE_LATITUDE = "N/A"
  REFERENCE_LONGITUDE = "N/A"
  SAMPLE_FIRST_PIXEL = 1
  SAMPLE_LAST_PIXEL = 4905
  SAMPLE_PROJECTION_OFFSET = 2321.75
  SECOND_STANDARD_PARALLEL = "N/A"
  WESTERNMOST_LONGITUDE = 305.018
END_OBJECT = IMAGE_MAP_PROJECTION
END
