PDS_VERSION_ID = PDS3
/* FILE DATA ELEMENTS */
RECORD_TYPE = UNDEFINED
/* POINTERS TO DATA OBJECTS */
^IMAGE = ("H5408_0000_GR4.TIF")
/* IDENTIFICATION DATA ELEMENTS */
DATA_SET_ID = "MEX-M-HRSC-4-REFDR-MAPPROJECT-EXT2-V4.0"
DATA_SET_NAME = "MARS EXPRESS HRSC MAP PROJECTED REFDR EXTENSION2 V4.0"
DETECTOR_ID = MEX_HRSC_GREEN
EVENT_TYPE = "MARS-REGIONAL-MAPPING-Vo-Te-Pf"
INSTRUMENT_HOST_ID = MEX
INSTRUMENT_HOST_NAME = "MARS EXPRESS"
INSTRUMENT_ID = HRSC
INSTRUMENT_NAME = "HIGH RESOLUTION STEREO CAMERA"
MISSION_NAME = "MARS EXPRESS"
MISSION_PHASE_NAME = ME_Phase_11
PROCESSING_LEVEL_ID = 4
PRODUCT_CREATION_TIME = 2023-02-02T05:41:08.000Z
PRODUCT_ID = "H5408_0000_GR4.TIF"
RELEASE_ID = 0002
REVISION_ID = 0000
/* QUALITY DATA ELEMENTS */
DATA_QUALITY_ID = 1
DATA_QUALITY_DESC = "Data calculated based on original SPICE kernels"
/* TIME DATA ELEMENTS */
SPACECRAFT_CLOCK_START_COUNT = "1/0153951529.07311"
SPACECRAFT_CLOCK_STOP_COUNT = "1/0153951794.55765"
START_TIME = 2008-03-18T20:19:21.079Z
STOP_TIME = 2008-03-18T20:22:39.265Z
/* ORBITAL DATA ELEMENTS */
ASCENDING_NODE_LONGITUDE = 115.73
MAXIMUM_RESOLUTION = 0.056
FOOTPRINT_POINT_LATITUDE = (60.6738,60.6455,60.601,60.5732,60.572, 60.5492,60.0455,59.5411,59.0361,58.7833 ,58.5304,58.2774,58.0242,57.7708, 57.5173,57.2637,57.01,56.7561,56.5021, 56.248,55.9938,55.7395,55.4851,55.2306, 54.976,54.7213,54.4665,54.2117,53.9568, 53.5743,53.1848,52.9296,52.6743,52.4191 ,52.1638,51.9084,51.653,51.3975,51.0143 ,50.5033,50.12,49.7368,49.4812,49.2256, 48.9702,48.7147,48.3247,47.9416,47.8137 ,47.7571,47.7837,47.808,47.8083,47.8093 ,48.1932,48.4501,48.7063,49.0972, 49.3535,49.61,49.8663,50.1227,50.3791, 50.7636,51.02,51.4047,51.661,51.9173, 52.3018,52.558,52.9423,53.1985,53.5896, 53.9736,54.2296,54.6135,54.8693,55.1251 ,55.3809,55.6365,55.8921,56.1476,56.403 ,56.6584,56.9136,57.1687,57.4237, 57.6787,57.9335,58.1882,58.4428,58.6973 ,58.9517,59.2059,59.4601,59.714,59.9678 ,60.4751,60.6018,60.6738)
FOOTPRINT_POINT_LONGITUDE = (307.539,306.737,305.685,305.114, 305.091,305.018,305.129,305.236,305.339 ,305.389,305.437,305.485,305.532, 305.577,305.622,305.666,305.709,305.751 ,305.792,305.832,305.872,305.911, 305.949,305.986,306.022,306.058,306.092 ,306.127,306.16,306.209,306.257,306.288 ,306.318,306.347,306.376,306.404, 306.432,306.459,306.498,306.549,306.586 ,306.621,306.644,306.667,306.689,306.71 ,306.743,306.773,306.783,306.787, 307.605,308.596,308.613,308.619,308.601 ,308.585,308.572,308.553,308.539, 308.525,308.51,308.496,308.481,308.458, 308.443,308.419,308.403,308.386,308.361 ,308.345,308.318,308.301,308.273, 308.245,308.227,308.197,308.177,308.157 ,308.137,308.116,308.094,308.073, 308.051,308.028,308.005,307.982,307.958 ,307.934,307.909,307.884,307.859, 307.833,307.806,307.779,307.752,307.724 ,307.696,307.637,307.622,307.539)
ORBIT_NUMBER = 5408
ORBITAL_ECCENTRICITY = 0.57
ORBITAL_INCLINATION = 86.75
ORBITAL_SEMIMAJOR_AXIS = 8665.61
PERIAPSIS_ALTITUDE = 346.86
PERIAPSIS_ARGUMENT_ANGLE = 126.92
PERIAPSIS_TIME = 2008-03-18T20:21:24.000Z
SPACECRAFT_ORIENTATION = (0.0,-1.0,0.0)
^MEX_ORIENTATION_DESC = "MEX_ORIENTATION_DESC.TXT"
SPACECRAFT_POINTING_MODE = NADIR
^MEX_POINTING_DESC = "MEX_POINTING_DESC.TXT"
RIGHT_ASCENSION = -1e+32
DECLINATION = -1e+32
OFFSET_ANGLE = -1e+32
SPACECRAFT_SOLAR_DISTANCE = 2.46978e+08
TARGET_NAME = MARS
/* CAMERA DATA ELEMENTS */
DETECTOR_TEMPERATURE = 18.1666
FOCAL_PLANE_TEMPERATURE = 8.1755
INST_CMPRS_NAME = "DISCRETE COSINE TRANSFORMATION (DCT)"
INST_CMPRS_RATIO = 19.334
INST_CMPRS_QUALITY = 0
INST_CMPRS_QUANTZ_TBL_ID = 0
INSTRUMENT_TEMPERATURE = 11.234
LENS_TEMPERATURE = 8.7872
MACROPIXEL_SIZE = 4
PIXEL_SUBSAMPLING_FLAG = N
SIGNAL_CHAIN_ID = 2
/* RADIOMETRIC DATA ELEMENTS */
BANDWIDTH = 88.0
CENTER_FILTER_WAVELENGTH = 538.0
RADIANCE_OFFSET = 1.12375
RADIANCE_SCALING_FACTOR = 0.00408041
REFLECTANCE_SCALING_FACTOR = 0.000214292
MEX:REFLECTANCE_OFFSET = 0.0590161
/* IMAGE OBJECT DEFINITIONS */
OBJECT = IMAGE
  INTERCHANGE_FORMAT = BINARY
  LINES = 15299
  LINE_SAMPLES = 2453
  SAMPLE_TYPE = UNSIGNED_INTEGER
  SAMPLE_BITS = 8
  BANDS = 1
  BAND_STORAGE_TYPE = BAND_SEQUENTIAL
  MAXIMUM = 255
  MEAN = 87.5227
  MINIMUM = 1
  STANDARD_DEVIATION = 65.8935
END_OBJECT = IMAGE
/* MAP OBJECT DEFINITIONS */
OBJECT = IMAGE_MAP_PROJECTION
  ^DATA_SET_MAP_PROJECTION_CATALOG= "DSMAP.CAT"
  A_AXIS_RADIUS = 3396.0
  B_AXIS_RADIUS = 3396.0
  C_AXIS_RADIUS = 3396.0
  CENTER_LATITUDE = 0.0
  CENTER_LONGITUDE = 307.0
  COORDINATE_SYSTEM_NAME = PLANETOGRAPHIC
  COORDINATE_SYSTEM_TYPE = "BODY-FIXED ROTATING"
  EASTERNMOST_LONGITUDE = 308.619
  FIRST_STANDARD_PARALLEL = "N/A"
  LINE_FIRST_PIXEL = 1
  LINE_LAST_PIXEL = 15299
  LINE_PROJECTION_OFFSET = 71926.375
  MAP_PROJECTION_ROTATION = 0.0
  MAP_PROJECTION_TYPE = SINUSOIDAL
  MAP_RESOLUTION = 1185.42760773333
  MAP_SCALE = 0.05
  MAXIMUM_LATITUDE = 60.6738
  MINIMUM_LATITUDE = 47.7571
  POSITIVE_LONGITUDE_DIRECTION = EAST
  REFERENCE_LATITUDE = "N/A"
  REFERENCE_LONGITUDE = "N/A"
  SAMPLE_FIRST_PIXEL = 1
  SAMPLE_LAST_PIXEL = 2453
  SAMPLE_PROJECTION_OFFSET = 1160.625
  SECOND_STANDARD_PARALLEL = "N/A"
  WESTERNMOST_LONGITUDE = 305.018
END_OBJECT = IMAGE_MAP_PROJECTION
END
