PDS_VERSION_ID = PDS3
/* FILE DATA ELEMENTS */
RECORD_TYPE = UNDEFINED
/* POINTERS TO DATA OBJECTS */
^IMAGE = ("H5406_0001_P24.TIF")
/* IDENTIFICATION DATA ELEMENTS */
DATA_SET_ID = "MEX-M-HRSC-4-REFDR-MAPPROJECT-EXT2-V4.0"
DATA_SET_NAME = "MARS EXPRESS HRSC MAP PROJECTED REFDR EXTENSION2 V4.0"
DETECTOR_ID = MEX_HRSC_P2
EVENT_TYPE = "MARS-LOCAL-STEREO-Vo-Gl-Pf"
INSTRUMENT_HOST_ID = MEX
INSTRUMENT_HOST_NAME = "MARS EXPRESS"
INSTRUMENT_ID = HRSC
INSTRUMENT_NAME = "HIGH RESOLUTION STEREO CAMERA"
MISSION_NAME = "MARS EXPRESS"
MISSION_PHASE_NAME = ME_Phase_11
PROCESSING_LEVEL_ID = 4
PRODUCT_CREATION_TIME = 2023-02-02T05:41:08.000Z
PRODUCT_ID = "H5406_0001_P24.TIF"
RELEASE_ID = 0002
REVISION_ID = 0000
/* QUALITY DATA ELEMENTS */
DATA_QUALITY_ID = 1
DATA_QUALITY_DESC = "Data calculated based on original SPICE kernels"
/* TIME DATA ELEMENTS */
SPACECRAFT_CLOCK_START_COUNT = "1/0153902640.08251"
SPACECRAFT_CLOCK_STOP_COUNT = "1/0153902821.24630"
START_TIME = 2008-03-18T06:45:04.397Z
STOP_TIME = 2008-03-18T06:46:46.552Z
/* ORBITAL DATA ELEMENTS */
ASCENDING_NODE_LONGITUDE = 115.76
MAXIMUM_RESOLUTION = 0.0341
FOOTPRINT_POINT_LATITUDE = (36.1608,36.1594,36.1579,36.1558, 36.1533,36.1505,36.1454,36.1452,36.19, 35.9012,35.5502,35.2581,35.025,34.7927, 34.6739,34.5546,34.4353,34.2563,34.137, 33.9584,33.8394,33.6019,33.4803,33.3581 ,33.2364,33.1143,32.9928,32.8107, 32.6889,32.5678,32.445,32.2584,32.0728, 31.9489,31.8253,31.6402,31.5167,31.3284 ,31.2026,31.0766,30.9511,30.7628, 30.6368,30.4471,30.3183,30.1904,30.1261 ,30.0821,30.0839,30.0847,30.0856,30.086 ,30.0872,30.0882,30.0891,30.0893, 30.0888,30.0888,30.0893,30.2174,30.3461 ,30.4743,30.6006,30.7258,30.8491, 31.0338,31.1576,31.3434,31.4686,31.5904 ,31.7141,31.8372,31.963,32.1527,32.2806 ,32.4062,32.5317,32.6522,32.7741, 32.8985,33.0833,33.2059,33.3277,33.4494 ,33.6321,33.751,33.9294,34.0485,34.227, 34.4061,34.5853,34.8234,35.0567,35.2905 ,35.5246,35.7004,35.9351,36.1094, 36.1667,36.1608)
FOOTPRINT_POINT_LONGITUDE = (148.905,148.618,148.399,148.128, 147.856,147.584,147.174,147.157,147.117 ,147.123,147.13,147.136,147.14,147.143, 147.145,147.147,147.149,147.152,147.154 ,147.156,147.158,147.161,147.163, 147.165,147.167,147.169,147.17,147.172, 147.174,147.175,147.177,147.179,147.181 ,147.182,147.183,147.185,147.186, 147.187,147.188,147.189,147.189,147.19, 147.191,147.192,147.193,147.193,147.194 ,147.194,147.506,147.69,147.873,148.02, 148.203,148.496,148.752,148.917,149.063 ,149.081,149.088,149.085,149.082, 149.079,149.076,149.073,149.069,149.062 ,149.059,149.053,149.049,149.045, 149.042,149.039,149.037,149.033,149.032 ,149.029,149.027,149.023,149.02,149.018 ,149.014,149.011,149.008,149.005,149.0, 148.996,148.991,148.988,148.983,148.977 ,148.972,148.965,148.958,148.951, 148.944,148.939,148.931,148.926,148.924 ,148.905)
ORBIT_NUMBER = 5406
ORBITAL_ECCENTRICITY = 0.57
ORBITAL_INCLINATION = 86.74
ORBITAL_SEMIMAJOR_AXIS = 8668.24
PERIAPSIS_ALTITUDE = 347.16
PERIAPSIS_ARGUMENT_ANGLE = 127.26
PERIAPSIS_TIME = 2008-03-18T06:40:23.000Z
SPACECRAFT_ORIENTATION = (0.0,-1.0,0.0)
^MEX_ORIENTATION_DESC = "MEX_ORIENTATION_DESC.TXT"
SPACECRAFT_POINTING_MODE = ACROSSTRACK
^MEX_POINTING_DESC = "MEX_POINTING_DESC.TXT"
RIGHT_ASCENSION = -1e+32
DECLINATION = -1e+32
OFFSET_ANGLE = -0.2
SPACECRAFT_SOLAR_DISTANCE = 2.46932e+08
TARGET_NAME = MARS
/* CAMERA DATA ELEMENTS */
DETECTOR_TEMPERATURE = 20.0017
FOCAL_PLANE_TEMPERATURE = 8.3794
INST_CMPRS_NAME = "DISCRETE COSINE TRANSFORMATION (DCT)"
INST_CMPRS_RATIO = 6.70109
INST_CMPRS_QUALITY = 0
INST_CMPRS_QUANTZ_TBL_ID = 0
INSTRUMENT_TEMPERATURE = 12.4574
LENS_TEMPERATURE = 8.7872
MACROPIXEL_SIZE = 2
MISSING_FRAMES = 0
PIXEL_SUBSAMPLING_FLAG = N
SIGNAL_CHAIN_ID = 3
/* RADIOMETRIC DATA ELEMENTS */
BANDWIDTH = 177.0
CENTER_FILTER_WAVELENGTH = 676.5
RADIANCE_OFFSET = 6.34899
RADIANCE_SCALING_FACTOR = 0.0196443
REFLECTANCE_SCALING_FACTOR = 0.000635108
MEX:REFLECTANCE_OFFSET = 0.205266
/* IMAGE OBJECT DEFINITIONS */
OBJECT = IMAGE
  INTERCHANGE_FORMAT = BINARY
  LINES = 14520
  LINE_SAMPLES = 3780
  SAMPLE_TYPE = UNSIGNED_INTEGER
  SAMPLE_BITS = 8
  BANDS = 1
  BAND_STORAGE_TYPE = BAND_SEQUENTIAL
  MAXIMUM = 255
  MEAN = 144.236
  MINIMUM = 1
  STANDARD_DEVIATION = 27.8269
END_OBJECT = IMAGE
/* MAP OBJECT DEFINITIONS */
OBJECT = IMAGE_MAP_PROJECTION
  ^DATA_SET_MAP_PROJECTION_CATALOG= "DSMAP.CAT"
  A_AXIS_RADIUS = 3396.0
  B_AXIS_RADIUS = 3396.0
  C_AXIS_RADIUS = 3396.0
  CENTER_LATITUDE = 0.0
  CENTER_LONGITUDE = 148.0
  COORDINATE_SYSTEM_NAME = PLANETOGRAPHIC
  COORDINATE_SYSTEM_TYPE = "BODY-FIXED ROTATING"
  EASTERNMOST_LONGITUDE = 149.088
  FIRST_STANDARD_PARALLEL = "N/A"
  LINE_FIRST_PIXEL = 1
  LINE_LAST_PIXEL = 14520
  LINE_PROJECTION_OFFSET = 85832.25
  MAP_PROJECTION_ROTATION = 0.0
  MAP_PROJECTION_TYPE = SINUSOIDAL
  MAP_RESOLUTION = 2370.85521546667
  MAP_SCALE = 0.025
  MAXIMUM_LATITUDE = 36.19
  MINIMUM_LATITUDE = 30.0821
  POSITIVE_LONGITUDE_DIRECTION = EAST
  REFERENCE_LATITUDE = "N/A"
  REFERENCE_LONGITUDE = "N/A"
  SAMPLE_FIRST_PIXEL = 1
  SAMPLE_LAST_PIXEL = 3780
  SAMPLE_PROJECTION_OFFSET = 1631.25
  SECOND_STANDARD_PARALLEL = "N/A"
  WESTERNMOST_LONGITUDE = 147.117
END_OBJECT = IMAGE_MAP_PROJECTION
END
